From mboxrd@z Thu Jan 1 00:00:00 1970 Return-Path: Received: from mails.dpdk.org (mails.dpdk.org [217.70.189.124]) by inbox.dpdk.org (Postfix) with ESMTP id A210946AED for ; Sat, 5 Jul 2025 14:59:06 +0200 (CEST) Received: from mails.dpdk.org (localhost [127.0.0.1]) by mails.dpdk.org (Postfix) with ESMTP id 9D0EF40279; Sat, 5 Jul 2025 14:59:06 +0200 (CEST) Received: from mail-pf1-f227.google.com (mail-pf1-f227.google.com [209.85.210.227]) by mails.dpdk.org (Postfix) with ESMTP id 5CD0140279 for ; Sat, 5 Jul 2025 14:59:05 +0200 (CEST) Received: by mail-pf1-f227.google.com with SMTP id d2e1a72fcca58-74b52bf417cso1087894b3a.0 for ; Sat, 05 Jul 2025 05:59:05 -0700 (PDT) DKIM-Signature: v=1; a=rsa-sha256; c=relaxed/relaxed; d=iol.unh.edu; s=unh-iol; t=1751720344; x=1752325144; darn=dpdk.org; h=references:in-reply-to:cc:to:from:subject:message-id:date:from:to :cc:subject:date:message-id:reply-to; bh=ECFk03r7CHlNGsV6gXkqW6Jy+Oye2XEbQ4tIpnugyIw=; b=ebwPDBmvXsli/cVKSBeLbRcYLuyu9NHmC4DyJtXaIULvOeMAje0ah9Dn7j03TkvzKM qd3rIfg2f09qXktrFr/Di9kS9Hk0REqp3b7R+L4q3HZA/QgorpcWY0eZoXVang7q4nQ5 8HS6Sh/NyZILRDfjaIJDRtzLE2TdNYBMOMwbg= X-Google-DKIM-Signature: v=1; a=rsa-sha256; c=relaxed/relaxed; d=1e100.net; s=20230601; t=1751720344; x=1752325144; h=references:in-reply-to:cc:to:from:subject:message-id:date :x-gm-message-state:from:to:cc:subject:date:message-id:reply-to; bh=ECFk03r7CHlNGsV6gXkqW6Jy+Oye2XEbQ4tIpnugyIw=; b=eHLzMC8MH3ZPpAgIDvW1ocL7I2Kf1MPmLFpWTXlO30R9ry4nSzuTq4VNDZKlAaIzP6 yYtsFxD0AfyjGChQWfGWkzyiXjcLeKjS8D0Jlw3O2JUPxCDfHrK9r5RG6+capSBidb7m yzNNKRAR7LGh6x42dJzRVNh9JPBt3PannMbHPh4TdE5D4XQxRP6LPKyWy5NhZa2L4qg5 HuFrZgOtQSlJxWxKRtoSPTPk8wNwhtTFubpkaaBXdQbUsQibrrwrZstLb/PoKbM2wl/K iTEOLhyWdOi8fFZXLzxoihYIB8jSib4a1vhCQpeCbj/S7oiYJr1VcgNDXWzlOo5xmF5e B8gA== X-Gm-Message-State: AOJu0YwOx+khxlp7bUEFe664Nvuw329U0K9mqlhSefNzunbYetAdzO/i nlHKRuzOK9HVRpnk5T8RUY9cC0ph+rv5UIJCQmCWxzqS3NN1V4YGz9s+XMw4iM6j03b4kcYpH2u EqhFko9wHqxfOGgvhAErs0qBYgEqeT7K9IU563rZz2hVCiLn86C+kmS8WjOcZ X-Gm-Gg: ASbGnctfSbstMb5k2dL6K8mI2l/hhy2nW7Qv7A2168HD4U9zzIXbg+UGVnSNLPCwtfB NQTIPoo9AUv3BuEC3rdclOmCKp0Cz6bMIJYHbZbAoX68cjkOXldir3zS3HGROrssJhrLYNXejaM GkimNMxDe+nCl5vVHgFYDiYe0qNVxfEHWOtiVTi3m027+sUlF4Tfs26O7xJ1R8OatMI8isOMC2B 9/GNJ/HQGUmJ76Zo9nxf5BSCBXJzLh490L8FFdpRv1ws1e64CI8V0rr0Bf4+f3Tyjc28PqKY1bx yJk4+AbDgAWUvAGsbGsUixAavSeTDvfImA5uzxIMZVj6qg8= X-Google-Smtp-Source: AGHT+IG2GWzRPNVwkrmuZKXvXvKZ/16R/N2i/gaMXxkHzH25SLXTaZ36XKyGroTIhFhpDbae8YPLDFGPxVzD X-Received: by 2002:a05:6a00:1910:b0:736:4d05:2e2e with SMTP id d2e1a72fcca58-74ce6417d49mr8280295b3a.6.1751720344495; Sat, 05 Jul 2025 05:59:04 -0700 (PDT) Received: from postal.iol.unh.edu (postal.iol.unh.edu. [2606:4100:3880:1234::84]) by smtp-relay.gmail.com with ESMTPS id d2e1a72fcca58-74ce32ea9ebsm221067b3a.3.2025.07.05.05.59.04 (version=TLS1_2 cipher=ECDHE-ECDSA-AES128-GCM-SHA256 bits=128/128); Sat, 05 Jul 2025 05:59:04 -0700 (PDT) X-Relaying-Domain: iol.unh.edu Date: Sat, 05 Jul 2025 05:59:04 -0700 (PDT) Message-ID: <68692198.050a0220.207bdd.b386SMTPIN_ADDED_MISSING@mx.google.com> Received: from [172.21.0.7] (unknown [172.18.0.240]) by postal.iol.unh.edu (Postfix) with ESMTP id F087F6051830; Sat, 5 Jul 2025 08:59:03 -0400 (EDT) Subject: |WARNING| pw155012-155013 [PATCH] [v2,2/2] dts: add generic blocking From: dpdklab@iol.unh.edu To: Test Report Cc: dpdk-test-reports@iol.unh.edu In-Reply-To: <20250704152908.683265-3-luca.vizzarro@arm.com> References: <20250704152908.683265-3-luca.vizzarro@arm.com> Content-Type: text/plain X-BeenThere: test-report@dpdk.org X-Mailman-Version: 2.1.29 Precedence: list List-Id: automatic DPDK test reports List-Unsubscribe: , List-Archive: List-Post: List-Help: List-Subscribe: , Errors-To: test-report-bounces@dpdk.org Test-Label: iol-compile-amd64-testing Test-Status: WARNING http://dpdk.org/patch/155013 _Testing issues_ Submitter: Luca Vizzarro Date: Friday, July 04 2025 15:29:08 DPDK git baseline: Repo:dpdk Branch: master CommitID:31ba785774d258d4c57b68dabdf544e575f3af83 155012-155013 --> testing issues Upstream job id: Generic-DPDK-Compile-Meson#405652 Test environment and result as below: +-------------------------------+-------------------+--------------------+-------------------------+----------------------+-------------------+------------------+ | Environment | dpdk_msvc_compile | dpdk_meson_compile | dpdk_llvm_clang_compile | dpdk_mingw64_compile | dpdk_compile_spdk | dpdk_compile_ovs | +===============================+===================+====================+=========================+======================+===================+==================+ | Windows Server 2022 | PASS | SKIPPED | PASS | PASS | SKIPPED | SKIPPED | +-------------------------------+-------------------+--------------------+-------------------------+----------------------+-------------------+------------------+ | Ubuntu 20.04 | SKIPPED | PASS | SKIPPED | SKIPPED | SKIPPED | SKIPPED | +-------------------------------+-------------------+--------------------+-------------------------+----------------------+-------------------+------------------+ | CentOS Stream 9 | SKIPPED | PASS | SKIPPED | SKIPPED | PASS | SKIPPED | +-------------------------------+-------------------+--------------------+-------------------------+----------------------+-------------------+------------------+ | CentOS Stream 10 | SKIPPED | PASS | SKIPPED | SKIPPED | SKIPPED | SKIPPED | +-------------------------------+-------------------+--------------------+-------------------------+----------------------+-------------------+------------------+ | Debian GNU/Linux 12 | SKIPPED | PASS | SKIPPED | SKIPPED | PASS | SKIPPED | +-------------------------------+-------------------+--------------------+-------------------------+----------------------+-------------------+------------------+ | Fedora Linux 40 | SKIPPED | PASS | SKIPPED | SKIPPED | PASS | SKIPPED | +-------------------------------+-------------------+--------------------+-------------------------+----------------------+-------------------+------------------+ | Fedora Linux 41 | SKIPPED | PASS | SKIPPED | SKIPPED | PASS | PASS | +-------------------------------+-------------------+--------------------+-------------------------+----------------------+-------------------+------------------+ | openSUSE Leap 15.6 | SKIPPED | PASS | SKIPPED | SKIPPED | SKIPPED | SKIPPED | +-------------------------------+-------------------+--------------------+-------------------------+----------------------+-------------------+------------------+ | Red Hat Enterprise Linux 8.10 | SKIPPED | PASS | SKIPPED | SKIPPED | SKIPPED | SKIPPED | +-------------------------------+-------------------+--------------------+-------------------------+----------------------+-------------------+------------------+ | Red Hat Enterprise Linux 9.5 | SKIPPED | PASS | SKIPPED | SKIPPED | SKIPPED | SKIPPED | +-------------------------------+-------------------+--------------------+-------------------------+----------------------+-------------------+------------------+ | Ubuntu 22.04 | SKIPPED | PASS | SKIPPED | SKIPPED | PASS | SKIPPED | +-------------------------------+-------------------+--------------------+-------------------------+----------------------+-------------------+------------------+ | Alpine Linux 3.22.0 | SKIPPED | PASS | SKIPPED | SKIPPED | SKIPPED | SKIPPED | +-------------------------------+-------------------+--------------------+-------------------------+----------------------+-------------------+------------------+ | Ubuntu 24.04 | SKIPPED | PASS | SKIPPED | SKIPPED | PASS | PASS | +-------------------------------+-------------------+--------------------+-------------------------+----------------------+-------------------+------------------+ Windows Server 2022 Kernel: 10.0.20348.2031 Compiler: clang 15.0.7, gcc 14.1.0 (MinGW), and MSVC VS 19.39.33521 Ubuntu 20.04 Kernel: 4.19 Compiler: gcc gcc (Ubuntu 9.4.0-1ubuntu1~20.04.2) 9.4.0 CentOS Stream 9 Kernel: 5.15 Compiler: gcc gcc (GCC) 11.5.0 20240719 (Red Hat 11.5.0-7) CentOS Stream 10 Kernel: 5.15 Compiler: gcc gcc (GCC) 14.2.1 20250110 (Red Hat 14.2.1-8) Debian GNU/Linux 12 Kernel: 5.15 Compiler: gcc gcc (Debian 12.2.0-14+deb12u1) 12.2.0 Fedora Linux 40 Kernel: 5.15 Compiler: clang gcc (GCC) 14.2.1 20240912 (Red Hat 14.2.1-3) Fedora Linux 41 Kernel: 5.15 Compiler: clang gcc (GCC) 14.3.1 20250523 (Red Hat 14.3.1-1) openSUSE Leap 15.6 Kernel: 5.15 Compiler: gcc gcc (SUSE Linux) 7.5.0 Red Hat Enterprise Linux 8.10 Kernel: 5.15 Compiler: gcc gcc (GCC) 8.5.0 20210514 (Red Hat 8.5.0-22) Red Hat Enterprise Linux 9.5 Kernel: 5.15 Compiler: gcc gcc (GCC) 11.5.0 20240719 (Red Hat 11.5.0-2) Ubuntu 22.04 Kernel: 5.15 Compiler: gcc gcc (Ubuntu 11.4.0-1ubuntu1~22.04) 11.4.0 Alpine Linux 3.22.0 Kernel: 5.15 Compiler: gcc gcc (Alpine 14.2.0) 14.2.0 Ubuntu 24.04 Kernel: 5.15 Compiler: gcc gcc (Ubuntu 13.3.0-6ubuntu2~24.04) 13.3.0 To view detailed results, visit: https://lab.dpdk.org/results/dashboard/patchsets/33595/ UNH-IOL DPDK Community Lab To manage your email subscriptions, visit: https://lab.dpdk.org/results/dashboard/preferences/subscriptions/