From mboxrd@z Thu Jan 1 00:00:00 1970 Return-Path: Received: from mails.dpdk.org (mails.dpdk.org [217.70.189.124]) by inbox.dpdk.org (Postfix) with ESMTP id B336546AED for ; Sat, 5 Jul 2025 14:59:10 +0200 (CEST) Received: from mails.dpdk.org (localhost [127.0.0.1]) by mails.dpdk.org (Postfix) with ESMTP id AEEB140279; Sat, 5 Jul 2025 14:59:10 +0200 (CEST) Received: from mail-oa1-f99.google.com (mail-oa1-f99.google.com [209.85.160.99]) by mails.dpdk.org (Postfix) with ESMTP id 50B9440279 for ; Sat, 5 Jul 2025 14:59:09 +0200 (CEST) Received: by mail-oa1-f99.google.com with SMTP id 586e51a60fabf-2f78ef10832so1202277fac.3 for ; Sat, 05 Jul 2025 05:59:09 -0700 (PDT) DKIM-Signature: v=1; a=rsa-sha256; c=relaxed/relaxed; d=iol.unh.edu; s=unh-iol; t=1751720348; x=1752325148; darn=dpdk.org; h=references:in-reply-to:cc:to:from:subject:message-id:date:from:to :cc:subject:date:message-id:reply-to; bh=9cEggDmHO9YCKtAAhONogyH24W+7dFPm49PA3zh5PZQ=; b=AItTDcnT2N6/x+kvPTOgKFolTLzyc8SNg2LUEtbU0MChXEVgLA+Dspk4qvs/P4Jx6l kCXUzer/zRXzLEyNpxekh+MMznjI+jMdk0dWdd7GYmV69rBtA22DjsUUS/MQbPkWEsUX BfdqnKH8uZrfcEdVEDfNfdB5IzGyo5UExZiUc= X-Google-DKIM-Signature: v=1; a=rsa-sha256; c=relaxed/relaxed; d=1e100.net; s=20230601; t=1751720348; x=1752325148; h=references:in-reply-to:cc:to:from:subject:message-id:date :x-gm-message-state:from:to:cc:subject:date:message-id:reply-to; bh=9cEggDmHO9YCKtAAhONogyH24W+7dFPm49PA3zh5PZQ=; b=Q07tJhsxFCtk4SPVPLNfCkCvY4nkTqfPnzCBlkujh5fPo6lpkXB6UyZ2mxudYu8tOL eUzXbN8a2uwtQTF8uCJa7FuSCgZCQOei5q8qP/CHaIjOxFvDb337IzdZqTZmuDij8g7a SXI15lMaVhUD6h7T/sTFs8OxnCwVowkfS3cXuLQk7mM27+9Oo20YUbB3ZOKRs3Z3jZqo lOVjbReqXDcJRe2tDlVsuV5JWEZdijJlHDCDnsyyrRej+xTdM1lvq1etVpr2LVfz7KwC hpz005EahndYY6v0FIiBjM2ogcWNNcqTdEvWUNMPq8iVQZ+lxGUmIsxOzKEcdUxWdrUk PJfg== X-Gm-Message-State: AOJu0Yy3GSFP00YDsGhWdETZ90OtMDFP7qywF5Cnd5cEWhIFhp8UHqgx jqstjDyaU9ZqZhA0NT44FBfGToRJeEejdx20t2bTj8UXkycPguMMsajcZl+S6Eyh/Qwdfjmp3EO 5EhEoC6JKJaLndR3xDzHcfjK3iw8NuyYFX4BW3Xo4lSttXuu5aIOUGtA7ALo2 X-Gm-Gg: ASbGncttri6tYpFp8ViYMCJqErl4RLLJByDnWkbHT4OI011DNjYBhfq4hRaYq0KaiJC BMJ70lmx+QnEPsu3DpF1/BOKkQFTZdcO1wDNGqpprhv4P3QyAHoOZvF2kpg4mCPQPHhoEE4JNsH QAYR5sDvkU1FfwKuljpxFWObqsQxR0jvMd9SqRTvQQDUeCbIJlWyO4m4Y6Ph713r5R17K52+Y/1 hLtF9aG9HQWRoYlX94ae28opqOSPrzShuGMPCdafNGWMqYEWnXDzVIebTHcGTW8CjVJcLS4/53S IYkJ+taU0tp6pVh6wg1Vm6dyOmB2maKrbsek08Fsir+y5xY= X-Google-Smtp-Source: AGHT+IH2fr276aSrZvQqfaXzcA0v8wVHo9T2jKGBnhi6LkL14D/p4mBXk70Ei8UOzjP0qT55nmlHwadLOKtM X-Received: by 2002:a05:6870:4206:b0:2c2:dfbb:2dbd with SMTP id 586e51a60fabf-2f7afcc6453mr1410609fac.8.1751720348518; Sat, 05 Jul 2025 05:59:08 -0700 (PDT) Received: from postal.iol.unh.edu (postal.iol.unh.edu. [2606:4100:3880:1234::84]) by smtp-relay.gmail.com with ESMTPS id 586e51a60fabf-2f78fe025f4sm225666fac.1.2025.07.05.05.59.08 (version=TLS1_2 cipher=ECDHE-ECDSA-AES128-GCM-SHA256 bits=128/128); Sat, 05 Jul 2025 05:59:08 -0700 (PDT) X-Relaying-Domain: iol.unh.edu Date: Sat, 05 Jul 2025 05:59:08 -0700 (PDT) Message-ID: <6869219c.050a0220.283a1a.bd83SMTPIN_ADDED_MISSING@mx.google.com> Received: from [172.21.0.9] (unknown [172.18.0.240]) by postal.iol.unh.edu (Postfix) with ESMTP id 095F86051830; Sat, 5 Jul 2025 08:59:08 -0400 (EDT) Subject: |WARNING| pw155010 [PATCH] net/bonding: avoid RSS reta update in flo From: dpdklab@iol.unh.edu To: Test Report Cc: dpdk-test-reports@iol.unh.edu In-Reply-To: <20250704135031.5306-1-madhuker.mythri@oracle.com> References: <20250704135031.5306-1-madhuker.mythri@oracle.com> Content-Type: text/plain X-BeenThere: test-report@dpdk.org X-Mailman-Version: 2.1.29 Precedence: list List-Id: automatic DPDK test reports List-Unsubscribe: , List-Archive: List-Post: List-Help: List-Subscribe: , Errors-To: test-report-bounces@dpdk.org Test-Label: iol-compile-amd64-testing Test-Status: WARNING http://dpdk.org/patch/155010 _Testing issues_ Submitter: Madhuker Mythri Date: Friday, July 04 2025 13:50:31 DPDK git baseline: Repo:dpdk Branch: master CommitID:b18c543ec30729ccc7708a6e064a1f9db5d8c11f 155010 --> testing issues Upstream job id: Generic-DPDK-Compile-Meson#405655 Test environment and result as below: +-------------------------------+--------------------+-------------------+-------------------------+----------------------+-------------------+------------------+ | Environment | dpdk_meson_compile | dpdk_msvc_compile | dpdk_llvm_clang_compile | dpdk_mingw64_compile | dpdk_compile_spdk | dpdk_compile_ovs | +===============================+====================+===================+=========================+======================+===================+==================+ | Ubuntu 20.04 | PASS | SKIPPED | SKIPPED | SKIPPED | SKIPPED | SKIPPED | +-------------------------------+--------------------+-------------------+-------------------------+----------------------+-------------------+------------------+ | CentOS Stream 10 | PASS | SKIPPED | SKIPPED | SKIPPED | SKIPPED | SKIPPED | +-------------------------------+--------------------+-------------------+-------------------------+----------------------+-------------------+------------------+ | Debian GNU/Linux 12 | PASS | SKIPPED | SKIPPED | SKIPPED | PASS | SKIPPED | +-------------------------------+--------------------+-------------------+-------------------------+----------------------+-------------------+------------------+ | Fedora Linux 40 | PASS | SKIPPED | SKIPPED | SKIPPED | PASS | SKIPPED | +-------------------------------+--------------------+-------------------+-------------------------+----------------------+-------------------+------------------+ | Fedora Linux 41 | PASS | SKIPPED | SKIPPED | SKIPPED | PASS | PASS | +-------------------------------+--------------------+-------------------+-------------------------+----------------------+-------------------+------------------+ | openSUSE Leap 15.6 | PASS | SKIPPED | SKIPPED | SKIPPED | SKIPPED | SKIPPED | +-------------------------------+--------------------+-------------------+-------------------------+----------------------+-------------------+------------------+ | Red Hat Enterprise Linux 8.10 | PASS | SKIPPED | SKIPPED | SKIPPED | SKIPPED | SKIPPED | +-------------------------------+--------------------+-------------------+-------------------------+----------------------+-------------------+------------------+ | Ubuntu 24.04 | PASS | SKIPPED | SKIPPED | SKIPPED | PASS | PASS | +-------------------------------+--------------------+-------------------+-------------------------+----------------------+-------------------+------------------+ | CentOS Stream 9 | PASS | SKIPPED | SKIPPED | SKIPPED | PASS | SKIPPED | +-------------------------------+--------------------+-------------------+-------------------------+----------------------+-------------------+------------------+ | Alpine Linux 3.22.0 | PASS | SKIPPED | SKIPPED | SKIPPED | SKIPPED | SKIPPED | +-------------------------------+--------------------+-------------------+-------------------------+----------------------+-------------------+------------------+ | Red Hat Enterprise Linux 9.5 | PASS | SKIPPED | SKIPPED | SKIPPED | SKIPPED | SKIPPED | +-------------------------------+--------------------+-------------------+-------------------------+----------------------+-------------------+------------------+ | Ubuntu 22.04 | PASS | SKIPPED | SKIPPED | SKIPPED | PASS | SKIPPED | +-------------------------------+--------------------+-------------------+-------------------------+----------------------+-------------------+------------------+ | Windows Server 2022 | SKIPPED | PASS | PASS | PASS | SKIPPED | SKIPPED | +-------------------------------+--------------------+-------------------+-------------------------+----------------------+-------------------+------------------+ Ubuntu 20.04 Kernel: 4.19 Compiler: gcc gcc (Ubuntu 9.4.0-1ubuntu1~20.04.2) 9.4.0 CentOS Stream 10 Kernel: 5.15 Compiler: gcc gcc (GCC) 14.2.1 20250110 (Red Hat 14.2.1-8) Debian GNU/Linux 12 Kernel: 5.15 Compiler: gcc gcc (Debian 12.2.0-14+deb12u1) 12.2.0 Fedora Linux 40 Kernel: 5.15 Compiler: clang gcc (GCC) 14.2.1 20240912 (Red Hat 14.2.1-3) Fedora Linux 41 Kernel: 5.15 Compiler: clang gcc (GCC) 14.3.1 20250523 (Red Hat 14.3.1-1) openSUSE Leap 15.6 Kernel: 5.15 Compiler: gcc gcc (SUSE Linux) 7.5.0 Red Hat Enterprise Linux 8.10 Kernel: 5.15 Compiler: gcc gcc (GCC) 8.5.0 20210514 (Red Hat 8.5.0-22) Ubuntu 24.04 Kernel: 5.15 Compiler: gcc gcc (Ubuntu 13.3.0-6ubuntu2~24.04) 13.3.0 CentOS Stream 9 Kernel: 5.15 Compiler: gcc gcc (GCC) 11.5.0 20240719 (Red Hat 11.5.0-7) Alpine Linux 3.22.0 Kernel: 5.15 Compiler: gcc gcc (Alpine 14.2.0) 14.2.0 Red Hat Enterprise Linux 9.5 Kernel: 5.15 Compiler: gcc gcc (GCC) 11.5.0 20240719 (Red Hat 11.5.0-2) Ubuntu 22.04 Kernel: 5.15 Compiler: gcc gcc (Ubuntu 11.4.0-1ubuntu1~22.04) 11.4.0 Windows Server 2022 Kernel: 10.0.20348.2031 Compiler: clang 15.0.7, gcc 14.1.0 (MinGW), and MSVC VS 19.39.33521 To view detailed results, visit: https://lab.dpdk.org/results/dashboard/patchsets/33593/ UNH-IOL DPDK Community Lab To manage your email subscriptions, visit: https://lab.dpdk.org/results/dashboard/preferences/subscriptions/