From mboxrd@z Thu Jan 1 00:00:00 1970 Return-Path: Received: from mails.dpdk.org (mails.dpdk.org [217.70.189.124]) by inbox.dpdk.org (Postfix) with ESMTP id A71C546B06 for ; Sat, 5 Jul 2025 15:07:48 +0200 (CEST) Received: from mails.dpdk.org (localhost [127.0.0.1]) by mails.dpdk.org (Postfix) with ESMTP id 7F6DC40281; Sat, 5 Jul 2025 15:07:48 +0200 (CEST) Received: from mail-pl1-f226.google.com (mail-pl1-f226.google.com [209.85.214.226]) by mails.dpdk.org (Postfix) with ESMTP id AF98840279 for ; Sat, 5 Jul 2025 15:07:46 +0200 (CEST) Received: by mail-pl1-f226.google.com with SMTP id d9443c01a7336-2353a2bc210so15552755ad.2 for ; Sat, 05 Jul 2025 06:07:46 -0700 (PDT) DKIM-Signature: v=1; a=rsa-sha256; c=relaxed/relaxed; d=iol.unh.edu; s=unh-iol; t=1751720866; x=1752325666; darn=dpdk.org; h=references:in-reply-to:cc:to:from:subject:message-id:date:from:to :cc:subject:date:message-id:reply-to; bh=NC+MthQWaMrM0yZwhD1d7TMGmOnOpR+E934JeGMbVwk=; b=Y1S+jz3j8bkbCN0vRuH2hI3xO0OAjeDd1vBAEQCbhsxOTS8zwSA/mlxbTy1BT5cm+N 7fKcWa5zrPiKGeDC4JAozh3FPLgFjsmuRzx/q3pqYTFeziebnrM9Ib9F5tyDch9vcAfW 7vC1TNEQn/Ty13pNGrRgPdUrpCB0FEB99GHjs= X-Google-DKIM-Signature: v=1; a=rsa-sha256; c=relaxed/relaxed; d=1e100.net; s=20230601; t=1751720866; x=1752325666; h=references:in-reply-to:cc:to:from:subject:message-id:date :x-gm-message-state:from:to:cc:subject:date:message-id:reply-to; bh=NC+MthQWaMrM0yZwhD1d7TMGmOnOpR+E934JeGMbVwk=; b=GzTJHImPt37JmfGUs6RznY219x5SoI26WQP8KVNPD4rPy/HqSp0Bd2iR1kIN+Qflq+ fmyN6oN7ufNZQM8LLYM9uJmRSp0R4VHsUSidzJxajyITcmUUdJwaZ5azyKQjxiRG7iRr 1JQ5Gvw/vRzOzzSPb3rFeXfszTBHFs8h2ifC2/yZymzL/xXMb/+uhIvm7PiZC3aZxjVp TdHe6dXLyNetchnz/40d5Q3CJHh5VTJWxB0A2HueP+zmLSU9qgRVT1L2y7KkI65U32kD KK+3BjLKLIh6xyeHBGkQKnGtoO950R9NT6ovlVqx/riFn/5rk68pQRS8NBWfGhQ0pHpE vMlw== X-Gm-Message-State: AOJu0Yxp9fDcFMoGnEoizH0iohOocVk0x0No2Lhiyl3lY3E/aSt0jCmx wJ8JvqewS8TFKqrgFB5H4ipT9XXU7vxO3SiLKSwRIAyCL+NJWy7/Eo15LrvVq1bADmV/HjnYqkN 9LdwV/FtzmqMaZpLmCxAGywEKCZ0YyboB05f20ztA851Z X-Gm-Gg: ASbGncss10qUSjXU/JZ/lQN3Zooqex3BayS/4HkN0HeRkMHOPzXO5fL9Itp81AzaG1d mj2seR8EoZM5rdw6Cv2twEJWRWI7vbJRuaKa2DU8UKh6l0P/TqgUvEaKlUxGKayMnysAMR9hNQM 3I+iBvRp90wvmWZPkOXcdfJXL8Jua0YpktTeH36z4DiwEQj0ESN0A5IdMQzMN3kOf+GSmDlhVs2 EOjB48sitInyDEI9pQ8h7xH1k5g6N+PvqB3piQ8JDBZ1KodZeAL7VbCVr1SqYAqEdNUHeFXKOEd 7GKBgJf4i3Q6DwVkFqwovecT9NGcSIMgV3ZkMCupdLmo867zvomCv+VmjDUHU/BpWmQywg== X-Google-Smtp-Source: AGHT+IFWBAXFKekolFdg8J3tGAkHNNOICCy9w5YdTF9VJb8kcm0w0+dv7x+HB2BBsaqWrLDarHqWmyWqD7yl X-Received: by 2002:a17:903:2f8a:b0:234:a139:120d with SMTP id d9443c01a7336-23c85d8f659mr84110595ad.7.1751720865756; Sat, 05 Jul 2025 06:07:45 -0700 (PDT) Received: from postal.iol.unh.edu (postal.iol.unh.edu. [132.177.123.84]) by smtp-relay.gmail.com with ESMTPS id d9443c01a7336-23c842b5494sm2032065ad.13.2025.07.05.06.07.45 (version=TLS1_2 cipher=ECDHE-ECDSA-AES128-GCM-SHA256 bits=128/128); Sat, 05 Jul 2025 06:07:45 -0700 (PDT) X-Relaying-Domain: iol.unh.edu Date: Sat, 05 Jul 2025 06:07:45 -0700 (PDT) Message-ID: <686923a1.170a0220.16fa49.abaaSMTPIN_ADDED_MISSING@mx.google.com> Received: from [172.21.0.7] (unknown [172.18.0.240]) by postal.iol.unh.edu (Postfix) with ESMTP id EB8236051830; Sat, 5 Jul 2025 09:07:44 -0400 (EDT) Subject: |SUCCESS| pw155012-155013 [PATCH] [v2,2/2] dts: add generic blocking From: dpdklab@iol.unh.edu To: Test Report Cc: dpdk-test-reports@iol.unh.edu In-Reply-To: <20250704152908.683265-3-luca.vizzarro@arm.com> References: <20250704152908.683265-3-luca.vizzarro@arm.com> Content-Type: text/plain X-BeenThere: test-report@dpdk.org X-Mailman-Version: 2.1.29 Precedence: list List-Id: automatic DPDK test reports List-Unsubscribe: , List-Archive: List-Post: List-Help: List-Subscribe: , Errors-To: test-report-bounces@dpdk.org Test-Label: iol-compile-arm64-testing Test-Status: SUCCESS http://dpdk.org/patch/155013 _Testing PASS_ Submitter: Luca Vizzarro Date: Friday, July 04 2025 15:29:08 DPDK git baseline: Repo:dpdk Branch: master CommitID:31ba785774d258d4c57b68dabdf544e575f3af83 155012-155013 --> testing pass Upstream job id: Generic-DPDK-Compile-Meson#405619 Test environment and result as below: +------------------------------+--------------------+ | Environment | dpdk_meson_compile | +==============================+====================+ | Red Hat Enterprise Linux 9.5 | PASS | +------------------------------+--------------------+ | Ubuntu 20.04 | PASS | +------------------------------+--------------------+ | Debian GNU/Linux 12 | PASS | +------------------------------+--------------------+ | Fedora Linux 40 | PASS | +------------------------------+--------------------+ | Fedora Linux 41 | PASS | +------------------------------+--------------------+ | Ubuntu 22.04 | PASS | +------------------------------+--------------------+ | Ubuntu 24.04 | PASS | +------------------------------+--------------------+ | CentOS Stream 10 | PASS | +------------------------------+--------------------+ | CentOS Stream 9 | PASS | +------------------------------+--------------------+ Red Hat Enterprise Linux 9.5 Kernel: 5.4 Compiler: gcc gcc (GCC) 11.5.0 20240719 (Red Hat 11.5.0-2) Ubuntu 20.04 Kernel: 5.15 Compiler: aarch64-linux-gnu-gcc gcc (Ubuntu 9.4.0-1ubuntu1~20.04.2) 9.4.0 Debian GNU/Linux 12 Kernel: 5.4 Compiler: gcc gcc (Debian 12.2.0-14+deb12u1) 12.2.0 Fedora Linux 40 Kernel: 5.4 Compiler: gcc gcc (GCC) 14.2.1 20240912 (Red Hat 14.2.1-3) Fedora Linux 41 Kernel: 5.4 Compiler: gcc gcc (GCC) 14.3.1 20250523 (Red Hat 14.3.1-1) Ubuntu 22.04 Kernel: 5.4 Compiler: gcc gcc (Ubuntu 11.4.0-1ubuntu1~22.04) 11.4.0 Ubuntu 24.04 Kernel: 5.4 Compiler: gcc gcc (Ubuntu 13.3.0-6ubuntu2~24.04) 13.3.0 CentOS Stream 10 Kernel: 5.4 Compiler: gcc gcc (GCC) 14.2.1 20250110 (Red Hat 14.2.1-8) CentOS Stream 9 Kernel: 5.4 Compiler: gcc gcc (GCC) 11.5.0 20240719 (Red Hat 11.5.0-7) To view detailed results, visit: https://lab.dpdk.org/results/dashboard/patchsets/33595/ UNH-IOL DPDK Community Lab To manage your email subscriptions, visit: https://lab.dpdk.org/results/dashboard/preferences/subscriptions/