From mboxrd@z Thu Jan 1 00:00:00 1970 Return-Path: Received: from mails.dpdk.org (mails.dpdk.org [217.70.189.124]) by inbox.dpdk.org (Postfix) with ESMTP id 90C8E46B06 for ; Sat, 5 Jul 2025 15:07:50 +0200 (CEST) Received: from mails.dpdk.org (localhost [127.0.0.1]) by mails.dpdk.org (Postfix) with ESMTP id 8C72940279; Sat, 5 Jul 2025 15:07:50 +0200 (CEST) Received: from mail-il1-f226.google.com (mail-il1-f226.google.com [209.85.166.226]) by mails.dpdk.org (Postfix) with ESMTP id 7BA4A40279 for ; Sat, 5 Jul 2025 15:07:48 +0200 (CEST) Received: by mail-il1-f226.google.com with SMTP id e9e14a558f8ab-3de252f75d7so19220985ab.3 for ; Sat, 05 Jul 2025 06:07:48 -0700 (PDT) DKIM-Signature: v=1; a=rsa-sha256; c=relaxed/relaxed; d=iol.unh.edu; s=unh-iol; t=1751720868; x=1752325668; darn=dpdk.org; h=references:in-reply-to:cc:to:from:subject:message-id:date:from:to :cc:subject:date:message-id:reply-to; bh=O1kFfOjrl4BRiR/b3n9cq+kaiF/2epAEmD/7X63exaI=; b=KB58ns2dvwqkEb58ZUknU3jO1Mn6CciDH+MzzyBOFWamrxmt5aFPKCK7AMW/JEDV1a RrRrLAk4iJ8wCVrOya/zNUrBcH78JTliLMPCi3VIMeflJmYNT99MUDDtlIGtzKWH5tP2 NXaI+Le/D5qYOhLAAS7dL2qKXTWuXfX15yirU= X-Google-DKIM-Signature: v=1; a=rsa-sha256; c=relaxed/relaxed; d=1e100.net; s=20230601; t=1751720868; x=1752325668; h=references:in-reply-to:cc:to:from:subject:message-id:date :x-gm-message-state:from:to:cc:subject:date:message-id:reply-to; bh=O1kFfOjrl4BRiR/b3n9cq+kaiF/2epAEmD/7X63exaI=; b=JdqyYXd0RJn+6PeTLq/PjPSUB/EDRtEQvyOlTzwEmLS0sShpQHcP0l1X0T4l+wDA7T gjzZTlRRBnVEb7bisfqFQjHxFf2DdRefE5NMCozgeOILRb4GEjdWOQhHH0ISFZRJDzsb mlziQzZ6xzNZLuCdRHnMmpU79/Y1DkQc91m9Z6UR4Ex3T66xmUiGqhSow3JvWC3pQ73j tEPUoJK0Tg8GJ14irgvZpG9ot8jl0ssDz0MVdff08V3vEzx3Zyi8L8HJOjT5ad8BtY2C X/8U2d0HU9M8F4ewXBZC+rmvHHvwuGFpGwRUqe9ldB9ULYtHthhWfNdD+K/hUSinaLBG OSwQ== X-Gm-Message-State: AOJu0Yzx6R8l4eWSi6XLj/h3+1fHfQuIlyfnJZMEaYxv0vWicUmxKumX x1kPk9GgWVWSNOPq0pLa/L+IVUoYITA+bHyQ8A16lGIhZb6Y8X45HFPq13n9v7DldaoYC0np9h4 CI/vShbfxCAEaz92mXkBnC/lKZKvFN6IRhCMqQyennW99cN+euYsFT550M8W4 X-Gm-Gg: ASbGncuYBYF5LtIFHpDAKUaB3eomefBZQm8m9DkvQr/Cv7kG1E9wyxAkpwOK9fjRjTO +Av1FgExSmoySUM9cbnqFEEpG4Nzt1xwWGGZwq5oEouOy7TQDmo6e5h+AtLgfJXUbSRtuNu7ChY 0072gcjMpuMPJwIi1uUW1bmWhD24fbrA8sEqCgsgVpjKgM8wxxLrKYj/89q8AGf+97YJoAXGyxI 1+MNH/IuOAXLOiH9pzUoa6zhT3dZyeBSqNtZYBt/21GKE3bfEqSr8DLDN4UYFvOZmuDbDNSAIII uif2fhDnBYtK77ylEawFts46oEk26qgIdKKOYckPGbPJeXA= X-Google-Smtp-Source: AGHT+IGETnFJRz6JBWjVuBp2wrQOVV8jXRDRog7FFIBAMrTP8m0U3musBpVUcpqPBCCu26z8mNmfR3kE2IkV X-Received: by 2002:a05:6e02:156d:b0:3df:4c9b:683c with SMTP id e9e14a558f8ab-3e1355b11abmr51006285ab.17.1751720867764; Sat, 05 Jul 2025 06:07:47 -0700 (PDT) Received: from postal.iol.unh.edu (postal.iol.unh.edu. [2606:4100:3880:1234::84]) by smtp-relay.gmail.com with ESMTPS id e9e14a558f8ab-3e1004b57d3sm2669385ab.62.2025.07.05.06.07.47 (version=TLS1_2 cipher=ECDHE-ECDSA-AES128-GCM-SHA256 bits=128/128); Sat, 05 Jul 2025 06:07:47 -0700 (PDT) X-Relaying-Domain: iol.unh.edu Date: Sat, 05 Jul 2025 06:07:47 -0700 (PDT) Message-ID: <686923a3.050a0220.d9ef.dca6SMTPIN_ADDED_MISSING@mx.google.com> Received: from [172.21.0.5] (unknown [172.18.0.240]) by postal.iol.unh.edu (Postfix) with ESMTP id 499D76051830; Sat, 5 Jul 2025 09:07:47 -0400 (EDT) Subject: |SUCCESS| pw155010 [PATCH] net/bonding: avoid RSS reta update in flo From: dpdklab@iol.unh.edu To: Test Report Cc: dpdk-test-reports@iol.unh.edu In-Reply-To: <20250704135031.5306-1-madhuker.mythri@oracle.com> References: <20250704135031.5306-1-madhuker.mythri@oracle.com> Content-Type: text/plain X-BeenThere: test-report@dpdk.org X-Mailman-Version: 2.1.29 Precedence: list List-Id: automatic DPDK test reports List-Unsubscribe: , List-Archive: List-Post: List-Help: List-Subscribe: , Errors-To: test-report-bounces@dpdk.org Test-Label: iol-compile-arm64-testing Test-Status: SUCCESS http://dpdk.org/patch/155010 _Testing PASS_ Submitter: Madhuker Mythri Date: Friday, July 04 2025 13:50:31 DPDK git baseline: Repo:dpdk Branch: master CommitID:b18c543ec30729ccc7708a6e064a1f9db5d8c11f 155010 --> testing pass Upstream job id: Generic-DPDK-Compile-Meson#405676 Test environment and result as below: +------------------------------+--------------------+ | Environment | dpdk_meson_compile | +==============================+====================+ | Red Hat Enterprise Linux 9.5 | PASS | +------------------------------+--------------------+ | Ubuntu 20.04 | PASS | +------------------------------+--------------------+ | Debian GNU/Linux 12 | PASS | +------------------------------+--------------------+ | Fedora Linux 40 | PASS | +------------------------------+--------------------+ | Fedora Linux 41 | PASS | +------------------------------+--------------------+ | Ubuntu 24.04 | PASS | +------------------------------+--------------------+ | CentOS Stream 9 | PASS | +------------------------------+--------------------+ | CentOS Stream 10 | PASS | +------------------------------+--------------------+ | Ubuntu 22.04 | PASS | +------------------------------+--------------------+ Red Hat Enterprise Linux 9.5 Kernel: 5.4 Compiler: gcc gcc (GCC) 11.5.0 20240719 (Red Hat 11.5.0-2) Ubuntu 20.04 Kernel: 5.15 Compiler: aarch64-linux-gnu-gcc gcc (Ubuntu 9.4.0-1ubuntu1~20.04.2) 9.4.0 Debian GNU/Linux 12 Kernel: 5.4 Compiler: gcc gcc (Debian 12.2.0-14+deb12u1) 12.2.0 Fedora Linux 40 Kernel: 5.4 Compiler: gcc gcc (GCC) 14.2.1 20240912 (Red Hat 14.2.1-3) Fedora Linux 41 Kernel: 5.4 Compiler: clang gcc (GCC) 14.3.1 20250523 (Red Hat 14.3.1-1) Ubuntu 24.04 Kernel: 5.4 Compiler: gcc gcc (Ubuntu 13.3.0-6ubuntu2~24.04) 13.3.0 CentOS Stream 9 Kernel: 5.4 Compiler: gcc gcc (GCC) 11.5.0 20240719 (Red Hat 11.5.0-7) CentOS Stream 10 Kernel: 5.4 Compiler: gcc gcc (GCC) 14.2.1 20250110 (Red Hat 14.2.1-8) Ubuntu 22.04 Kernel: 5.4 Compiler: gcc gcc (Ubuntu 11.4.0-1ubuntu1~22.04) 11.4.0 To view detailed results, visit: https://lab.dpdk.org/results/dashboard/patchsets/33593/ UNH-IOL DPDK Community Lab To manage your email subscriptions, visit: https://lab.dpdk.org/results/dashboard/preferences/subscriptions/