From mboxrd@z Thu Jan 1 00:00:00 1970 Return-Path: Received: from mails.dpdk.org (mails.dpdk.org [217.70.189.124]) by inbox.dpdk.org (Postfix) with ESMTP id 9BF6646B06 for ; Sat, 5 Jul 2025 15:07:54 +0200 (CEST) Received: from mails.dpdk.org (localhost [127.0.0.1]) by mails.dpdk.org (Postfix) with ESMTP id 96AF040279; Sat, 5 Jul 2025 15:07:54 +0200 (CEST) Received: from mail-il1-f228.google.com (mail-il1-f228.google.com [209.85.166.228]) by mails.dpdk.org (Postfix) with ESMTP id 8EB8D40279 for ; Sat, 5 Jul 2025 15:07:52 +0200 (CEST) Received: by mail-il1-f228.google.com with SMTP id e9e14a558f8ab-3df2ccbb895so18663645ab.3 for ; Sat, 05 Jul 2025 06:07:52 -0700 (PDT) DKIM-Signature: v=1; a=rsa-sha256; c=relaxed/relaxed; d=iol.unh.edu; s=unh-iol; t=1751720872; x=1752325672; darn=dpdk.org; h=references:in-reply-to:cc:to:from:subject:message-id:date:from:to :cc:subject:date:message-id:reply-to; bh=rfsIYro0RJRvacVEU53H6E2NldulYQ96pKYRnAd5zfc=; b=NdIhMnr8vx1IaxuSykujqOewDV8ot7s8+6ReKJWZdP+k/OxQUEc4LOaYM6zLkN4pHH XKSaw42FLa0TYAgMOTmcRNPH+hTdmS6vfsXlUBxlafixsoZDjgJZgj2UY/DCACZoKL0s dZLfJnPYrSvD4WhBu0jl7q7WwJF0n6bZRAm08= X-Google-DKIM-Signature: v=1; a=rsa-sha256; c=relaxed/relaxed; d=1e100.net; s=20230601; t=1751720872; x=1752325672; h=references:in-reply-to:cc:to:from:subject:message-id:date :x-gm-message-state:from:to:cc:subject:date:message-id:reply-to; bh=rfsIYro0RJRvacVEU53H6E2NldulYQ96pKYRnAd5zfc=; b=g3tas1WcnC+pw0eSCB/OxI89lDthO1lp7b7Xn0dfJO8S/4XuVLVuH4nZUNDvQK3mRn +RUwNvOr+auWum2bIU6gbcyZ2deieLSTzrr9nPGHoGGw0FLi69bgSyK9IR9tHAbHIKm/ NPA2EiqB58w6r5TLAS44CicNLBXenhpzGyddN1QMETwlsoDIk0wSq9ZTlvyXEc/le22D lQva7CE7UQA6E7wr9yYXMN2uJwoer545rgIrA1Mz2QlJsJzd9XVgfE/vqQby1UVkvGia 7/x2gCFxPi7GIV6DUtiMhi7cOpQXu4m2FBMfdpDFI0vi+K9XnFNeVgcqepUgOKDHSPZ/ rzhA== X-Gm-Message-State: AOJu0Yze0Jh/5bUr2GLdAPSV8buHgxtV2JZwCmJz+RNKOE4DFsXis/fa tO57fO3Kn6QRZBcm1f6YAoBLd54ONrOJDhqyspdCWhnPSGMLpvmiG/n1qTLYP+IgcB0lWHLIfnm EQG07A8S8s9DCZuyNVp+SGHZrqUqhoY9M602sIDaVnzlD X-Gm-Gg: ASbGnct1d1SPflvaq/e1j0CQI1zLJMWrXoT2D11/tiHgKDNBC0YP3hkRZ9hvYDLsN1e nLqXb4Vxo2kbGwCt/0zyRHOBppLZ1Hu4t7E4vUE6AIgDy//aUa5owYBL57fpOOnw0D1ZROYWO+j NUytHia32hxdsMZJxcahhP9EOaEjTy7w2t58fOmmuGl9DRigLB6GB5rzpsjuKzDYWNyn5PTX7/I lFWtKwqMNhulGo3AN3hu/ynrhOyetViwvQupAUwIfMr1q9XytBlGOU5LEFlx4FZJ+h/IBDLCZSp LOdfokmQEXNjJpNV3b5JZo6r/6XX2F9L3Ru9WKuaYbbLQmXZZaJcVqL7cXQU3mYgBc3Tog== X-Google-Smtp-Source: AGHT+IGLioaQqOJ73CA6USkPjF47P0di6f7r8vtEXq96aJaY2ItBpWGJ0QUB+47vvBIVH/Ak89jxJQUGerzi X-Received: by 2002:a05:6e02:1a8b:b0:3df:41d3:90ad with SMTP id e9e14a558f8ab-3e136f3bbc2mr46858955ab.9.1751720871879; Sat, 05 Jul 2025 06:07:51 -0700 (PDT) Received: from postal.iol.unh.edu (postal.iol.unh.edu. [132.177.123.84]) by smtp-relay.gmail.com with ESMTPS id e9e14a558f8ab-3e0fe2211eesm2629155ab.55.2025.07.05.06.07.51 (version=TLS1_2 cipher=ECDHE-ECDSA-AES128-GCM-SHA256 bits=128/128); Sat, 05 Jul 2025 06:07:51 -0700 (PDT) X-Relaying-Domain: iol.unh.edu Date: Sat, 05 Jul 2025 06:07:51 -0700 (PDT) Message-ID: <686923a7.050a0220.22cf62.dd03SMTPIN_ADDED_MISSING@mx.google.com> Received: from [172.21.0.11] (unknown [172.18.0.240]) by postal.iol.unh.edu (Postfix) with ESMTP id 8701F6051830; Sat, 5 Jul 2025 09:07:51 -0400 (EDT) Subject: |SUCCESS| pw155010 [PATCH] net/bonding: avoid RSS reta update in flo From: dpdklab@iol.unh.edu To: Test Report Cc: dpdk-test-reports@iol.unh.edu In-Reply-To: <20250704135031.5306-1-madhuker.mythri@oracle.com> References: <20250704135031.5306-1-madhuker.mythri@oracle.com> Content-Type: text/plain X-BeenThere: test-report@dpdk.org X-Mailman-Version: 2.1.29 Precedence: list List-Id: automatic DPDK test reports List-Unsubscribe: , List-Archive: List-Post: List-Help: List-Subscribe: , Errors-To: test-report-bounces@dpdk.org Test-Label: iol-compile-arm64-testing Test-Status: SUCCESS http://dpdk.org/patch/155010 _Testing PASS_ Submitter: Madhuker Mythri Date: Friday, July 04 2025 13:50:31 DPDK git baseline: Repo:dpdk Branch: master CommitID:b18c543ec30729ccc7708a6e064a1f9db5d8c11f 155010 --> testing pass Upstream job id: Generic-DPDK-Compile-Meson#405679 Test environment and result as below: +------------------------------+--------------------+ | Environment | dpdk_meson_compile | +==============================+====================+ | Red Hat Enterprise Linux 9.5 | PASS | +------------------------------+--------------------+ | Ubuntu 20.04 | PASS | +------------------------------+--------------------+ | Debian GNU/Linux 12 | PASS | +------------------------------+--------------------+ | Fedora Linux 40 | PASS | +------------------------------+--------------------+ | Fedora Linux 41 | PASS | +------------------------------+--------------------+ | Ubuntu 24.04 | PASS | +------------------------------+--------------------+ | CentOS Stream 9 | PASS | +------------------------------+--------------------+ | CentOS Stream 10 | PASS | +------------------------------+--------------------+ | Ubuntu 22.04 | PASS | +------------------------------+--------------------+ Red Hat Enterprise Linux 9.5 Kernel: 5.4 Compiler: gcc gcc (GCC) 11.5.0 20240719 (Red Hat 11.5.0-2) Ubuntu 20.04 Kernel: 5.15 Compiler: aarch64-linux-gnu-gcc gcc (Ubuntu 9.4.0-1ubuntu1~20.04.2) 9.4.0 Debian GNU/Linux 12 Kernel: 5.4 Compiler: gcc gcc (Debian 12.2.0-14+deb12u1) 12.2.0 Fedora Linux 40 Kernel: 5.4 Compiler: gcc gcc (GCC) 14.2.1 20240912 (Red Hat 14.2.1-3) Fedora Linux 41 Kernel: 5.4 Compiler: clang gcc (GCC) 14.3.1 20250523 (Red Hat 14.3.1-1) Ubuntu 24.04 Kernel: 5.4 Compiler: gcc gcc (Ubuntu 13.3.0-6ubuntu2~24.04) 13.3.0 CentOS Stream 9 Kernel: 5.4 Compiler: gcc gcc (GCC) 11.5.0 20240719 (Red Hat 11.5.0-7) CentOS Stream 10 Kernel: 5.4 Compiler: gcc gcc (GCC) 14.2.1 20250110 (Red Hat 14.2.1-8) Ubuntu 22.04 Kernel: 5.4 Compiler: gcc gcc (Ubuntu 11.4.0-1ubuntu1~22.04) 11.4.0 To view detailed results, visit: https://lab.dpdk.org/results/dashboard/patchsets/33593/ UNH-IOL DPDK Community Lab To manage your email subscriptions, visit: https://lab.dpdk.org/results/dashboard/preferences/subscriptions/