From mboxrd@z Thu Jan 1 00:00:00 1970 Return-Path: Received: from mails.dpdk.org (mails.dpdk.org [217.70.189.124]) by inbox.dpdk.org (Postfix) with ESMTP id 05EC246B06 for ; Sat, 5 Jul 2025 15:10:54 +0200 (CEST) Received: from mails.dpdk.org (localhost [127.0.0.1]) by mails.dpdk.org (Postfix) with ESMTP id D9F1D40279; Sat, 5 Jul 2025 15:10:53 +0200 (CEST) Received: from mail-vk1-f225.google.com (mail-vk1-f225.google.com [209.85.221.225]) by mails.dpdk.org (Postfix) with ESMTP id 8698440279 for ; Sat, 5 Jul 2025 15:10:52 +0200 (CEST) Received: by mail-vk1-f225.google.com with SMTP id 71dfb90a1353d-53185535ed9so1782284e0c.0 for ; Sat, 05 Jul 2025 06:10:52 -0700 (PDT) DKIM-Signature: v=1; a=rsa-sha256; c=relaxed/relaxed; d=iol.unh.edu; s=unh-iol; t=1751721052; x=1752325852; darn=dpdk.org; h=references:in-reply-to:cc:to:from:subject:message-id:date:from:to :cc:subject:date:message-id:reply-to; bh=ZI7Bo3uVs6rbMnO+NEmRH2AKsA9TK2mjjxUbEQEQI+c=; b=JjTR+2lRa+AMJmw4AbobUIrLnIzvFKi7VtRV60i2oGtgG0k7znScZisbEwj2wr6mJ6 bN6kvGneW5HZj7NBpwEdphbPmsq+iB7G2TdHbjFeDBkigeslGlhK83OZPl5m5Gwbo23k KOQ7Y//LsNHYp9i6+1qUQlXsdIn6ItTi2/Cus= X-Google-DKIM-Signature: v=1; a=rsa-sha256; c=relaxed/relaxed; d=1e100.net; s=20230601; t=1751721052; x=1752325852; h=references:in-reply-to:cc:to:from:subject:message-id:date :x-gm-message-state:from:to:cc:subject:date:message-id:reply-to; bh=ZI7Bo3uVs6rbMnO+NEmRH2AKsA9TK2mjjxUbEQEQI+c=; b=mlpdXWbNr7mKJbWAGLeH5Ou2ZrZjckaMgeRboP0naTY6r6PvPueSoU1eWFhuf4Tlya CPM89aallSvWc1hkyOiC6UiqrfG0GthKiGtX9/2Vf2yxNrBmgLdrqJ/enaL8H34E3Fdt 3TzBKR41Put8rJ6Vq/yVu/R/N9c1olm3Dm/T1eiesAMmypwdoXQZK/+Gn5cPGYlvqcze J/GmKnrNZEiYFt3zq+4To/3g27AN7drXMTf6xgrv8ZPqFacLja+iMN8TQznA/Knhrqry 8f0l1JC4xh0IHfYejo8oKpwGorWpkMp5Ee9FxQw4RAa3+K/lDWH12araMkL2kigVGo39 aBtw== X-Gm-Message-State: AOJu0YyVTFOHq9ASi6Rkm88dktCRtJGE1ccspCR7UmxJKLCVtrWgzFnx 4r6WT1KfDb4kxGd5jiEa/fCLIodEx6C+afPq6dClONqWdpfKcFExYQ4TUMYot7gCfIM+WDTpuTt JUUUsoPzI3oBB7C1iTs8v0l/owYzYYaD7aB4jWlK9/UGUHVD82+Z/E3BAPjhp X-Gm-Gg: ASbGncvkuBH2ovbmMH8t1BGSb0+nJGK1mV+XHBOwwa2+vx4zmCTq4xwUsr0aYi4JZjn sGAEEkyjuT/lcFnY50CNvxAKSowhcMVEfc1+uKZyDl2nyFdGlg4JAyp9vQ5KkFyoE1XfW6R4dHx sHHwVymb/mCFn7pU5mohdyMKNMjcHlPlDF17dwIPl24CPMA5tSZQc9b/09NKRneiM8Ikazhv2Oq Z05eftOp9hML5hwJsdF//oknVMq6LYhslEVurDkrgQ6QRlflZ13qf/GH9IRlGBsHvDX9pRE6f5q fEQi7eAb+2kbf99k+AgP+VrJyCM4943GtBMgkv9wIom3Lcs= X-Google-Smtp-Source: AGHT+IGCKjWP5/tKvoPblGXXuf7C7WGAvH/QWXrnIrNPC4ns0MzxslLb7L8myDyH4kin1TBPckbXGjqQYO5h X-Received: by 2002:a05:6122:3548:b0:535:3125:9b00 with SMTP id 71dfb90a1353d-5353125a066mr906544e0c.4.1751721051819; Sat, 05 Jul 2025 06:10:51 -0700 (PDT) Received: from postal.iol.unh.edu (postal.iol.unh.edu. [2606:4100:3880:1234::84]) by smtp-relay.gmail.com with ESMTPS id 71dfb90a1353d-534790a99ecsm212429e0c.12.2025.07.05.06.10.51 (version=TLS1_2 cipher=ECDHE-ECDSA-AES128-GCM-SHA256 bits=128/128); Sat, 05 Jul 2025 06:10:51 -0700 (PDT) X-Relaying-Domain: iol.unh.edu Date: Sat, 05 Jul 2025 06:10:51 -0700 (PDT) Message-ID: <6869245b.050a0220.3b020c.b344SMTPIN_ADDED_MISSING@mx.google.com> Received: from [172.21.0.6] (unknown [172.18.0.240]) by postal.iol.unh.edu (Postfix) with ESMTP id 7631F6051830; Sat, 5 Jul 2025 09:10:51 -0400 (EDT) Subject: |WARNING| pw154995 [PATCH] [v2] ci: check C++ headers with clang From: dpdklab@iol.unh.edu To: Test Report Cc: dpdk-test-reports@iol.unh.edu In-Reply-To: <20250703082010.2002295-1-david.marchand@redhat.com> References: <20250703082010.2002295-1-david.marchand@redhat.com> Content-Type: text/plain X-BeenThere: test-report@dpdk.org X-Mailman-Version: 2.1.29 Precedence: list List-Id: automatic DPDK test reports List-Unsubscribe: , List-Archive: List-Post: List-Help: List-Subscribe: , Errors-To: test-report-bounces@dpdk.org Test-Label: iol-compile-amd64-testing Test-Status: WARNING http://dpdk.org/patch/154995 _Testing issues_ Submitter: David Marchand Date: Thursday, July 03 2025 08:20:10 DPDK git baseline: Repo:dpdk Branch: master CommitID:70c2297528e7c7789af452f78de1932e9a20c8a2 154995 --> testing issues Upstream job id: Generic-DPDK-Compile-Meson#405739 Test environment and result as below: +-------------------------------+-------------------+--------------------+-------------------------+----------------------+-------------------+------------------+ | Environment | dpdk_msvc_compile | dpdk_meson_compile | dpdk_llvm_clang_compile | dpdk_mingw64_compile | dpdk_compile_spdk | dpdk_compile_ovs | +===============================+===================+====================+=========================+======================+===================+==================+ | Windows Server 2022 | PASS | SKIPPED | PASS | PASS | SKIPPED | SKIPPED | +-------------------------------+-------------------+--------------------+-------------------------+----------------------+-------------------+------------------+ | Ubuntu 20.04 | SKIPPED | PASS | SKIPPED | SKIPPED | SKIPPED | SKIPPED | +-------------------------------+-------------------+--------------------+-------------------------+----------------------+-------------------+------------------+ | CentOS Stream 9 | SKIPPED | PASS | SKIPPED | SKIPPED | PASS | SKIPPED | +-------------------------------+-------------------+--------------------+-------------------------+----------------------+-------------------+------------------+ | CentOS Stream 10 | SKIPPED | PASS | SKIPPED | SKIPPED | SKIPPED | SKIPPED | +-------------------------------+-------------------+--------------------+-------------------------+----------------------+-------------------+------------------+ | Debian GNU/Linux 12 | SKIPPED | PASS | SKIPPED | SKIPPED | PASS | SKIPPED | +-------------------------------+-------------------+--------------------+-------------------------+----------------------+-------------------+------------------+ | Fedora Linux 40 | SKIPPED | PASS | SKIPPED | SKIPPED | PASS | SKIPPED | +-------------------------------+-------------------+--------------------+-------------------------+----------------------+-------------------+------------------+ | openSUSE Leap 15.6 | SKIPPED | PASS | SKIPPED | SKIPPED | SKIPPED | SKIPPED | +-------------------------------+-------------------+--------------------+-------------------------+----------------------+-------------------+------------------+ | Red Hat Enterprise Linux 8.10 | SKIPPED | PASS | SKIPPED | SKIPPED | SKIPPED | SKIPPED | +-------------------------------+-------------------+--------------------+-------------------------+----------------------+-------------------+------------------+ | Red Hat Enterprise Linux 9.5 | SKIPPED | PASS | SKIPPED | SKIPPED | SKIPPED | SKIPPED | +-------------------------------+-------------------+--------------------+-------------------------+----------------------+-------------------+------------------+ | Ubuntu 22.04 | SKIPPED | PASS | SKIPPED | SKIPPED | PASS | SKIPPED | +-------------------------------+-------------------+--------------------+-------------------------+----------------------+-------------------+------------------+ | Ubuntu 24.04 | SKIPPED | PASS | SKIPPED | SKIPPED | PASS | PASS | +-------------------------------+-------------------+--------------------+-------------------------+----------------------+-------------------+------------------+ | Alpine Linux 3.22.0 | SKIPPED | PASS | SKIPPED | SKIPPED | SKIPPED | SKIPPED | +-------------------------------+-------------------+--------------------+-------------------------+----------------------+-------------------+------------------+ | Fedora Linux 41 | SKIPPED | PASS | SKIPPED | SKIPPED | WARN | PASS | +-------------------------------+-------------------+--------------------+-------------------------+----------------------+-------------------+------------------+ ==== 20 line log output for Fedora Linux 41 (dpdk_compile_spdk): ==== --- Failed to get log output --- ==== End log output ==== Windows Server 2022 Kernel: 10.0.20348.2031 Compiler: clang 15.0.7, gcc 14.1.0 (MinGW), and MSVC VS 19.39.33521 Ubuntu 20.04 Kernel: 4.19 Compiler: gcc gcc (Ubuntu 9.4.0-1ubuntu1~20.04.2) 9.4.0 CentOS Stream 9 Kernel: 5.15 Compiler: gcc gcc (GCC) 11.5.0 20240719 (Red Hat 11.5.0-7) CentOS Stream 10 Kernel: 5.15 Compiler: gcc gcc (GCC) 14.2.1 20250110 (Red Hat 14.2.1-8) Debian GNU/Linux 12 Kernel: 5.15 Compiler: gcc gcc (Debian 12.2.0-14+deb12u1) 12.2.0 Fedora Linux 40 Kernel: 5.15 Compiler: clang gcc (GCC) 14.2.1 20240912 (Red Hat 14.2.1-3) openSUSE Leap 15.6 Kernel: 5.15 Compiler: gcc gcc (SUSE Linux) 7.5.0 Red Hat Enterprise Linux 8.10 Kernel: 5.15 Compiler: gcc gcc (GCC) 8.5.0 20210514 (Red Hat 8.5.0-22) Red Hat Enterprise Linux 9.5 Kernel: 5.15 Compiler: gcc gcc (GCC) 11.5.0 20240719 (Red Hat 11.5.0-2) Ubuntu 22.04 Kernel: 5.15 Compiler: gcc gcc (Ubuntu 11.4.0-1ubuntu1~22.04) 11.4.0 Ubuntu 24.04 Kernel: 5.15 Compiler: gcc gcc (Ubuntu 13.3.0-6ubuntu2~24.04) 13.3.0 Alpine Linux 3.22.0 Kernel: 5.15 Compiler: gcc gcc (Alpine 14.2.0) 14.2.0 Fedora Linux 41 Kernel: 5.15 Compiler: gcc gcc (GCC) 14.3.1 20250523 (Red Hat 14.3.1-1) To view detailed results, visit: https://lab.dpdk.org/results/dashboard/patchsets/33578/ UNH-IOL DPDK Community Lab To manage your email subscriptions, visit: https://lab.dpdk.org/results/dashboard/preferences/subscriptions/