From mboxrd@z Thu Jan 1 00:00:00 1970 Return-Path: Received: from mails.dpdk.org (mails.dpdk.org [217.70.189.124]) by inbox.dpdk.org (Postfix) with ESMTP id C011B46B06 for ; Sat, 5 Jul 2025 17:27:46 +0200 (CEST) Received: from mails.dpdk.org (localhost [127.0.0.1]) by mails.dpdk.org (Postfix) with ESMTP id 93DC04025F; Sat, 5 Jul 2025 17:27:46 +0200 (CEST) Received: from mail-qk1-f225.google.com (mail-qk1-f225.google.com [209.85.222.225]) by mails.dpdk.org (Postfix) with ESMTP id 173F54025F for ; Sat, 5 Jul 2025 17:27:44 +0200 (CEST) Received: by mail-qk1-f225.google.com with SMTP id af79cd13be357-7d5d0ea6c8dso128304385a.1 for ; Sat, 05 Jul 2025 08:27:44 -0700 (PDT) DKIM-Signature: v=1; a=rsa-sha256; c=relaxed/relaxed; d=iol.unh.edu; s=unh-iol; t=1751729264; x=1752334064; darn=dpdk.org; h=references:in-reply-to:cc:to:from:subject:message-id:date:from:to :cc:subject:date:message-id:reply-to; bh=elPYnpQbazQxqgMlQeGJhRNm+4l2wWLNOQEB0PHI3cQ=; b=iulP6PvLzqm/bEGo6qS01tef+0VFfjihHhaMdo7Zdj4a8NIwFc7ndLy1vTXuhYj+Vh U7kdgnwNSz7Aee6a67GN6eDLjiorJX4cWj0+6wy7pKNAIIH9FPwIkkps+i80r7X2WzR8 OkIKJStsjZS2O9R1JPiTsAYQ4BqYxcJ/qaYDA= X-Google-DKIM-Signature: v=1; a=rsa-sha256; c=relaxed/relaxed; d=1e100.net; s=20230601; t=1751729264; x=1752334064; h=references:in-reply-to:cc:to:from:subject:message-id:date :x-gm-message-state:from:to:cc:subject:date:message-id:reply-to; bh=elPYnpQbazQxqgMlQeGJhRNm+4l2wWLNOQEB0PHI3cQ=; b=Hv7z1W88iNompQlowfdNfVJm5vJsVQ5kEfxJoYfYip93WR/GlYruiy1PdAU5PKlQ/5 4CC9+NiKMbRnoScxCrWEaQcEctbdKCAASFSI1Qrhl176Stsns7AbO7zYKgVoh+jG4I5D STN0eKR8ZJsjIb1JbHjS7nZw4NWtG6gdwpHSgKnErDQFUKGfmcTmJcJHE+krC+R3fuCG eEUm4MVKhCYcDgaBFBU2aWruBDjLsuMcj3tBrGvnXxNfko3te1iyNC8ibclrqH5b5CC8 VFNCwBQfacVUHfFCuJq/Lv4yp/B+motBt4PqsGj41+bbenR9A3UawRHrxWa6G0F2PzBa T5qw== X-Gm-Message-State: AOJu0YyDickpKGjrpKb86l6ISrTllwsnfPY7jI3JSbzeZSq0TTG8T5XM bQOe38mqqdNLZP3iCEfU0tDb+qhgIFwWFpzRzozFlkSCyLuiXC+HAxlLZiqB0vPSACGag1XCwjX G7DNv3m2kyiKSLPPEAufA7VP0S6c3dRKG0wVoKgoc6shSxe7OB3T3pMLBVwRe X-Gm-Gg: ASbGncsPklrVAxL8S0H54vTMwic4lq2F99uHNtbN2EIl+PCy8ytFDvKx7Jy3wFN4OGV d4RSH7Q2VODEGqAK2KNFje1E56nqpgiO0B8/Ht80/jF7RT/X4Jpz/hULRM4vgF50bs4pAIyAuIh 4Eh6GAXWqapZ6eOwWy8GtmZYxRyykCEjd66BP03CK9EBNrGv9kSOBBT4Yzr4Iixuz3I87Ce1mWA WZG/f3xPf5T70cJNHZ3c04LmSsd/IGwH9JuCvjtfh7OfsQgtFSv0bnthFZWkE9nSMgqTSfUh7Ei zZT502pqlGd1cjqIB3gcGkHk0RQ2YLGD9xCZUL4nbNLhL2M= X-Google-Smtp-Source: AGHT+IEKHYcs89zQL105DrBcY5JKIJrUJfRVziRzc/oU+9aX9GfUj4WdqQk13yMN+wmpdMDu/uCHlwNz+dKB X-Received: by 2002:a05:620a:44c4:b0:7d3:856c:714a with SMTP id af79cd13be357-7d5df180839mr844681085a.46.1751729264156; Sat, 05 Jul 2025 08:27:44 -0700 (PDT) Received: from postal.iol.unh.edu (postal.iol.unh.edu. [2606:4100:3880:1234::84]) by smtp-relay.gmail.com with ESMTPS id 6a1803df08f44-702c4d5b5e3sm1803916d6.70.2025.07.05.08.27.44 (version=TLS1_2 cipher=ECDHE-ECDSA-AES128-GCM-SHA256 bits=128/128); Sat, 05 Jul 2025 08:27:44 -0700 (PDT) X-Relaying-Domain: iol.unh.edu Date: Sat, 05 Jul 2025 08:27:44 -0700 (PDT) Message-ID: <68694470.050a0220.43ec4.9260SMTPIN_ADDED_MISSING@mx.google.com> Received: from [172.21.0.5] (unknown [172.18.0.240]) by postal.iol.unh.edu (Postfix) with ESMTP id DD0736051830; Sat, 5 Jul 2025 11:27:43 -0400 (EDT) Subject: |SUCCESS| pw155012-155013 [PATCH] [v2,2/2] dts: add generic blocking From: dpdklab@iol.unh.edu To: Test Report Cc: dpdk-test-reports@iol.unh.edu In-Reply-To: <20250704152908.683265-3-luca.vizzarro@arm.com> References: <20250704152908.683265-3-luca.vizzarro@arm.com> Content-Type: text/plain X-BeenThere: test-report@dpdk.org X-Mailman-Version: 2.1.29 Precedence: list List-Id: automatic DPDK test reports List-Unsubscribe: , List-Archive: List-Post: List-Help: List-Subscribe: , Errors-To: test-report-bounces@dpdk.org Test-Label: iol-compile-arm64-testing Test-Status: SUCCESS http://dpdk.org/patch/155013 _Testing PASS_ Submitter: Luca Vizzarro Date: Friday, July 04 2025 15:29:08 DPDK git baseline: Repo:dpdk Branch: master CommitID:31ba785774d258d4c57b68dabdf544e575f3af83 155012-155013 --> testing pass Upstream job id: Generic-DPDK-Compile-Meson#405629 Test environment and result as below: +------------------------------+--------------------+ | Environment | dpdk_meson_compile | +==============================+====================+ | Red Hat Enterprise Linux 9.5 | PASS | +------------------------------+--------------------+ | Ubuntu 20.04 | PASS | +------------------------------+--------------------+ | Debian GNU/Linux 12 | PASS | +------------------------------+--------------------+ | Fedora Linux 40 | PASS | +------------------------------+--------------------+ | Fedora Linux 41 | PASS | +------------------------------+--------------------+ | Ubuntu 22.04 | PASS | +------------------------------+--------------------+ | Ubuntu 24.04 | PASS | +------------------------------+--------------------+ | CentOS Stream 9 | PASS | +------------------------------+--------------------+ | CentOS Stream 10 | PASS | +------------------------------+--------------------+ Red Hat Enterprise Linux 9.5 Kernel: 5.4 Compiler: gcc gcc (GCC) 11.5.0 20240719 (Red Hat 11.5.0-2) Ubuntu 20.04 Kernel: 5.15 Compiler: aarch64-linux-gnu-gcc gcc (Ubuntu 9.4.0-1ubuntu1~20.04.2) 9.4.0 Debian GNU/Linux 12 Kernel: 5.4 Compiler: gcc gcc (Debian 12.2.0-14+deb12u1) 12.2.0 Fedora Linux 40 Kernel: 5.4 Compiler: gcc gcc (GCC) 14.2.1 20240912 (Red Hat 14.2.1-3) Fedora Linux 41 Kernel: 5.4 Compiler: gcc gcc (GCC) 14.3.1 20250523 (Red Hat 14.3.1-1) Ubuntu 22.04 Kernel: 5.4 Compiler: gcc gcc (Ubuntu 11.4.0-1ubuntu1~22.04) 11.4.0 Ubuntu 24.04 Kernel: 5.4 Compiler: gcc gcc (Ubuntu 13.3.0-6ubuntu2~24.04) 13.3.0 CentOS Stream 9 Kernel: 5.4 Compiler: gcc gcc (GCC) 11.5.0 20240719 (Red Hat 11.5.0-7) CentOS Stream 10 Kernel: 5.4 Compiler: gcc gcc (GCC) 14.2.1 20250110 (Red Hat 14.2.1-8) To view detailed results, visit: https://lab.dpdk.org/results/dashboard/patchsets/33595/ UNH-IOL DPDK Community Lab To manage your email subscriptions, visit: https://lab.dpdk.org/results/dashboard/preferences/subscriptions/