From mboxrd@z Thu Jan 1 00:00:00 1970 Return-Path: Received: from mails.dpdk.org (mails.dpdk.org [217.70.189.124]) by inbox.dpdk.org (Postfix) with ESMTP id 5EFA046B0A for ; Sat, 5 Jul 2025 20:22:04 +0200 (CEST) Received: from mails.dpdk.org (localhost [127.0.0.1]) by mails.dpdk.org (Postfix) with ESMTP id 2F5474025F; Sat, 5 Jul 2025 20:22:04 +0200 (CEST) Received: from mail-yb1-f228.google.com (mail-yb1-f228.google.com [209.85.219.228]) by mails.dpdk.org (Postfix) with ESMTP id DE8E24025F for ; Sat, 5 Jul 2025 20:22:02 +0200 (CEST) Received: by mail-yb1-f228.google.com with SMTP id 3f1490d57ef6-e81f8679957so1423808276.2 for ; Sat, 05 Jul 2025 11:22:02 -0700 (PDT) DKIM-Signature: v=1; a=rsa-sha256; c=relaxed/relaxed; d=iol.unh.edu; s=unh-iol; t=1751739722; x=1752344522; darn=dpdk.org; h=references:in-reply-to:cc:to:from:subject:message-id:date:from:to :cc:subject:date:message-id:reply-to; bh=Q8kElMc58MIoo/0TTBt7a2CU7JrLwWTX/EzqbVYSL2w=; b=eEerhN4zKFlrlPtMz4ht9wN0C1W038rsBcN+pO7JuwHbHn4Uyz+Glwhzg+I9nt/Mp8 bV74dSE8I4BaPiYSrFE70ZdmMiMQd7qCAIFrgs2RqcuYq6zMHbvCRbx0I1C7F147dsfm JIQAVzOckcJwzWD5n6hlSshoVcEzznAQwCrZM= X-Google-DKIM-Signature: v=1; a=rsa-sha256; c=relaxed/relaxed; d=1e100.net; s=20230601; t=1751739722; x=1752344522; h=references:in-reply-to:cc:to:from:subject:message-id:date :x-gm-message-state:from:to:cc:subject:date:message-id:reply-to; bh=Q8kElMc58MIoo/0TTBt7a2CU7JrLwWTX/EzqbVYSL2w=; b=fEx5005JWlt+2KsNuqcdwDnxbFavDx2OHOOmWzC+VgCZ4D43wZ6mXwlm/08uz1Vscx WwkPV5yUtwvzf3vUHYz/u63VmeVYbzsl67aMZmePaRW0u7AxXemZGQZ8w638bt+TUsht X87UTjwqD+sykaEQVw6N6iRG4ZwcbdEVHJEFuBKUw3kWpdnwfDygj4KRWDxZ1j9EKgmt OG0BdY3z6xc0yjdV+9oxXfK3WGMikTLv550LX+u29espYMxxUd2dS5ijO2qrWCNrEwtj yLdCGyROA1EheyBmTWbz4MHKTQ6EsOUuQwhO0KBZ/ywfADNwCjh5718UazuzUC1cT/EV Xcyg== X-Gm-Message-State: AOJu0YxDhkTdoarEK/6V7C6zcD2UJ9lOvZerPiDryGs+RsOKPtmZcO8F mVImE0wJRSIsrABA+s4Srwe9KQcKaoKbrcim2Gtfg8gryI8uBXz6PvMw3X6XqT+IgZ41/P5HK3B tQsHkgbUsHEML3ZCLCOfEEdh2gWXCo3Pmd7Z08yRO1r90wMZgHNklhxZUn7KZ X-Gm-Gg: ASbGnctT3Hh8Jpy49dBqeqPLxOyzMD8QQ720ldkXN9DXOnVPCxgkeYXIsi8y4v1TIne +LSRxUtKsLEC14kCIU/saRdYNEXPELBhRv7yqNqLYRY49H9Qv6rLfBw5MJ8J2Wos5fc8vxKzcRH hyS8TjUZFqx90X/3odaJCdtjGI3cwBvcOIWLPhZDNiNl1M7ZqYBYmv3LRejoQxSNyY87p7nLCKp KKSvKD5tThjXP74WZ4wMiO9Kw2T1/ojPTTKnWosev1nu+MN2NYHtLjzA/s+/ipAqhTeAa9I+Sij N2Lad6YLFthcUOcdl7LHZ0a/vVjLJ6gnDBhFM4woaaqzatM= X-Google-Smtp-Source: AGHT+IHwSLLyonIDGfgeOtfGjHg6eUy5hcEhZe8wDyxitKuzRL6UtABlp9gYULK2++z7k/KMJG8UeUhWqOlX X-Received: by 2002:a05:6902:110a:b0:e81:52ff:b40 with SMTP id 3f1490d57ef6-e89a0c1f5eamr6583322276.20.1751739722183; Sat, 05 Jul 2025 11:22:02 -0700 (PDT) Received: from postal.iol.unh.edu (postal.iol.unh.edu. [2606:4100:3880:1234::84]) by smtp-relay.gmail.com with ESMTPS id 3f1490d57ef6-e899c467b39sm224159276.27.2025.07.05.11.22.02 (version=TLS1_2 cipher=ECDHE-ECDSA-AES128-GCM-SHA256 bits=128/128); Sat, 05 Jul 2025 11:22:02 -0700 (PDT) X-Relaying-Domain: iol.unh.edu Date: Sat, 05 Jul 2025 11:22:02 -0700 (PDT) Message-ID: <68696d4a.250a0220.368c6a.be19SMTPIN_ADDED_MISSING@mx.google.com> Received: from [172.21.0.5] (unknown [172.18.0.240]) by postal.iol.unh.edu (Postfix) with ESMTP id CDBF06051830; Sat, 5 Jul 2025 14:22:01 -0400 (EDT) Subject: |SUCCESS| pw155008 [PATCH] mbuf: add new ptype for slow protocols From: dpdklab@iol.unh.edu To: Test Report Cc: dpdk-test-reports@iol.unh.edu In-Reply-To: <20250704084502.237979-1-kuka@cesnet.cz> References: <20250704084502.237979-1-kuka@cesnet.cz> Content-Type: text/plain X-BeenThere: test-report@dpdk.org X-Mailman-Version: 2.1.29 Precedence: list List-Id: automatic DPDK test reports List-Unsubscribe: , List-Archive: List-Post: List-Help: List-Subscribe: , Errors-To: test-report-bounces@dpdk.org Test-Label: iol-compile-arm64-testing Test-Status: SUCCESS http://dpdk.org/patch/155008 _Testing PASS_ Submitter: Mario Kuka Date: Friday, July 04 2025 08:45:01 DPDK git baseline: Repo:dpdk Branch: master CommitID:70c2297528e7c7789af452f78de1932e9a20c8a2 155008 --> testing pass Upstream job id: Generic-DPDK-Compile-Meson#405713 Test environment and result as below: +------------------------------+--------------------+ | Environment | dpdk_meson_compile | +==============================+====================+ | Red Hat Enterprise Linux 9.5 | PASS | +------------------------------+--------------------+ | Ubuntu 20.04 | PASS | +------------------------------+--------------------+ | Debian GNU/Linux 12 | PASS | +------------------------------+--------------------+ | Fedora Linux 40 | PASS | +------------------------------+--------------------+ | Fedora Linux 41 | PASS | +------------------------------+--------------------+ | Ubuntu 24.04 | PASS | +------------------------------+--------------------+ | CentOS Stream 9 | PASS | +------------------------------+--------------------+ | Ubuntu 22.04 | PASS | +------------------------------+--------------------+ | CentOS Stream 10 | PASS | +------------------------------+--------------------+ Red Hat Enterprise Linux 9.5 Kernel: 5.4 Compiler: gcc gcc (GCC) 11.5.0 20240719 (Red Hat 11.5.0-2) Ubuntu 20.04 Kernel: 5.15 Compiler: aarch64-linux-gnu-gcc gcc (Ubuntu 9.4.0-1ubuntu1~20.04.2) 9.4.0 Debian GNU/Linux 12 Kernel: 5.4 Compiler: gcc gcc (Debian 12.2.0-14+deb12u1) 12.2.0 Fedora Linux 40 Kernel: 5.4 Compiler: gcc gcc (GCC) 14.2.1 20240912 (Red Hat 14.2.1-3) Fedora Linux 41 Kernel: 5.4 Compiler: gcc gcc (GCC) 14.3.1 20250523 (Red Hat 14.3.1-1) Ubuntu 24.04 Kernel: 5.4 Compiler: gcc gcc (Ubuntu 13.3.0-6ubuntu2~24.04) 13.3.0 CentOS Stream 9 Kernel: 5.4 Compiler: gcc gcc (GCC) 11.5.0 20240719 (Red Hat 11.5.0-7) Ubuntu 22.04 Kernel: 5.4 Compiler: gcc gcc (Ubuntu 11.4.0-1ubuntu1~22.04) 11.4.0 CentOS Stream 10 Kernel: 5.4 Compiler: gcc gcc (GCC) 14.2.1 20250110 (Red Hat 14.2.1-8) To view detailed results, visit: https://lab.dpdk.org/results/dashboard/patchsets/33591/ UNH-IOL DPDK Community Lab To manage your email subscriptions, visit: https://lab.dpdk.org/results/dashboard/preferences/subscriptions/