From mboxrd@z Thu Jan 1 00:00:00 1970 Return-Path: Received: from mails.dpdk.org (mails.dpdk.org [217.70.189.124]) by inbox.dpdk.org (Postfix) with ESMTP id 7B0F946B0B for ; Sat, 5 Jul 2025 22:11:23 +0200 (CEST) Received: from mails.dpdk.org (localhost [127.0.0.1]) by mails.dpdk.org (Postfix) with ESMTP id 544084025F; Sat, 5 Jul 2025 22:11:23 +0200 (CEST) Received: from mail-io1-f99.google.com (mail-io1-f99.google.com [209.85.166.99]) by mails.dpdk.org (Postfix) with ESMTP id 10B9A4025F for ; Sat, 5 Jul 2025 22:11:22 +0200 (CEST) Received: by mail-io1-f99.google.com with SMTP id ca18e2360f4ac-87640a9e237so187538239f.2 for ; Sat, 05 Jul 2025 13:11:21 -0700 (PDT) DKIM-Signature: v=1; a=rsa-sha256; c=relaxed/relaxed; d=iol.unh.edu; s=unh-iol; t=1751746281; x=1752351081; darn=dpdk.org; h=references:in-reply-to:cc:to:from:subject:message-id:date:from:to :cc:subject:date:message-id:reply-to; bh=IiaYDKaO9w7XisKvRdSSuvBB30VoGnbbKU191Nz9sqU=; b=j0zmsldEMdOxniiJ3P08M10TEuF53p6B2GqiER96arKse3Do9M8eD5YIFzdKuCwZ3r cMR/wQzh76VX5i9pEQloxztbnf9Z0lEyJkjnZ8sL2sqLBnuj8/SxUM3bFjbGNor2DDus dbqqox8zpnUCAf/uLVBV00jM4Mm16UL613LHw= X-Google-DKIM-Signature: v=1; a=rsa-sha256; c=relaxed/relaxed; d=1e100.net; s=20230601; t=1751746281; x=1752351081; h=references:in-reply-to:cc:to:from:subject:message-id:date :x-gm-message-state:from:to:cc:subject:date:message-id:reply-to; bh=IiaYDKaO9w7XisKvRdSSuvBB30VoGnbbKU191Nz9sqU=; b=kLRYdUY237DWPQRKanVmk0W4S6JTDYwc+EkgfqRCVHeIrmdoQG8Ck19lrVxOhNCcwd 2yuxVEX5ztHuMg7GGYU8cSjHHHZUgbJbUaDUiEkuAGEA2bpBV85vnYKL2fVHw7nGKu8L qLwSjLGGv9INDy5B6IzewyUIj17d5ao0wiuFOVqpwiEK5bleOffHh61dS95Mg5v25pfS lPNE8Yjc48rKvhvzqtvklZAI5SUaaiBIUERlGwdyBE3506iwVXGc7ivTXYlD5trsTzQO xU/96trWAxKPMPZxG0NvaF4ahFnZqRbu1Dxw1lMoTiSQHnEI7n9Yjtnz9H9/dShxbmOh kPLA== X-Gm-Message-State: AOJu0YxbdtxgFb1vySArBtMCGE0tUZLgtS0dfeUZ2H94V/c4g7wdYmPu uTk+DJBx/99gHuF4ydctloOlYUeuoMB2HdwoKlF9jUkpqfQau1lwFjVshU4Ovp+oeKg7+Yz8vRK F361NNJXidsgOQpZnQpEOttdeOeGhc549Q/y9zVxGO7RQ X-Gm-Gg: ASbGncsdH2AcvDSh4UkX8FNila1eu/lZqZFvN9RM2/HAiaycVaN1D/WT2kRpTXb4dtz X4jfBleNQQ7sA2PWtluvevYga4rqeTIsQ9bI+jLJ7+SowDPj8v/3CZvq2uhjdK/y81+1CSuNNtz nd0m2Bv/IvpOtZBCcfFcH9OaDD+l8NZuIgh8fQUpvmF1AELyctFgIX1sjVdabnPRsQP9ljK49X0 s8tERVWLQ5s5U9nDyXJyfem8wMTX0npsKqEFJAiM0Gja0SzpB01oz+OewRigtZL/xlWXMfSGYfV Pg1jcdWmpg9IlqJyZFjAhCjRWy8qq1H4gF+ifuLFY590gLjrpxqEJV8X59icm7A+egeWuQ== X-Google-Smtp-Source: AGHT+IHoxXHf6Du5TXa786A07eiKcBM3QZ/JJj6jyApbw1kU8FFQVDC6WQuwpV8LQcIMPNjc2SDvoy5hvp1l X-Received: by 2002:a05:6602:640a:b0:864:4a1b:dfc5 with SMTP id ca18e2360f4ac-876e16341camr713876739f.9.1751746281259; Sat, 05 Jul 2025 13:11:21 -0700 (PDT) Received: from postal.iol.unh.edu (postal.iol.unh.edu. [132.177.123.84]) by smtp-relay.gmail.com with ESMTPS id 8926c6da1cb9f-503b5b7756bsm153284173.43.2025.07.05.13.11.21 (version=TLS1_2 cipher=ECDHE-ECDSA-AES128-GCM-SHA256 bits=128/128); Sat, 05 Jul 2025 13:11:21 -0700 (PDT) X-Relaying-Domain: iol.unh.edu Date: Sat, 05 Jul 2025 13:11:21 -0700 (PDT) Message-ID: <686986e9.050a0220.2537b6.95c8SMTPIN_ADDED_MISSING@mx.google.com> Received: from [172.21.0.6] (unknown [172.18.0.240]) by postal.iol.unh.edu (Postfix) with ESMTP id C125A6051830; Sat, 5 Jul 2025 16:11:20 -0400 (EDT) Subject: |WARNING| pw155019 [PATCH] [v2] event/dlb2: add support for stop and From: dpdklab@iol.unh.edu To: Test Report Cc: dpdk-test-reports@iol.unh.edu In-Reply-To: <20250705184752.925174-1-pravin.pathak@intel.com> References: <20250705184752.925174-1-pravin.pathak@intel.com> Content-Type: text/plain X-BeenThere: test-report@dpdk.org X-Mailman-Version: 2.1.29 Precedence: list List-Id: automatic DPDK test reports List-Unsubscribe: , List-Archive: List-Post: List-Help: List-Subscribe: , Errors-To: test-report-bounces@dpdk.org Test-Label: iol-compile-amd64-testing Test-Status: WARNING http://dpdk.org/patch/155019 _Testing issues_ Submitter: Pravin Pathak Date: Saturday, July 05 2025 18:47:52 DPDK git baseline: Repo:dpdk Branch: master CommitID:780a078533fe65635afefb9be8580853476676e5 155019 --> testing issues Upstream job id: Generic-DPDK-Compile-Meson#405837 Test environment and result as below: +-------------------------------+--------------------+-------------------+------------------+-------------------------+-------------------+----------------------+ | Environment | dpdk_meson_compile | dpdk_compile_spdk | dpdk_compile_ovs | dpdk_llvm_clang_compile | dpdk_msvc_compile | dpdk_mingw64_compile | +===============================+====================+===================+==================+=========================+===================+======================+ | Fedora Linux 40 | PASS | PASS | SKIPPED | SKIPPED | SKIPPED | SKIPPED | +-------------------------------+--------------------+-------------------+------------------+-------------------------+-------------------+----------------------+ | Red Hat Enterprise Linux 9.5 | PASS | SKIPPED | SKIPPED | SKIPPED | SKIPPED | SKIPPED | +-------------------------------+--------------------+-------------------+------------------+-------------------------+-------------------+----------------------+ | CentOS Stream 9 | PASS | PASS | SKIPPED | SKIPPED | SKIPPED | SKIPPED | +-------------------------------+--------------------+-------------------+------------------+-------------------------+-------------------+----------------------+ | Debian GNU/Linux 12 | PASS | PASS | SKIPPED | SKIPPED | SKIPPED | SKIPPED | +-------------------------------+--------------------+-------------------+------------------+-------------------------+-------------------+----------------------+ | Fedora Linux 41 | PEND | PEND | PEND | SKIPPED | SKIPPED | SKIPPED | +-------------------------------+--------------------+-------------------+------------------+-------------------------+-------------------+----------------------+ | openSUSE Leap 15.6 | PASS | SKIPPED | SKIPPED | SKIPPED | SKIPPED | SKIPPED | +-------------------------------+--------------------+-------------------+------------------+-------------------------+-------------------+----------------------+ | Ubuntu 22.04 | PEND | PEND | SKIPPED | SKIPPED | SKIPPED | SKIPPED | +-------------------------------+--------------------+-------------------+------------------+-------------------------+-------------------+----------------------+ | Ubuntu 24.04 | PEND | PEND | PEND | SKIPPED | SKIPPED | SKIPPED | +-------------------------------+--------------------+-------------------+------------------+-------------------------+-------------------+----------------------+ | Alpine Linux 3.22.0 | PEND | SKIPPED | SKIPPED | SKIPPED | SKIPPED | SKIPPED | +-------------------------------+--------------------+-------------------+------------------+-------------------------+-------------------+----------------------+ | Ubuntu 20.04 | PASS | SKIPPED | SKIPPED | SKIPPED | SKIPPED | SKIPPED | +-------------------------------+--------------------+-------------------+------------------+-------------------------+-------------------+----------------------+ | CentOS Stream 10 | PEND | SKIPPED | SKIPPED | SKIPPED | SKIPPED | SKIPPED | +-------------------------------+--------------------+-------------------+------------------+-------------------------+-------------------+----------------------+ | Red Hat Enterprise Linux 8.10 | PEND | SKIPPED | SKIPPED | SKIPPED | SKIPPED | SKIPPED | +-------------------------------+--------------------+-------------------+------------------+-------------------------+-------------------+----------------------+ | Windows Server 2022 | SKIPPED | SKIPPED | SKIPPED | PASS | PASS | PASS | +-------------------------------+--------------------+-------------------+------------------+-------------------------+-------------------+----------------------+ Fedora Linux 40 Kernel: 5.15 Compiler: clang gcc (GCC) 14.2.1 20240912 (Red Hat 14.2.1-3) Red Hat Enterprise Linux 9.5 Kernel: 5.15 Compiler: gcc gcc (GCC) 11.5.0 20240719 (Red Hat 11.5.0-2) CentOS Stream 9 Kernel: 5.15 Compiler: gcc gcc (GCC) 11.5.0 20240719 (Red Hat 11.5.0-7) Debian GNU/Linux 12 Kernel: 5.15 Compiler: gcc gcc (Debian 12.2.0-14+deb12u1) 12.2.0 Fedora Linux 41 Kernel: 5.15 Compiler: clang gcc (GCC) 14.3.1 20250523 (Red Hat 14.3.1-1) openSUSE Leap 15.6 Kernel: 5.15 Compiler: gcc gcc (SUSE Linux) 7.5.0 Ubuntu 22.04 Kernel: 5.15 Compiler: gcc gcc (Ubuntu 11.4.0-1ubuntu1~22.04) 11.4.0 Ubuntu 24.04 Kernel: 5.15 Compiler: gcc gcc (Ubuntu 13.3.0-6ubuntu2~24.04) 13.3.0 Alpine Linux 3.22.0 Kernel: 5.15 Compiler: gcc gcc (Alpine 14.2.0) 14.2.0 Ubuntu 20.04 Kernel: 5.15 Compiler: gcc gcc (Ubuntu 9.4.0-1ubuntu1~20.04.2) 9.4.0 CentOS Stream 10 Kernel: 5.15 Compiler: gcc gcc (GCC) 14.2.1 20250110 (Red Hat 14.2.1-8) Red Hat Enterprise Linux 8.10 Kernel: 5.15 Compiler: gcc gcc (GCC) 8.5.0 20210514 (Red Hat 8.5.0-22) Windows Server 2022 Kernel: 10.0.20348.2031 Compiler: clang 15.0.7, gcc 14.1.0 (MinGW), and MSVC VS 19.39.33521 To view detailed results, visit: https://lab.dpdk.org/results/dashboard/patchsets/33599/ UNH-IOL DPDK Community Lab To manage your email subscriptions, visit: https://lab.dpdk.org/results/dashboard/preferences/subscriptions/