From mboxrd@z Thu Jan 1 00:00:00 1970 Return-Path: Received: from mails.dpdk.org (mails.dpdk.org [217.70.189.124]) by inbox.dpdk.org (Postfix) with ESMTP id 8A83246B0D for ; Sat, 5 Jul 2025 22:59:02 +0200 (CEST) Received: from mails.dpdk.org (localhost [127.0.0.1]) by mails.dpdk.org (Postfix) with ESMTP id 7A04C4025F; Sat, 5 Jul 2025 22:59:02 +0200 (CEST) Received: from mail-oo1-f99.google.com (mail-oo1-f99.google.com [209.85.161.99]) by mails.dpdk.org (Postfix) with ESMTP id 2BCDD4025F for ; Sat, 5 Jul 2025 22:59:01 +0200 (CEST) Received: by mail-oo1-f99.google.com with SMTP id 006d021491bc7-612033bb26cso1056888eaf.3 for ; Sat, 05 Jul 2025 13:59:01 -0700 (PDT) DKIM-Signature: v=1; a=rsa-sha256; c=relaxed/relaxed; d=iol.unh.edu; s=unh-iol; t=1751749140; x=1752353940; darn=dpdk.org; h=references:in-reply-to:cc:to:from:subject:message-id:date:from:to :cc:subject:date:message-id:reply-to; bh=VZ4VOJbempgZ3Yh62pfuSzwOPc3GQ1bu2/vXPEbrmaw=; b=ERF1bzLrfKHoGuffJlmUWhtKhJhpSWfaEfc05YNnQ7BH42D2XgMGtfFD04txgEpjUg XuU9BZVGnQWHzVl9bIsWrPN7qDw9GvfSjPfjDMg3oiHbQEkhYRRFjWaiP1B5vfvP32EK o3XF+0D/2x+xKOrHnlnOvPQ4LBi1H0zVAr/1Y= X-Google-DKIM-Signature: v=1; a=rsa-sha256; c=relaxed/relaxed; d=1e100.net; s=20230601; t=1751749140; x=1752353940; h=references:in-reply-to:cc:to:from:subject:message-id:date :x-gm-message-state:from:to:cc:subject:date:message-id:reply-to; bh=VZ4VOJbempgZ3Yh62pfuSzwOPc3GQ1bu2/vXPEbrmaw=; b=AWSCcli/0jk+cGn6KumlheFMdT0mLXLQ3bIWkBscoVJmVl94mO9l+yV7lpkgyd2Nbz r2ceMBQHDv1bGxPqP9spXyR/ewToE3PjA0nZ/oUcyemswP8YnI+9hS1ZxGM97V78cT07 0Fb0HnqPou0bzy0AYzNDyN1oLkrqJq99WPPrITGn9h47LFquFK/wfFvaALh1hQQr8IZL njOJB+Rr1DdScnHBlJyw0qB/HEhoNT+cJN7W6hyG8kAKPZm+YNcOgcx1QYAh/DjrHYEI xyyoKTHxtzgVqcXpFuZdgUxq4nzF1qoOgudnID2cmSrss9olUr5oyRKx34nos1VS1uM2 Scbg== X-Gm-Message-State: AOJu0Yz1WcQGPObs6VVGRqEsE8GmTZ6iXn1I+bXt+VI1xZ6IRKeZb/I8 uQmI/ZCdfwvFUAqfcE6zoVEoQu8hTTFy7FVopfmWBP94qY0YpjLsV5Z0oUsM2OsIhqQo6lkDiw5 6irNK8xcOYH3J/wqJqrPVwTkhZXVTHgHx0s6gCnkdOW2xJNFeVLqB+HrUmCKH X-Gm-Gg: ASbGnct8JIsFmb45WgrrxMO/76p21yWsKyrXxYYcmv9YG2nJWFOEt08s7qpE+JDxtxu loxVUONXRVEkroWhSLL7u8UB3681DURXCBnUFcv9fh64jH/MUFMcY+Q9Z4s17uhEptEBSULG9az SRNvH5T+Zcoulb72UweUbugzvqPhST2x7lllWvEz1U6N0Yl0M+dgy36N78jRiBj9vJOnNMRwjn5 O31jjbOKDj+i9uBU4w8P1YtgO8swkaHprFprHHn/HTHnAjqUI+2b/T/sUFtJ58Ihvxg1zpKpKk1 WlIDsB28zLGOBb2MvK9kitvjVInuLN3fCf1/LbuDQCvqhI0= X-Google-Smtp-Source: AGHT+IGbv25ijlLwiif3u8FTDGEYL9qKgtlUQWNuQ32T8quvmUixYrX+srz/21brlipvIijJIjH1L/k3jSJj X-Received: by 2002:a4a:e914:0:b0:611:e30a:fa1c with SMTP id 006d021491bc7-6139ff63f8amr2642053eaf.1.1751749140413; Sat, 05 Jul 2025 13:59:00 -0700 (PDT) Received: from postal.iol.unh.edu (postal.iol.unh.edu. [2606:4100:3880:1234::84]) by smtp-relay.gmail.com with ESMTPS id 006d021491bc7-6138e568c85sm120326eaf.12.2025.07.05.13.59.00 (version=TLS1_2 cipher=ECDHE-ECDSA-AES128-GCM-SHA256 bits=128/128); Sat, 05 Jul 2025 13:59:00 -0700 (PDT) X-Relaying-Domain: iol.unh.edu Date: Sat, 05 Jul 2025 13:59:00 -0700 (PDT) Message-ID: <68699214.050a0220.eeb6.6549SMTPIN_ADDED_MISSING@mx.google.com> Received: from [172.21.0.5] (unknown [172.18.0.240]) by postal.iol.unh.edu (Postfix) with ESMTP id 9747F6051830; Sat, 5 Jul 2025 16:58:59 -0400 (EDT) Subject: |SUCCESS| pw155019 [PATCH] [v2] event/dlb2: add support for stop and From: dpdklab@iol.unh.edu To: Test Report Cc: dpdk-test-reports@iol.unh.edu In-Reply-To: <20250705184752.925174-1-pravin.pathak@intel.com> References: <20250705184752.925174-1-pravin.pathak@intel.com> Content-Type: text/plain X-BeenThere: test-report@dpdk.org X-Mailman-Version: 2.1.29 Precedence: list List-Id: automatic DPDK test reports List-Unsubscribe: , List-Archive: List-Post: List-Help: List-Subscribe: , Errors-To: test-report-bounces@dpdk.org Test-Label: iol-unit-arm64-testing Test-Status: SUCCESS http://dpdk.org/patch/155019 _Testing PASS_ Submitter: Pravin Pathak Date: Saturday, July 05 2025 18:47:52 DPDK git baseline: Repo:dpdk Branch: master CommitID:780a078533fe65635afefb9be8580853476676e5 155019 --> testing pass Upstream job id: Generic-Unit-Test-DPDK#352946 Test environment and result as below: +------------------------------+---------------------------+--------------+------------------------------+----------------+ | Environment | cryptodev_sw_zuc_autotest | lpm_autotest | cryptodev_sw_snow3g_autotest | dpdk_unit_test | +==============================+===========================+==============+==============================+================+ | Debian 12 (arm) | PASS | SKIPPED | PASS | SKIPPED | +------------------------------+---------------------------+--------------+------------------------------+----------------+ | Ubuntu 20.04 | SKIPPED | PASS | SKIPPED | PASS | +------------------------------+---------------------------+--------------+------------------------------+----------------+ | CentOS Stream 9 | SKIPPED | SKIPPED | SKIPPED | PASS | +------------------------------+---------------------------+--------------+------------------------------+----------------+ | CentOS Stream 10 | SKIPPED | SKIPPED | SKIPPED | PASS | +------------------------------+---------------------------+--------------+------------------------------+----------------+ | Debian GNU/Linux 12 | SKIPPED | SKIPPED | SKIPPED | PASS | +------------------------------+---------------------------+--------------+------------------------------+----------------+ | Fedora Linux 40 | SKIPPED | SKIPPED | SKIPPED | PASS | +------------------------------+---------------------------+--------------+------------------------------+----------------+ | Ubuntu 24.04 | SKIPPED | SKIPPED | SKIPPED | PASS | +------------------------------+---------------------------+--------------+------------------------------+----------------+ | Ubuntu 22.04 | SKIPPED | SKIPPED | SKIPPED | PASS | +------------------------------+---------------------------+--------------+------------------------------+----------------+ | Fedora Linux 41 | SKIPPED | SKIPPED | SKIPPED | PASS | +------------------------------+---------------------------+--------------+------------------------------+----------------+ | Red Hat Enterprise Linux 9.5 | SKIPPED | SKIPPED | SKIPPED | PASS | +------------------------------+---------------------------+--------------+------------------------------+----------------+ Debian 12 (arm) Kernel: Depends on container host Compiler: gcc (Debian 12.2.0-14) 12.2.0 Ubuntu 20.04 Kernel: 5.4 Compiler: gcc gcc (Ubuntu 9.4.0-1ubuntu1~20.04.2) 9.4.0 CentOS Stream 9 Kernel: 5.4 Compiler: gcc gcc (GCC) 11.5.0 20240719 (Red Hat 11.5.0-7) CentOS Stream 10 Kernel: 5.4 Compiler: gcc gcc (GCC) 14.2.1 20250110 (Red Hat 14.2.1-8) Debian GNU/Linux 12 Kernel: 5.4 Compiler: gcc gcc (Debian 12.2.0-14+deb12u1) 12.2.0 Fedora Linux 40 Kernel: 5.4 Compiler: gcc gcc (GCC) 14.2.1 20240912 (Red Hat 14.2.1-3) Ubuntu 24.04 Kernel: 5.4 Compiler: gcc gcc (Ubuntu 13.3.0-6ubuntu2~24.04) 13.3.0 Ubuntu 22.04 Kernel: 5.4 Compiler: gcc gcc (Ubuntu 11.4.0-1ubuntu1~22.04) 11.4.0 Fedora Linux 41 Kernel: 5.4 Compiler: clang gcc (GCC) 14.3.1 20250523 (Red Hat 14.3.1-1) Red Hat Enterprise Linux 9.5 Kernel: 5.4 Compiler: gcc gcc (GCC) 11.5.0 20240719 (Red Hat 11.5.0-2) To view detailed results, visit: https://lab.dpdk.org/results/dashboard/patchsets/33599/ UNH-IOL DPDK Community Lab To manage your email subscriptions, visit: https://lab.dpdk.org/results/dashboard/preferences/subscriptions/