From mboxrd@z Thu Jan 1 00:00:00 1970 Return-Path: Received: from mails.dpdk.org (mails.dpdk.org [217.70.189.124]) by inbox.dpdk.org (Postfix) with ESMTP id 5C96446B0D for ; Sat, 5 Jul 2025 23:08:41 +0200 (CEST) Received: from mails.dpdk.org (localhost [127.0.0.1]) by mails.dpdk.org (Postfix) with ESMTP id 407F34025F; Sat, 5 Jul 2025 23:08:41 +0200 (CEST) Received: from mail-yw1-f226.google.com (mail-yw1-f226.google.com [209.85.128.226]) by mails.dpdk.org (Postfix) with ESMTP id 49EF24025F for ; Sat, 5 Jul 2025 23:08:39 +0200 (CEST) Received: by mail-yw1-f226.google.com with SMTP id 00721157ae682-70e3e0415a7so17780297b3.0 for ; Sat, 05 Jul 2025 14:08:39 -0700 (PDT) DKIM-Signature: v=1; a=rsa-sha256; c=relaxed/relaxed; d=iol.unh.edu; s=unh-iol; t=1751749718; x=1752354518; darn=dpdk.org; h=references:in-reply-to:cc:to:from:subject:message-id:date:from:to :cc:subject:date:message-id:reply-to; bh=+jQ08sR/AjsThfT+CjMH9We+Bg8YwY9Eeozy43cNeCc=; b=hXvXZJ/ip4sSDrSM9SOKAZTFydSMET1TuqOVCucYqDPkksuVSVkediFD7/g10nD5IY Okx75WojvrlFS3A0jWKZKoxtLxmCw1c/ZXK6jC4poQ6KhJwsFX9i0S9SuFfBXfCSx1Ed 4N4AKbmAsCATxAut7IIR3vJjrOnESu2VVnV3s= X-Google-DKIM-Signature: v=1; a=rsa-sha256; c=relaxed/relaxed; d=1e100.net; s=20230601; t=1751749718; x=1752354518; h=references:in-reply-to:cc:to:from:subject:message-id:date :x-gm-message-state:from:to:cc:subject:date:message-id:reply-to; bh=+jQ08sR/AjsThfT+CjMH9We+Bg8YwY9Eeozy43cNeCc=; b=thnt7GV5wBhuwDbdSxkHLlBPVWalcedMkkxdofC7CK3E3osPUaJG8L7/m3LQ8bhOBr t+acA8paZmVK07UC1aRGQZ5cN6O/vgyaJDk++Q8xp0R+IDW/zV6nh1fVVnTaxJp8Edig tBUrTLczooUx4epfHQw4fq7KbGwIlr7BZCJCqjhRmTaztflWzQsHv6RdHs7J9UTDLpAq +ZxdIR0Cn3qHa4KOuap0xUfw8fT7Gf4JG8JlLzT3x0J9FleUW1622jMpVE1DplHxkRyS faFoKjarXecDVbTBCNSsWGxKhE/7N8HERkABveYKnCWvCMaqNthnM2esL9Ycv9RqnxBc U4/A== X-Gm-Message-State: AOJu0YxhcuFpEUNciKqXjmgitU9UVaULMywNCgtKvqLyNdNyDLdepq+U Z6MBG2CqJYFikuk1GE6VxNXo19PkkF/fFcz8MwnKsWQMNgTciGWhXxwyDItpzviV7TzI2l0h8Fm MM1BNoH2Dv/x1fGgHLaOthXZnmpdHmuV5AKZYEOa5xkHG X-Gm-Gg: ASbGnct/SE2kX8nxshNdjfMtBjlDoPBLtLV5K7M8x3NuPwITg7iJUDUI3l0BzYensCF 0yLHOHml5jchK57KVPd9BTGYufiW+zJrMFhft1OmBCpI/DV1oug/zDp4Mv8hrPuItf/qexNyWZu XYsiIirb2N6HPuI16TlP7swwpgg+G/LkcN102OHIdMu0N57aykG8DHbWq1eONSltKNX1zomAvB/ K8kg7m4c6V1azXtg5lvY+qEa18IhxsSF42rVJDoCnjUkELz4MTTPcGUSVgwokBvSccIjdF599qY LfpYIKKLTwNMbRzHhL7KlUmW70FAWCyi+3TOZd59pnPCikSlLqiLNgzsWk5J5HNwD1bwow== X-Google-Smtp-Source: AGHT+IFyFaCriULzJe8XP2JCDshR4fqNfpv2/x48kymXyxa+bHib6OkVzFjDESkjBWYM7L3wfzZjCrVXPR8s X-Received: by 2002:a05:690c:4491:b0:70e:61b:afed with SMTP id 00721157ae682-71667e2423emr95160407b3.7.1751749718534; Sat, 05 Jul 2025 14:08:38 -0700 (PDT) Received: from postal.iol.unh.edu (postal.iol.unh.edu. [132.177.123.84]) by smtp-relay.gmail.com with ESMTPS id 00721157ae682-716659d0c61sm1565037b3.24.2025.07.05.14.08.38 (version=TLS1_2 cipher=ECDHE-ECDSA-AES128-GCM-SHA256 bits=128/128); Sat, 05 Jul 2025 14:08:38 -0700 (PDT) X-Relaying-Domain: iol.unh.edu Date: Sat, 05 Jul 2025 14:08:38 -0700 (PDT) Message-ID: <68699456.050a0220.c4b95.7f6cSMTPIN_ADDED_MISSING@mx.google.com> Received: from [172.21.0.7] (unknown [172.18.0.240]) by postal.iol.unh.edu (Postfix) with ESMTP id 315276051830; Sat, 5 Jul 2025 17:08:38 -0400 (EDT) Subject: |SUCCESS| pw155019 [PATCH] [v2] event/dlb2: add support for stop and From: dpdklab@iol.unh.edu To: Test Report Cc: dpdk-test-reports@iol.unh.edu In-Reply-To: <20250705184752.925174-1-pravin.pathak@intel.com> References: <20250705184752.925174-1-pravin.pathak@intel.com> Content-Type: text/plain X-BeenThere: test-report@dpdk.org X-Mailman-Version: 2.1.29 Precedence: list List-Id: automatic DPDK test reports List-Unsubscribe: , List-Archive: List-Post: List-Help: List-Subscribe: , Errors-To: test-report-bounces@dpdk.org Test-Label: iol-abi-testing Test-Status: SUCCESS http://dpdk.org/patch/155019 _Testing PASS_ Submitter: Pravin Pathak Date: Saturday, July 05 2025 18:47:52 DPDK git baseline: Repo:dpdk Branch: master CommitID:780a078533fe65635afefb9be8580853476676e5 155019 --> testing pass Upstream job id: Generic-DPDK-Compile-ABI#133230 Test environment and result as below: +-------------------------------+----------+ | Environment | abi_test | +===============================+==========+ | Debian GNU/Linux 12 | PASS | +-------------------------------+----------+ | CentOS Stream 9 | PASS | +-------------------------------+----------+ | CentOS Stream 10 | PASS | +-------------------------------+----------+ | Fedora Linux 40 | PASS | +-------------------------------+----------+ | Fedora Linux 41 | PASS | +-------------------------------+----------+ | Red Hat Enterprise Linux 8.10 | PASS | +-------------------------------+----------+ | Red Hat Enterprise Linux 9.5 | PASS | +-------------------------------+----------+ | Ubuntu 22.04 | PASS | +-------------------------------+----------+ | openSUSE Leap 15.6 | PASS | +-------------------------------+----------+ | Ubuntu 24.04 | PASS | +-------------------------------+----------+ Debian GNU/Linux 12 Kernel: 5.15 Compiler: gcc gcc (Debian 12.2.0-14+deb12u1) 12.2.0 CentOS Stream 9 Kernel: 5.15 Compiler: gcc gcc (GCC) 11.5.0 20240719 (Red Hat 11.5.0-7) CentOS Stream 10 Kernel: 5.15 Compiler: gcc gcc (GCC) 14.2.1 20250110 (Red Hat 14.2.1-8) Fedora Linux 40 Kernel: 5.15 Compiler: clang gcc (GCC) 14.2.1 20240912 (Red Hat 14.2.1-3) Fedora Linux 41 Kernel: 5.15 Compiler: gcc gcc (GCC) 14.3.1 20250523 (Red Hat 14.3.1-1) Red Hat Enterprise Linux 8.10 Kernel: 5.15 Compiler: gcc gcc (GCC) 8.5.0 20210514 (Red Hat 8.5.0-22) Red Hat Enterprise Linux 9.5 Kernel: 5.15 Compiler: gcc gcc (GCC) 11.5.0 20240719 (Red Hat 11.5.0-2) Ubuntu 22.04 Kernel: 5.15 Compiler: gcc gcc (Ubuntu 11.4.0-1ubuntu1~22.04) 11.4.0 openSUSE Leap 15.6 Kernel: 5.15 Compiler: gcc gcc (SUSE Linux) 7.5.0 Ubuntu 24.04 Kernel: 5.15 Compiler: gcc gcc (Ubuntu 13.3.0-6ubuntu2~24.04) 13.3.0 To view detailed results, visit: https://lab.dpdk.org/results/dashboard/patchsets/33599/ UNH-IOL DPDK Community Lab To manage your email subscriptions, visit: https://lab.dpdk.org/results/dashboard/preferences/subscriptions/