From mboxrd@z Thu Jan 1 00:00:00 1970 Return-Path: Received: from mails.dpdk.org (mails.dpdk.org [217.70.189.124]) by inbox.dpdk.org (Postfix) with ESMTP id 6A00346B0D for ; Sat, 5 Jul 2025 23:08:58 +0200 (CEST) Received: from mails.dpdk.org (localhost [127.0.0.1]) by mails.dpdk.org (Postfix) with ESMTP id 66AA14025F; Sat, 5 Jul 2025 23:08:58 +0200 (CEST) Received: from mail-yb1-f228.google.com (mail-yb1-f228.google.com [209.85.219.228]) by mails.dpdk.org (Postfix) with ESMTP id 693F64025F for ; Sat, 5 Jul 2025 23:08:57 +0200 (CEST) Received: by mail-yb1-f228.google.com with SMTP id 3f1490d57ef6-e81749142b3so1634395276.3 for ; Sat, 05 Jul 2025 14:08:57 -0700 (PDT) DKIM-Signature: v=1; a=rsa-sha256; c=relaxed/relaxed; d=iol.unh.edu; s=unh-iol; t=1751749737; x=1752354537; darn=dpdk.org; h=references:in-reply-to:cc:to:from:subject:message-id:date:from:to :cc:subject:date:message-id:reply-to; bh=kw8No6g/nK5E+vlg1wRPSPdJUIgny+52vfO9UCFw3os=; b=Q5wHfjFQv2Fayo5BcaKRnwqfsuV181eYqARieGgE7MbLvxD14IT8LV9Pfocg3Tqm29 DrIXslTF8PRkFRYHjK6rfQLpJLP6l3nJ9DU0Rge51uTUtITC+VcW/0H3+SYUJ5g6Kq60 0GuYA3WZTdtwXXDCq3AfpSURab9UfsvAsCUPk= X-Google-DKIM-Signature: v=1; a=rsa-sha256; c=relaxed/relaxed; d=1e100.net; s=20230601; t=1751749737; x=1752354537; h=references:in-reply-to:cc:to:from:subject:message-id:date :x-gm-message-state:from:to:cc:subject:date:message-id:reply-to; bh=kw8No6g/nK5E+vlg1wRPSPdJUIgny+52vfO9UCFw3os=; b=ZB/HJNm6eaDTShn+a+BbQnxyKpCs7AgQxH5MDxhG0JXW9wtBt4NRGrJKU4f9whITMX +c+ffkciJp6ZVvYlC2dpkiff7QONZAcpxEn7LN4lVhTaY/+ukmajd3M936URqqgNYE7X grVh6O/FeA82PHT4gf14i+AaRuRFCRbKSErpldWUIUu3c2yX5Oiym49tQaUfg6mZ6xxr you31mlFlcnbqP6o3+duPHLYHnhAROOe1cO9jhLk1dHxOq2Ylw+YwW7TzFpJva/MZrFw b5AY9ANTo83o4Wt/ck9aaUt6l7J3LIUeyMw45Vu25Oe4s67sRT7+v7PTJbClrpHK5SP1 fxFw== X-Gm-Message-State: AOJu0YzBZrYRoBpaHwpcYuFHdExYjfAbJ62rtI9jmU5WU82oVZgdD6JJ ZhUccsBQHRBN62bFUUkuiq1DGrQevQZqd9iYvRylrZru87n3JRgpXA2geREQK77ZztFDPH1p2q1 n33tCmuFjA3bqxmIPaJeIKQxEqnwFP1Etg4myxcaFAs8z X-Gm-Gg: ASbGncsRbWWQ8JvJNGXlJLqNW0VC3zVSUMqakp8VJQhypKqVJYG046SqEH1tq0MUdFu vE9NfqTUPH07N4/N4XPF5KfiAefZgkN0W3x9ttg2AyRzQleFiwTtJUlKuLi84oVOXVZ/TfaQjgS mZMQlMZW/qjLGZcJ+eGKKFkFPDqt8MvRJpj4WnKBttbiWaW/6cnLU2exqcVIfaK0QWqykoW2Ah+ SpC5YKC1BymZirG54GfpHAtqA0KNK5MwUZ4hN82HqIpWYXoSk6dWbDBl86T0DaCbxC/LKHn8pMk /nJvqPNnH+Ey3kcy24pGrlMukCVuzjLS/RtyMFFJ3hSKLohUIQUPg8SPqtCuanrdTj6T/A== X-Google-Smtp-Source: AGHT+IGKkMYSDIeUJG55qmEYjhQG4D8v3TijiVsFWIjquybiADGWhzD8CcLHafVIbXRf/r+jrmqS6kwJh78a X-Received: by 2002:a05:690c:4d83:b0:70c:b882:2e5 with SMTP id 00721157ae682-7176c9e8176mr42482627b3.2.1751749736802; Sat, 05 Jul 2025 14:08:56 -0700 (PDT) Received: from postal.iol.unh.edu (postal.iol.unh.edu. [132.177.123.84]) by smtp-relay.gmail.com with ESMTPS id 00721157ae682-716659cfc20sm1159457b3.17.2025.07.05.14.08.56 (version=TLS1_2 cipher=ECDHE-ECDSA-AES128-GCM-SHA256 bits=128/128); Sat, 05 Jul 2025 14:08:56 -0700 (PDT) X-Relaying-Domain: iol.unh.edu Date: Sat, 05 Jul 2025 14:08:56 -0700 (PDT) Message-ID: <68699468.050a0220.12eb5a.6189SMTPIN_ADDED_MISSING@mx.google.com> Received: from [172.21.0.5] (unknown [172.18.0.240]) by postal.iol.unh.edu (Postfix) with ESMTP id 778636051830; Sat, 5 Jul 2025 17:08:56 -0400 (EDT) Subject: |SUCCESS| pw155019 [PATCH] [v2] event/dlb2: add support for stop and From: dpdklab@iol.unh.edu To: Test Report Cc: dpdk-test-reports@iol.unh.edu In-Reply-To: <20250705184752.925174-1-pravin.pathak@intel.com> References: <20250705184752.925174-1-pravin.pathak@intel.com> Content-Type: text/plain X-BeenThere: test-report@dpdk.org X-Mailman-Version: 2.1.29 Precedence: list List-Id: automatic DPDK test reports List-Unsubscribe: , List-Archive: List-Post: List-Help: List-Subscribe: , Errors-To: test-report-bounces@dpdk.org Test-Label: iol-abi-testing Test-Status: SUCCESS http://dpdk.org/patch/155019 _Testing PASS_ Submitter: Pravin Pathak Date: Saturday, July 05 2025 18:47:52 DPDK git baseline: Repo:dpdk Branch: master CommitID:780a078533fe65635afefb9be8580853476676e5 155019 --> testing pass Upstream job id: Generic-DPDK-Compile-ABI#133232 Test environment and result as below: +-------------------------------+----------+ | Environment | abi_test | +===============================+==========+ | Debian GNU/Linux 12 | PASS | +-------------------------------+----------+ | CentOS Stream 9 | PASS | +-------------------------------+----------+ | CentOS Stream 10 | PASS | +-------------------------------+----------+ | Fedora Linux 40 | PASS | +-------------------------------+----------+ | Fedora Linux 41 | PASS | +-------------------------------+----------+ | Red Hat Enterprise Linux 8.10 | PASS | +-------------------------------+----------+ | Red Hat Enterprise Linux 9.5 | PASS | +-------------------------------+----------+ | Ubuntu 22.04 | PASS | +-------------------------------+----------+ | openSUSE Leap 15.6 | PASS | +-------------------------------+----------+ | Ubuntu 24.04 | PASS | +-------------------------------+----------+ Debian GNU/Linux 12 Kernel: 5.15 Compiler: gcc gcc (Debian 12.2.0-14+deb12u1) 12.2.0 CentOS Stream 9 Kernel: 5.15 Compiler: gcc gcc (GCC) 11.5.0 20240719 (Red Hat 11.5.0-7) CentOS Stream 10 Kernel: 5.15 Compiler: gcc gcc (GCC) 14.2.1 20250110 (Red Hat 14.2.1-8) Fedora Linux 40 Kernel: 5.15 Compiler: clang gcc (GCC) 14.2.1 20240912 (Red Hat 14.2.1-3) Fedora Linux 41 Kernel: 5.15 Compiler: gcc gcc (GCC) 14.3.1 20250523 (Red Hat 14.3.1-1) Red Hat Enterprise Linux 8.10 Kernel: 5.15 Compiler: gcc gcc (GCC) 8.5.0 20210514 (Red Hat 8.5.0-22) Red Hat Enterprise Linux 9.5 Kernel: 5.15 Compiler: gcc gcc (GCC) 11.5.0 20240719 (Red Hat 11.5.0-2) Ubuntu 22.04 Kernel: 5.15 Compiler: gcc gcc (Ubuntu 11.4.0-1ubuntu1~22.04) 11.4.0 openSUSE Leap 15.6 Kernel: 5.15 Compiler: gcc gcc (SUSE Linux) 7.5.0 Ubuntu 24.04 Kernel: 5.15 Compiler: gcc gcc (Ubuntu 13.3.0-6ubuntu2~24.04) 13.3.0 To view detailed results, visit: https://lab.dpdk.org/results/dashboard/patchsets/33599/ UNH-IOL DPDK Community Lab To manage your email subscriptions, visit: https://lab.dpdk.org/results/dashboard/preferences/subscriptions/