From mboxrd@z Thu Jan 1 00:00:00 1970 Return-Path: Received: from mails.dpdk.org (mails.dpdk.org [217.70.189.124]) by inbox.dpdk.org (Postfix) with ESMTP id 9937746B0D for ; Sat, 5 Jul 2025 23:10:33 +0200 (CEST) Received: from mails.dpdk.org (localhost [127.0.0.1]) by mails.dpdk.org (Postfix) with ESMTP id 946094025F; Sat, 5 Jul 2025 23:10:33 +0200 (CEST) Received: from mail-io1-f97.google.com (mail-io1-f97.google.com [209.85.166.97]) by mails.dpdk.org (Postfix) with ESMTP id 79FCC4025F for ; Sat, 5 Jul 2025 23:10:32 +0200 (CEST) Received: by mail-io1-f97.google.com with SMTP id ca18e2360f4ac-8723a232750so213886639f.1 for ; Sat, 05 Jul 2025 14:10:32 -0700 (PDT) DKIM-Signature: v=1; a=rsa-sha256; c=relaxed/relaxed; d=iol.unh.edu; s=unh-iol; t=1751749832; x=1752354632; darn=dpdk.org; h=references:in-reply-to:cc:to:from:subject:message-id:date:from:to :cc:subject:date:message-id:reply-to; bh=ud8CWZ+cJ8/BQcPUm1KyIhyQZ/0Ajc8A390yJeQGCfU=; b=Ra0xTdAEZx7LiHZ1OFRI8onS2TkdSY0S9zIm55ma0Th8UNCzrZT63HyVXYASyEFdPD OWMHPJem1cyckjvwL0y8SjPmANyNhlGzsGKgaahuKLGyDmNGehKTl68TjOkBodgYaPJN ZCH1koY+30UTjVogbmYt+fqleIGjlm63f22tU= X-Google-DKIM-Signature: v=1; a=rsa-sha256; c=relaxed/relaxed; d=1e100.net; s=20230601; t=1751749832; x=1752354632; h=references:in-reply-to:cc:to:from:subject:message-id:date :x-gm-message-state:from:to:cc:subject:date:message-id:reply-to; bh=ud8CWZ+cJ8/BQcPUm1KyIhyQZ/0Ajc8A390yJeQGCfU=; b=T17Y0qVXQ482bF7LLoY3XfQTQDU28t/dnfQA2IDuXmysi7H0EvjCLXpzwXy42uUtZB PUdM3zSZSNCfbanNtzTCz3ifgnEb8lqKEOfNCFVSR7WekWL4RrulGdl3WA/Y6r9/UKA0 KBHlqD34YCkfK6nrPYAQTBwDoetWkfdxhYH8MIkXeS0pjXNhYab+3QEiOF3oWvdrBa3e b3tAnR8ETnzFGPXjT+2/2/R3uYW2GNBfHeu/0AZG4k4XkN91HFn0mBUN37yZsjRNTAp0 nAUPyfeQmETZoUNwhZg1tQ1bohjDklhXtpPEcNqkWWpM9zNBqWUyHy2lXu78U6KPByHf Sq/g== X-Gm-Message-State: AOJu0Yy6XjwSCeGgpDucWFL3EkpXR2hqYKtlRaw9gleFjdzQcG0vZBns 4ROucG60xuJ2tNPTqd8s+1rT4G/C/aFopDSBti5ClUTyqdZVkeFFTesVerAOIVsRQcLEy/o2KYO LgaxoCMZbH+VkaDWV92RYTtj+b1DNWc43IKoYrHXnnpfJ X-Gm-Gg: ASbGncvrYk3qj/jtLiO83/eY5+npoY1fCPGfY5quEK3sgiLu/0FA9odrh69orIl+z5g YssVKYRCqByUeq492GYy1MzxHx06X/I2mLc7gfsUgk1VAfpPlE+g3iDTC4qpaNEEZUzE2AWXsRz KWfJv2f0XVPbgk/IIfI2l1BiuALLlAjdKYUZBtXFE2dx76pRc16spd0vnXPwyfnnfpTRElxsDQC RsuIMyOZ8JDHihOtROfVAwmE84TQw345i91lB16x3BVVPnHLFTXo0JZuM6HLECe6abCgjwTZpUk fOtaPEDJ0mPjwIlNHVLZ3PJX0A1s30h/pHn4hKeNJUD4j6x5V6l9ee0XA1RkXHafFqt3UA== X-Google-Smtp-Source: AGHT+IEIHdl0t73GFSb2dOldFf79PXzpUJyQWOfiYx4ceLifxRy7YtSUszEAT55jhnFxVz7hEQlTlmlDQt0e X-Received: by 2002:a05:6e02:2781:b0:3dd:c40d:787e with SMTP id e9e14a558f8ab-3e13545e526mr72428165ab.2.1751749831850; Sat, 05 Jul 2025 14:10:31 -0700 (PDT) Received: from postal.iol.unh.edu (postal.iol.unh.edu. [132.177.123.84]) by smtp-relay.gmail.com with ESMTPS id e9e14a558f8ab-3e0fe2211e1sm2923625ab.53.2025.07.05.14.10.31 (version=TLS1_2 cipher=ECDHE-ECDSA-AES128-GCM-SHA256 bits=128/128); Sat, 05 Jul 2025 14:10:31 -0700 (PDT) X-Relaying-Domain: iol.unh.edu Date: Sat, 05 Jul 2025 14:10:31 -0700 (PDT) Message-ID: <686994c7.050a0220.138641.faa3SMTPIN_ADDED_MISSING@mx.google.com> Received: from [172.21.0.7] (unknown [172.18.0.240]) by postal.iol.unh.edu (Postfix) with ESMTP id C6DB66051830; Sat, 5 Jul 2025 17:10:30 -0400 (EDT) Subject: |WARNING| pw155019 [PATCH] [v2] event/dlb2: add support for stop and From: dpdklab@iol.unh.edu To: Test Report Cc: dpdk-test-reports@iol.unh.edu In-Reply-To: <20250705184752.925174-1-pravin.pathak@intel.com> References: <20250705184752.925174-1-pravin.pathak@intel.com> Content-Type: text/plain X-BeenThere: test-report@dpdk.org X-Mailman-Version: 2.1.29 Precedence: list List-Id: automatic DPDK test reports List-Unsubscribe: , List-Archive: List-Post: List-Help: List-Subscribe: , Errors-To: test-report-bounces@dpdk.org Test-Label: iol-compile-amd64-testing Test-Status: WARNING http://dpdk.org/patch/155019 _Testing issues_ Submitter: Pravin Pathak Date: Saturday, July 05 2025 18:47:52 DPDK git baseline: Repo:dpdk Branch: master CommitID:780a078533fe65635afefb9be8580853476676e5 155019 --> testing issues Upstream job id: Generic-DPDK-Compile-Meson#405838 Test environment and result as below: +-------------------------------+--------------------+-------------------+------------------+-------------------------+-------------------+----------------------+ | Environment | dpdk_meson_compile | dpdk_compile_spdk | dpdk_compile_ovs | dpdk_llvm_clang_compile | dpdk_msvc_compile | dpdk_mingw64_compile | +===============================+====================+===================+==================+=========================+===================+======================+ | Fedora Linux 40 | PASS | PASS | SKIPPED | SKIPPED | SKIPPED | SKIPPED | +-------------------------------+--------------------+-------------------+------------------+-------------------------+-------------------+----------------------+ | Red Hat Enterprise Linux 9.5 | PASS | SKIPPED | SKIPPED | SKIPPED | SKIPPED | SKIPPED | +-------------------------------+--------------------+-------------------+------------------+-------------------------+-------------------+----------------------+ | CentOS Stream 9 | PASS | PASS | SKIPPED | SKIPPED | SKIPPED | SKIPPED | +-------------------------------+--------------------+-------------------+------------------+-------------------------+-------------------+----------------------+ | Debian GNU/Linux 12 | PASS | PASS | SKIPPED | SKIPPED | SKIPPED | SKIPPED | +-------------------------------+--------------------+-------------------+------------------+-------------------------+-------------------+----------------------+ | Fedora Linux 41 | PASS | PASS | PASS | SKIPPED | SKIPPED | SKIPPED | +-------------------------------+--------------------+-------------------+------------------+-------------------------+-------------------+----------------------+ | openSUSE Leap 15.6 | PASS | SKIPPED | SKIPPED | SKIPPED | SKIPPED | SKIPPED | +-------------------------------+--------------------+-------------------+------------------+-------------------------+-------------------+----------------------+ | Ubuntu 22.04 | PASS | PASS | SKIPPED | SKIPPED | SKIPPED | SKIPPED | +-------------------------------+--------------------+-------------------+------------------+-------------------------+-------------------+----------------------+ | Ubuntu 24.04 | PASS | PASS | PASS | SKIPPED | SKIPPED | SKIPPED | +-------------------------------+--------------------+-------------------+------------------+-------------------------+-------------------+----------------------+ | Alpine Linux 3.22.0 | PASS | SKIPPED | SKIPPED | SKIPPED | SKIPPED | SKIPPED | +-------------------------------+--------------------+-------------------+------------------+-------------------------+-------------------+----------------------+ | Ubuntu 20.04 | PASS | SKIPPED | SKIPPED | SKIPPED | SKIPPED | SKIPPED | +-------------------------------+--------------------+-------------------+------------------+-------------------------+-------------------+----------------------+ | CentOS Stream 10 | PASS | SKIPPED | SKIPPED | SKIPPED | SKIPPED | SKIPPED | +-------------------------------+--------------------+-------------------+------------------+-------------------------+-------------------+----------------------+ | Red Hat Enterprise Linux 8.10 | PASS | SKIPPED | SKIPPED | SKIPPED | SKIPPED | SKIPPED | +-------------------------------+--------------------+-------------------+------------------+-------------------------+-------------------+----------------------+ | Windows Server 2022 | SKIPPED | SKIPPED | SKIPPED | PASS | PASS | PASS | +-------------------------------+--------------------+-------------------+------------------+-------------------------+-------------------+----------------------+ Fedora Linux 40 Kernel: 5.15 Compiler: clang gcc (GCC) 14.2.1 20240912 (Red Hat 14.2.1-3) Red Hat Enterprise Linux 9.5 Kernel: 5.15 Compiler: gcc gcc (GCC) 11.5.0 20240719 (Red Hat 11.5.0-2) CentOS Stream 9 Kernel: 5.15 Compiler: gcc gcc (GCC) 11.5.0 20240719 (Red Hat 11.5.0-7) Debian GNU/Linux 12 Kernel: 5.15 Compiler: gcc gcc (Debian 12.2.0-14+deb12u1) 12.2.0 Fedora Linux 41 Kernel: 5.15 Compiler: clang gcc (GCC) 14.3.1 20250523 (Red Hat 14.3.1-1) openSUSE Leap 15.6 Kernel: 5.15 Compiler: gcc gcc (SUSE Linux) 7.5.0 Ubuntu 22.04 Kernel: 5.15 Compiler: gcc gcc (Ubuntu 11.4.0-1ubuntu1~22.04) 11.4.0 Ubuntu 24.04 Kernel: 5.15 Compiler: gcc gcc (Ubuntu 13.3.0-6ubuntu2~24.04) 13.3.0 Alpine Linux 3.22.0 Kernel: 5.15 Compiler: gcc gcc (Alpine 14.2.0) 14.2.0 Ubuntu 20.04 Kernel: 5.15 Compiler: gcc gcc (Ubuntu 9.4.0-1ubuntu1~20.04.2) 9.4.0 CentOS Stream 10 Kernel: 5.15 Compiler: gcc gcc (GCC) 14.2.1 20250110 (Red Hat 14.2.1-8) Red Hat Enterprise Linux 8.10 Kernel: 5.15 Compiler: gcc gcc (GCC) 8.5.0 20210514 (Red Hat 8.5.0-22) Windows Server 2022 Kernel: 10.0.20348.2031 Compiler: clang 15.0.7, gcc 14.1.0 (MinGW), and MSVC VS 19.39.33521 To view detailed results, visit: https://lab.dpdk.org/results/dashboard/patchsets/33599/ UNH-IOL DPDK Community Lab To manage your email subscriptions, visit: https://lab.dpdk.org/results/dashboard/preferences/subscriptions/