From mboxrd@z Thu Jan 1 00:00:00 1970 Return-Path: Received: from mails.dpdk.org (mails.dpdk.org [217.70.189.124]) by inbox.dpdk.org (Postfix) with ESMTP id AC61A46B0D for ; Sat, 5 Jul 2025 23:11:04 +0200 (CEST) Received: from mails.dpdk.org (localhost [127.0.0.1]) by mails.dpdk.org (Postfix) with ESMTP id A89CC4025F; Sat, 5 Jul 2025 23:11:04 +0200 (CEST) Received: from mail-qv1-f100.google.com (mail-qv1-f100.google.com [209.85.219.100]) by mails.dpdk.org (Postfix) with ESMTP id B35554025F for ; Sat, 5 Jul 2025 23:11:03 +0200 (CEST) Received: by mail-qv1-f100.google.com with SMTP id 6a1803df08f44-700c7e4c048so38946916d6.3 for ; Sat, 05 Jul 2025 14:11:03 -0700 (PDT) DKIM-Signature: v=1; a=rsa-sha256; c=relaxed/relaxed; d=iol.unh.edu; s=unh-iol; t=1751749863; x=1752354663; darn=dpdk.org; h=references:in-reply-to:cc:to:from:subject:message-id:date:from:to :cc:subject:date:message-id:reply-to; bh=gIRdNiyZqpi2KutEJYyabqk9a+HAYPFUcUSrK5olm2s=; b=Ek9fNf+3oE815LTROdhzOBXA3YDkQDr9gxKD+QEk7AUS9u1VnQ7/a5uDODRpq2QyJg Ujce2rAg4LDEcxmwymgSzTVXQWYkoVnQ4bg74EWC6N8hqUQm5O9AmOKKhHow5REzAE1h Q71uPNG/b7CuXpz6cu0wwj/aEXnAP1assZ8bc= X-Google-DKIM-Signature: v=1; a=rsa-sha256; c=relaxed/relaxed; d=1e100.net; s=20230601; t=1751749863; x=1752354663; h=references:in-reply-to:cc:to:from:subject:message-id:date :x-gm-message-state:from:to:cc:subject:date:message-id:reply-to; bh=gIRdNiyZqpi2KutEJYyabqk9a+HAYPFUcUSrK5olm2s=; b=NvYNtuAFJEKbRQEa+8l417Tw05i6PeE2tksE1kxj/0EcGgGFGGnx+d3L8yw+cTm3Xc gDuonmOW5pgeQcPyVeDZHjeMZHMYshdOnAZ7jtIfzPEsJsMderUhMAb6pmWPW7V/KZ6k FQb5Irw0U+1u0eq335fakXzVZ1SrQvNzm1I/U+IzHV6P5lkxpZEkDItH0vmDQt8uzhEY avoIU1aC+pdXKEonIgfjdSfcZsytMfwKdcdAKw4L91sXiUu38Ros01K/Yb2zmYgo3HUV 8d3diCLMMn+jnHB2WrWR5SojuEXbVL0HeS3v0FCLIbStzn7io3Z+YUr0x6RPNot++Ptt 11iQ== X-Gm-Message-State: AOJu0YxP3fzOdRz/mi6x++nN5jvmkxwQE5WQ/JFcOSYRDvZFThX6tz0f hZrz9KU6KIKmyNg754LKLUF3b2mivADyOxXIXc9/xPqRtxHDFx+T+N6yu/5xf0j7w8ALqNTc/Nu ldIEpz1BIbWHjAbD0meMP9lcp7pMPY2QIwkmvystOudblKNKcjM6bsnYBvW7F X-Gm-Gg: ASbGncuR1n8Z0a1xyjkZ1t2sIY1Zs4A3cDv2a+rJS5Zkou++gagux3Moc0weY8elkvL JWMXAScTzQCPNPHTakYJSbCdNR4oZxGtq7NR+Sh6msJczsw8bfcbKWK0VvkD3t4INurYspGnbcb /f7UDLQb20c/8x5ecbHIu+51XYWwZOyuvTkBiSXwpcbOcXOuwhdTloj6Lhqo9h8K+tWslaYw/a5 3serTSMNXZqPkvT03Pn9yONhNr8NhunRD185rVTcIYLFuilHbabZUZlkuVo6MjrEn4+XB0WZhkI KLh+UfWqY4vPijpUNxTorlMFT/wWCWffb5tpJ9XEaM0wiOI= X-Google-Smtp-Source: AGHT+IE0qmkgEEiPcX4udF73nqkfV9NxbUZQ8CahqQJd33ssR/Bm1MkjbK7abl6jh+r+wLgiJMFkkeX5hbw9 X-Received: by 2002:a05:6214:4ec6:b0:702:d3c8:5cc5 with SMTP id 6a1803df08f44-702d3c85d53mr28714976d6.42.1751749863109; Sat, 05 Jul 2025 14:11:03 -0700 (PDT) Received: from postal.iol.unh.edu (postal.iol.unh.edu. [2606:4100:3880:1234::84]) by smtp-relay.gmail.com with ESMTPS id 6a1803df08f44-702c4cc9e2dsm2210426d6.15.2025.07.05.14.11.02 (version=TLS1_2 cipher=ECDHE-ECDSA-AES128-GCM-SHA256 bits=128/128); Sat, 05 Jul 2025 14:11:03 -0700 (PDT) X-Relaying-Domain: iol.unh.edu Date: Sat, 05 Jul 2025 14:11:03 -0700 (PDT) Message-ID: <686994e7.050a0220.2d1800.b753SMTPIN_ADDED_MISSING@mx.google.com> Received: from [172.21.0.12] (unknown [172.18.0.240]) by postal.iol.unh.edu (Postfix) with ESMTP id C4A006051830; Sat, 5 Jul 2025 17:11:02 -0400 (EDT) Subject: |WARNING| pw155019 [PATCH] [v2] event/dlb2: add support for stop and From: dpdklab@iol.unh.edu To: Test Report Cc: dpdk-test-reports@iol.unh.edu In-Reply-To: <20250705184752.925174-1-pravin.pathak@intel.com> References: <20250705184752.925174-1-pravin.pathak@intel.com> Content-Type: text/plain X-BeenThere: test-report@dpdk.org X-Mailman-Version: 2.1.29 Precedence: list List-Id: automatic DPDK test reports List-Unsubscribe: , List-Archive: List-Post: List-Help: List-Subscribe: , Errors-To: test-report-bounces@dpdk.org Test-Label: iol-compile-amd64-testing Test-Status: WARNING http://dpdk.org/patch/155019 _Testing issues_ Submitter: Pravin Pathak Date: Saturday, July 05 2025 18:47:52 DPDK git baseline: Repo:dpdk Branch: master CommitID:780a078533fe65635afefb9be8580853476676e5 155019 --> testing issues Upstream job id: Generic-DPDK-Compile-Meson#405846 Test environment and result as below: +-------------------------------+--------------------+-------------------+------------------+-------------------------+-------------------+----------------------+ | Environment | dpdk_meson_compile | dpdk_compile_spdk | dpdk_compile_ovs | dpdk_llvm_clang_compile | dpdk_msvc_compile | dpdk_mingw64_compile | +===============================+====================+===================+==================+=========================+===================+======================+ | Fedora Linux 40 | PASS | PASS | SKIPPED | SKIPPED | SKIPPED | SKIPPED | +-------------------------------+--------------------+-------------------+------------------+-------------------------+-------------------+----------------------+ | Red Hat Enterprise Linux 9.5 | PASS | SKIPPED | SKIPPED | SKIPPED | SKIPPED | SKIPPED | +-------------------------------+--------------------+-------------------+------------------+-------------------------+-------------------+----------------------+ | CentOS Stream 9 | PASS | PASS | SKIPPED | SKIPPED | SKIPPED | SKIPPED | +-------------------------------+--------------------+-------------------+------------------+-------------------------+-------------------+----------------------+ | Debian GNU/Linux 12 | PASS | PASS | SKIPPED | SKIPPED | SKIPPED | SKIPPED | +-------------------------------+--------------------+-------------------+------------------+-------------------------+-------------------+----------------------+ | Fedora Linux 41 | PASS | PASS | PASS | SKIPPED | SKIPPED | SKIPPED | +-------------------------------+--------------------+-------------------+------------------+-------------------------+-------------------+----------------------+ | openSUSE Leap 15.6 | PASS | SKIPPED | SKIPPED | SKIPPED | SKIPPED | SKIPPED | +-------------------------------+--------------------+-------------------+------------------+-------------------------+-------------------+----------------------+ | Ubuntu 22.04 | PASS | PASS | SKIPPED | SKIPPED | SKIPPED | SKIPPED | +-------------------------------+--------------------+-------------------+------------------+-------------------------+-------------------+----------------------+ | Ubuntu 24.04 | PASS | PASS | PASS | SKIPPED | SKIPPED | SKIPPED | +-------------------------------+--------------------+-------------------+------------------+-------------------------+-------------------+----------------------+ | Alpine Linux 3.22.0 | PASS | SKIPPED | SKIPPED | SKIPPED | SKIPPED | SKIPPED | +-------------------------------+--------------------+-------------------+------------------+-------------------------+-------------------+----------------------+ | Ubuntu 20.04 | PASS | SKIPPED | SKIPPED | SKIPPED | SKIPPED | SKIPPED | +-------------------------------+--------------------+-------------------+------------------+-------------------------+-------------------+----------------------+ | CentOS Stream 10 | PASS | SKIPPED | SKIPPED | SKIPPED | SKIPPED | SKIPPED | +-------------------------------+--------------------+-------------------+------------------+-------------------------+-------------------+----------------------+ | Red Hat Enterprise Linux 8.10 | PASS | SKIPPED | SKIPPED | SKIPPED | SKIPPED | SKIPPED | +-------------------------------+--------------------+-------------------+------------------+-------------------------+-------------------+----------------------+ | Windows Server 2022 | SKIPPED | SKIPPED | SKIPPED | PASS | PASS | PASS | +-------------------------------+--------------------+-------------------+------------------+-------------------------+-------------------+----------------------+ Fedora Linux 40 Kernel: 5.15 Compiler: clang gcc (GCC) 14.2.1 20240912 (Red Hat 14.2.1-3) Red Hat Enterprise Linux 9.5 Kernel: 5.15 Compiler: gcc gcc (GCC) 11.5.0 20240719 (Red Hat 11.5.0-2) CentOS Stream 9 Kernel: 5.15 Compiler: gcc gcc (GCC) 11.5.0 20240719 (Red Hat 11.5.0-7) Debian GNU/Linux 12 Kernel: 5.15 Compiler: gcc gcc (Debian 12.2.0-14+deb12u1) 12.2.0 Fedora Linux 41 Kernel: 5.15 Compiler: clang gcc (GCC) 14.3.1 20250523 (Red Hat 14.3.1-1) openSUSE Leap 15.6 Kernel: 5.15 Compiler: gcc gcc (SUSE Linux) 7.5.0 Ubuntu 22.04 Kernel: 5.15 Compiler: gcc gcc (Ubuntu 11.4.0-1ubuntu1~22.04) 11.4.0 Ubuntu 24.04 Kernel: 5.15 Compiler: gcc gcc (Ubuntu 13.3.0-6ubuntu2~24.04) 13.3.0 Alpine Linux 3.22.0 Kernel: 5.15 Compiler: gcc gcc (Alpine 14.2.0) 14.2.0 Ubuntu 20.04 Kernel: 5.15 Compiler: gcc gcc (Ubuntu 9.4.0-1ubuntu1~20.04.2) 9.4.0 CentOS Stream 10 Kernel: 5.15 Compiler: gcc gcc (GCC) 14.2.1 20250110 (Red Hat 14.2.1-8) Red Hat Enterprise Linux 8.10 Kernel: 5.15 Compiler: gcc gcc (GCC) 8.5.0 20210514 (Red Hat 8.5.0-22) Windows Server 2022 Kernel: 10.0.20348.2031 Compiler: clang 15.0.7, gcc 14.1.0 (MinGW), and MSVC VS 19.39.33521 To view detailed results, visit: https://lab.dpdk.org/results/dashboard/patchsets/33599/ UNH-IOL DPDK Community Lab To manage your email subscriptions, visit: https://lab.dpdk.org/results/dashboard/preferences/subscriptions/