From mboxrd@z Thu Jan 1 00:00:00 1970 Return-Path: Received: from mails.dpdk.org (mails.dpdk.org [217.70.189.124]) by inbox.dpdk.org (Postfix) with ESMTP id C057846B0D for ; Sat, 5 Jul 2025 23:11:30 +0200 (CEST) Received: from mails.dpdk.org (localhost [127.0.0.1]) by mails.dpdk.org (Postfix) with ESMTP id BB41B4025F; Sat, 5 Jul 2025 23:11:30 +0200 (CEST) Received: from mail-pg1-f228.google.com (mail-pg1-f228.google.com [209.85.215.228]) by mails.dpdk.org (Postfix) with ESMTP id 626124025F for ; Sat, 5 Jul 2025 23:11:30 +0200 (CEST) Received: by mail-pg1-f228.google.com with SMTP id 41be03b00d2f7-b3508961d43so1383054a12.3 for ; Sat, 05 Jul 2025 14:11:30 -0700 (PDT) DKIM-Signature: v=1; a=rsa-sha256; c=relaxed/relaxed; d=iol.unh.edu; s=unh-iol; t=1751749889; x=1752354689; darn=dpdk.org; h=references:in-reply-to:cc:to:from:subject:message-id:date:from:to :cc:subject:date:message-id:reply-to; bh=VCP6hGrns1Xz+hGWZnfuVbrCwU0Pe60D41QkGlxhXe8=; b=aRi7ic6oflX8FWdIJMnAQe2vs3P1VCLQiDHCundXfWoO5xJufyvzl0y+nwkc0Ou2oK NRlsiplk8C4Fmg409LwRlMwdBWlqxcNmpzuZW7JgPUlhPoddY0cBo/YGX8JUP/fdh73O d7GUXNPzacUqouPs/foJ0sYNroIjUbwE85ksY= X-Google-DKIM-Signature: v=1; a=rsa-sha256; c=relaxed/relaxed; d=1e100.net; s=20230601; t=1751749889; x=1752354689; h=references:in-reply-to:cc:to:from:subject:message-id:date :x-gm-message-state:from:to:cc:subject:date:message-id:reply-to; bh=VCP6hGrns1Xz+hGWZnfuVbrCwU0Pe60D41QkGlxhXe8=; b=fUh6rsFAkG23BaYuoRuZ/ASv9PrmOmEpZ1LLczqdGa0PwZBZtVjD3sJca/60gu02zX 2N7N9twNCWXnV2PGiKZxvgf38ya9g5dcGADsJKvQ0DnhhBdeVYWF3J23yB8AUmcWk4sb GtI21FNKpX9nVZg6oV67LqDCuMUm+YMC5mz451RGOh8uPqccccSdFYP/FuvOnwAghK/H HUKyddDJBFWqRBq44CFXof9XkJzx++zTnyKqNA4s0uFmjNYYWRZWLFpw+USpD0cLRAz9 X/ljQVWZBNRwyEGLOmCnND8aLY9K5A6YM+eM4sUVUZyp92SxPURP+MLijx9kmuzduNFK 8Rmg== X-Gm-Message-State: AOJu0YwsJ0EHksVjV+KHkFjk2VT6NWuDEPp10kf6w/2wevNWO3Jg+u+K pqDDZyg83Wtej/3sEx5yxyTZ3yop+QeNv6kxKoA6k+NkvA3lMJriSi13rJumIqGlDBdl3HB33Cd JOVdIyNCRrcxLeOg/y0JRabsppSJ5OTBEEFq0rGq55VJD X-Gm-Gg: ASbGncs7/c4PtVpp12kH2UkamobqKirwOjAXPWIOPW2BbEXyFz075D9ML5Nk/abqAzY 5JD4Ue/Zb29obZfdFgWeZOCd3lcvH20OZcRaAPie7cNlwym3L3OkfnAM++FB/2s3Vj7H4UeDAqz G7GRwh8lFC4r4ZATZXL2UJ22YkJqpx9MR4FtKj1Wjs5/IKppe+Zft0xXtgg58q0XiTI2MCkxgWW 7KthxOMFIA2vM+RB3h+DI8z0HycVRnnvyPOjH6/lOqLGesiQ5KLBq9pWClvrHQU2aHG2sBy+xWL g3F+vr+hIQNxbIzRFHbRQbxzdSzqHfx45fBkHOBq2E7b+BQZgHkGZPkRPDR079NoCGa3zw== X-Google-Smtp-Source: AGHT+IFJ0P+2QwREbWbB/UeoYyDMAxO7DpLXYOnuhXVBnpyqzRJ0tjreZiJQ61ItwMioqaq4vpGkeskozW4w X-Received: by 2002:a17:90b:4b05:b0:312:25dd:1c86 with SMTP id 98e67ed59e1d1-31aba8c0506mr5925708a91.18.1751749889422; Sat, 05 Jul 2025 14:11:29 -0700 (PDT) Received: from postal.iol.unh.edu (postal.iol.unh.edu. [132.177.123.84]) by smtp-relay.gmail.com with ESMTPS id d9443c01a7336-23c8430e4b1sm2345885ad.54.2025.07.05.14.11.29 (version=TLS1_2 cipher=ECDHE-ECDSA-AES128-GCM-SHA256 bits=128/128); Sat, 05 Jul 2025 14:11:29 -0700 (PDT) X-Relaying-Domain: iol.unh.edu Date: Sat, 05 Jul 2025 14:11:29 -0700 (PDT) Message-ID: <68699501.170a0220.236cb7.c35bSMTPIN_ADDED_MISSING@mx.google.com> Received: from [172.21.0.8] (unknown [172.18.0.240]) by postal.iol.unh.edu (Postfix) with ESMTP id 988716051830; Sat, 5 Jul 2025 17:11:28 -0400 (EDT) Subject: |WARNING| pw155019 [PATCH] [v2] event/dlb2: add support for stop and From: dpdklab@iol.unh.edu To: Test Report Cc: dpdk-test-reports@iol.unh.edu In-Reply-To: <20250705184752.925174-1-pravin.pathak@intel.com> References: <20250705184752.925174-1-pravin.pathak@intel.com> Content-Type: text/plain X-BeenThere: test-report@dpdk.org X-Mailman-Version: 2.1.29 Precedence: list List-Id: automatic DPDK test reports List-Unsubscribe: , List-Archive: List-Post: List-Help: List-Subscribe: , Errors-To: test-report-bounces@dpdk.org Test-Label: iol-compile-amd64-testing Test-Status: WARNING http://dpdk.org/patch/155019 _Testing issues_ Submitter: Pravin Pathak Date: Saturday, July 05 2025 18:47:52 DPDK git baseline: Repo:dpdk Branch: master CommitID:780a078533fe65635afefb9be8580853476676e5 155019 --> testing issues Upstream job id: Generic-DPDK-Compile-Meson#405840 Test environment and result as below: +-------------------------------+--------------------+-------------------+------------------+-------------------------+-------------------+----------------------+ | Environment | dpdk_meson_compile | dpdk_compile_spdk | dpdk_compile_ovs | dpdk_llvm_clang_compile | dpdk_msvc_compile | dpdk_mingw64_compile | +===============================+====================+===================+==================+=========================+===================+======================+ | Fedora Linux 40 | PASS | PASS | SKIPPED | SKIPPED | SKIPPED | SKIPPED | +-------------------------------+--------------------+-------------------+------------------+-------------------------+-------------------+----------------------+ | Red Hat Enterprise Linux 9.5 | PASS | SKIPPED | SKIPPED | SKIPPED | SKIPPED | SKIPPED | +-------------------------------+--------------------+-------------------+------------------+-------------------------+-------------------+----------------------+ | CentOS Stream 9 | PASS | PASS | SKIPPED | SKIPPED | SKIPPED | SKIPPED | +-------------------------------+--------------------+-------------------+------------------+-------------------------+-------------------+----------------------+ | Debian GNU/Linux 12 | PASS | PASS | SKIPPED | SKIPPED | SKIPPED | SKIPPED | +-------------------------------+--------------------+-------------------+------------------+-------------------------+-------------------+----------------------+ | Fedora Linux 41 | PASS | PASS | PASS | SKIPPED | SKIPPED | SKIPPED | +-------------------------------+--------------------+-------------------+------------------+-------------------------+-------------------+----------------------+ | openSUSE Leap 15.6 | PASS | SKIPPED | SKIPPED | SKIPPED | SKIPPED | SKIPPED | +-------------------------------+--------------------+-------------------+------------------+-------------------------+-------------------+----------------------+ | Ubuntu 22.04 | PASS | PASS | SKIPPED | SKIPPED | SKIPPED | SKIPPED | +-------------------------------+--------------------+-------------------+------------------+-------------------------+-------------------+----------------------+ | Ubuntu 24.04 | PASS | PASS | PASS | SKIPPED | SKIPPED | SKIPPED | +-------------------------------+--------------------+-------------------+------------------+-------------------------+-------------------+----------------------+ | Alpine Linux 3.22.0 | PASS | SKIPPED | SKIPPED | SKIPPED | SKIPPED | SKIPPED | +-------------------------------+--------------------+-------------------+------------------+-------------------------+-------------------+----------------------+ | Ubuntu 20.04 | PASS | SKIPPED | SKIPPED | SKIPPED | SKIPPED | SKIPPED | +-------------------------------+--------------------+-------------------+------------------+-------------------------+-------------------+----------------------+ | CentOS Stream 10 | PASS | SKIPPED | SKIPPED | SKIPPED | SKIPPED | SKIPPED | +-------------------------------+--------------------+-------------------+------------------+-------------------------+-------------------+----------------------+ | Red Hat Enterprise Linux 8.10 | PASS | SKIPPED | SKIPPED | SKIPPED | SKIPPED | SKIPPED | +-------------------------------+--------------------+-------------------+------------------+-------------------------+-------------------+----------------------+ | Windows Server 2022 | SKIPPED | SKIPPED | SKIPPED | PASS | PASS | PASS | +-------------------------------+--------------------+-------------------+------------------+-------------------------+-------------------+----------------------+ Fedora Linux 40 Kernel: 5.15 Compiler: clang gcc (GCC) 14.2.1 20240912 (Red Hat 14.2.1-3) Red Hat Enterprise Linux 9.5 Kernel: 5.15 Compiler: gcc gcc (GCC) 11.5.0 20240719 (Red Hat 11.5.0-2) CentOS Stream 9 Kernel: 5.15 Compiler: gcc gcc (GCC) 11.5.0 20240719 (Red Hat 11.5.0-7) Debian GNU/Linux 12 Kernel: 5.15 Compiler: gcc gcc (Debian 12.2.0-14+deb12u1) 12.2.0 Fedora Linux 41 Kernel: 5.15 Compiler: clang gcc (GCC) 14.3.1 20250523 (Red Hat 14.3.1-1) openSUSE Leap 15.6 Kernel: 5.15 Compiler: gcc gcc (SUSE Linux) 7.5.0 Ubuntu 22.04 Kernel: 5.15 Compiler: gcc gcc (Ubuntu 11.4.0-1ubuntu1~22.04) 11.4.0 Ubuntu 24.04 Kernel: 5.15 Compiler: gcc gcc (Ubuntu 13.3.0-6ubuntu2~24.04) 13.3.0 Alpine Linux 3.22.0 Kernel: 5.15 Compiler: gcc gcc (Alpine 14.2.0) 14.2.0 Ubuntu 20.04 Kernel: 5.15 Compiler: gcc gcc (Ubuntu 9.4.0-1ubuntu1~20.04.2) 9.4.0 CentOS Stream 10 Kernel: 5.15 Compiler: gcc gcc (GCC) 14.2.1 20250110 (Red Hat 14.2.1-8) Red Hat Enterprise Linux 8.10 Kernel: 5.15 Compiler: gcc gcc (GCC) 8.5.0 20210514 (Red Hat 8.5.0-22) Windows Server 2022 Kernel: 10.0.20348.2031 Compiler: clang 15.0.7, gcc 14.1.0 (MinGW), and MSVC VS 19.39.33521 To view detailed results, visit: https://lab.dpdk.org/results/dashboard/patchsets/33599/ UNH-IOL DPDK Community Lab To manage your email subscriptions, visit: https://lab.dpdk.org/results/dashboard/preferences/subscriptions/