From mboxrd@z Thu Jan 1 00:00:00 1970 Return-Path: Received: from mails.dpdk.org (mails.dpdk.org [217.70.189.124]) by inbox.dpdk.org (Postfix) with ESMTP id E296346B0D for ; Sat, 5 Jul 2025 23:11:53 +0200 (CEST) Received: from mails.dpdk.org (localhost [127.0.0.1]) by mails.dpdk.org (Postfix) with ESMTP id DEBF14068A; Sat, 5 Jul 2025 23:11:53 +0200 (CEST) Received: from mail-pl1-f227.google.com (mail-pl1-f227.google.com [209.85.214.227]) by mails.dpdk.org (Postfix) with ESMTP id F23F44025F for ; Sat, 5 Jul 2025 23:11:52 +0200 (CEST) Received: by mail-pl1-f227.google.com with SMTP id d9443c01a7336-234b440afa7so19235105ad.0 for ; Sat, 05 Jul 2025 14:11:52 -0700 (PDT) DKIM-Signature: v=1; a=rsa-sha256; c=relaxed/relaxed; d=iol.unh.edu; s=unh-iol; t=1751749912; x=1752354712; darn=dpdk.org; h=references:in-reply-to:cc:to:from:subject:message-id:date:from:to :cc:subject:date:message-id:reply-to; bh=wuh+dnInZzWeFP18fRakfVPXxZt5w1O71kqyUD4lGGM=; b=WjVV6DB2vY8G7KSg/HaKh96O4zYjGi60Ekl6KGfCCsp6wK8Wh1V3yA0RgOkfoOCz1k QyeVkCtca4VzjkYKCuFRWWb6IE6mzIb4KGgagoBS9S4BcFFDyuCdT4UDnwByC/2LD9iL YpuMlZdLG7VO+ZSDniAN7oE7S4ijH0IT0KH38= X-Google-DKIM-Signature: v=1; a=rsa-sha256; c=relaxed/relaxed; d=1e100.net; s=20230601; t=1751749912; x=1752354712; h=references:in-reply-to:cc:to:from:subject:message-id:date :x-gm-message-state:from:to:cc:subject:date:message-id:reply-to; bh=wuh+dnInZzWeFP18fRakfVPXxZt5w1O71kqyUD4lGGM=; b=aqESLyhjXbfv2rSIjyIJ3cARMVVekv3iL0AdNJhufx/MpQ0EG06qugXAlnS+1N1FgW ZqO5xumh0KL7hVQjCabFy0XXFs19EVCv+mjSd6I5fw8Yt3pT2y9VkwtLxd6qOg76+SVT sYaE4vCzM/zh6394dVamS7J3jGi613JEwCtKM8IaW7PKqkp1RtQ79UvuKphAGe7KVkdF Q8JyiyZAiUlFR+oGCEYl36GqeRPOwONoiaLvr+Ukr4NvfNZ/EnXDLuoHTJVRpDdQ18i5 vTeUfI9wPbFCMliG63D3CpJ5GJKG707+HJzZ9RuwmAUOCnpkN7MWS8U4MMxsHI+T60Ks c85g== X-Gm-Message-State: AOJu0YyTQuQGc2G6pQBkys0XjUy4SEPBILBJ4AFn232LcEVIGDbkkEdE 8/8+zUXXKo7zz6XpvKpKayrlA7IRLOHqJteBqc5SQaBTRukDYFkRcjJYinIVJHjoknrcxfV5r4Q oBVRxurWjeQ0crDkGLeuF2a/HO0zzsRoQYa0Snm12ABtB X-Gm-Gg: ASbGncuHdoojCdGC/8QIxJeyLoP9MCp5WS9XTdECSGg0/wiRDwlqMCKwNNuYWjNta1J LwHSu2DBwYR/vVBYPo+N2qSH40v0bwrOkRef5+s941AAhWIXLPl1Zc73AOyCvIqgXLjMMtbLnf3 rKsQtw4320YP0NaK5SPMXxxDDY8slTCFOlwqDw5raeQS2YIR1Kg+m/FMbDrt6xMnmpUvwX2T3hl NQrkKZA/uQAzg56pdPwHp6tZlTx1fh33GHGd8QClvt8JnEooU6ZhPU7I1KN76qfuRXmtbAHXbuO 5PBU9UmkV6hj7eQmdBedMEFx7y8VQhZXobm/OeWR8KR5xkflOGCRdmJgoUx/DhCpotRSmQ== X-Google-Smtp-Source: AGHT+IF9OI0NnFR+DbDQpOk3c186nzCGEIREosRCcRwp7YG3OAtd53U1rgAwvvuSIpfkjidInDg/7xz2v6BL X-Received: by 2002:a17:903:1249:b0:234:a992:96d8 with SMTP id d9443c01a7336-23c90f4a9d3mr53566145ad.19.1751749912283; Sat, 05 Jul 2025 14:11:52 -0700 (PDT) Received: from postal.iol.unh.edu (postal.iol.unh.edu. [132.177.123.84]) by smtp-relay.gmail.com with ESMTPS id d9443c01a7336-23c842d04bcsm2467565ad.35.2025.07.05.14.11.52 (version=TLS1_2 cipher=ECDHE-ECDSA-AES128-GCM-SHA256 bits=128/128); Sat, 05 Jul 2025 14:11:52 -0700 (PDT) X-Relaying-Domain: iol.unh.edu Date: Sat, 05 Jul 2025 14:11:52 -0700 (PDT) Message-ID: <68699518.170a0220.649c4.da8dSMTPIN_ADDED_MISSING@mx.google.com> Received: from [172.21.0.5] (unknown [172.18.0.240]) by postal.iol.unh.edu (Postfix) with ESMTP id 6B5656051830; Sat, 5 Jul 2025 17:11:51 -0400 (EDT) Subject: |WARNING| pw155019 [PATCH] [v2] event/dlb2: add support for stop and From: dpdklab@iol.unh.edu To: Test Report Cc: dpdk-test-reports@iol.unh.edu In-Reply-To: <20250705184752.925174-1-pravin.pathak@intel.com> References: <20250705184752.925174-1-pravin.pathak@intel.com> Content-Type: text/plain X-BeenThere: test-report@dpdk.org X-Mailman-Version: 2.1.29 Precedence: list List-Id: automatic DPDK test reports List-Unsubscribe: , List-Archive: List-Post: List-Help: List-Subscribe: , Errors-To: test-report-bounces@dpdk.org Test-Label: iol-compile-amd64-testing Test-Status: WARNING http://dpdk.org/patch/155019 _Testing issues_ Submitter: Pravin Pathak Date: Saturday, July 05 2025 18:47:52 DPDK git baseline: Repo:dpdk Branch: master CommitID:780a078533fe65635afefb9be8580853476676e5 155019 --> testing issues Upstream job id: Generic-DPDK-Compile-Meson#405843 Test environment and result as below: +-------------------------------+--------------------+-------------------+------------------+-------------------------+-------------------+----------------------+ | Environment | dpdk_meson_compile | dpdk_compile_spdk | dpdk_compile_ovs | dpdk_llvm_clang_compile | dpdk_msvc_compile | dpdk_mingw64_compile | +===============================+====================+===================+==================+=========================+===================+======================+ | Fedora Linux 40 | PASS | PASS | SKIPPED | SKIPPED | SKIPPED | SKIPPED | +-------------------------------+--------------------+-------------------+------------------+-------------------------+-------------------+----------------------+ | Red Hat Enterprise Linux 9.5 | PASS | SKIPPED | SKIPPED | SKIPPED | SKIPPED | SKIPPED | +-------------------------------+--------------------+-------------------+------------------+-------------------------+-------------------+----------------------+ | CentOS Stream 9 | PASS | PASS | SKIPPED | SKIPPED | SKIPPED | SKIPPED | +-------------------------------+--------------------+-------------------+------------------+-------------------------+-------------------+----------------------+ | Debian GNU/Linux 12 | PASS | PASS | SKIPPED | SKIPPED | SKIPPED | SKIPPED | +-------------------------------+--------------------+-------------------+------------------+-------------------------+-------------------+----------------------+ | Fedora Linux 41 | PASS | PASS | PASS | SKIPPED | SKIPPED | SKIPPED | +-------------------------------+--------------------+-------------------+------------------+-------------------------+-------------------+----------------------+ | openSUSE Leap 15.6 | PASS | SKIPPED | SKIPPED | SKIPPED | SKIPPED | SKIPPED | +-------------------------------+--------------------+-------------------+------------------+-------------------------+-------------------+----------------------+ | Ubuntu 22.04 | PASS | PASS | SKIPPED | SKIPPED | SKIPPED | SKIPPED | +-------------------------------+--------------------+-------------------+------------------+-------------------------+-------------------+----------------------+ | Ubuntu 24.04 | PASS | PASS | PASS | SKIPPED | SKIPPED | SKIPPED | +-------------------------------+--------------------+-------------------+------------------+-------------------------+-------------------+----------------------+ | Alpine Linux 3.22.0 | PASS | SKIPPED | SKIPPED | SKIPPED | SKIPPED | SKIPPED | +-------------------------------+--------------------+-------------------+------------------+-------------------------+-------------------+----------------------+ | Ubuntu 20.04 | PASS | SKIPPED | SKIPPED | SKIPPED | SKIPPED | SKIPPED | +-------------------------------+--------------------+-------------------+------------------+-------------------------+-------------------+----------------------+ | CentOS Stream 10 | PASS | SKIPPED | SKIPPED | SKIPPED | SKIPPED | SKIPPED | +-------------------------------+--------------------+-------------------+------------------+-------------------------+-------------------+----------------------+ | Red Hat Enterprise Linux 8.10 | PASS | SKIPPED | SKIPPED | SKIPPED | SKIPPED | SKIPPED | +-------------------------------+--------------------+-------------------+------------------+-------------------------+-------------------+----------------------+ | Windows Server 2022 | SKIPPED | SKIPPED | SKIPPED | PASS | PASS | PASS | +-------------------------------+--------------------+-------------------+------------------+-------------------------+-------------------+----------------------+ Fedora Linux 40 Kernel: 5.15 Compiler: clang gcc (GCC) 14.2.1 20240912 (Red Hat 14.2.1-3) Red Hat Enterprise Linux 9.5 Kernel: 5.15 Compiler: gcc gcc (GCC) 11.5.0 20240719 (Red Hat 11.5.0-2) CentOS Stream 9 Kernel: 5.15 Compiler: gcc gcc (GCC) 11.5.0 20240719 (Red Hat 11.5.0-7) Debian GNU/Linux 12 Kernel: 5.15 Compiler: gcc gcc (Debian 12.2.0-14+deb12u1) 12.2.0 Fedora Linux 41 Kernel: 5.15 Compiler: clang gcc (GCC) 14.3.1 20250523 (Red Hat 14.3.1-1) openSUSE Leap 15.6 Kernel: 5.15 Compiler: gcc gcc (SUSE Linux) 7.5.0 Ubuntu 22.04 Kernel: 5.15 Compiler: gcc gcc (Ubuntu 11.4.0-1ubuntu1~22.04) 11.4.0 Ubuntu 24.04 Kernel: 5.15 Compiler: gcc gcc (Ubuntu 13.3.0-6ubuntu2~24.04) 13.3.0 Alpine Linux 3.22.0 Kernel: 5.15 Compiler: gcc gcc (Alpine 14.2.0) 14.2.0 Ubuntu 20.04 Kernel: 5.15 Compiler: gcc gcc (Ubuntu 9.4.0-1ubuntu1~20.04.2) 9.4.0 CentOS Stream 10 Kernel: 5.15 Compiler: gcc gcc (GCC) 14.2.1 20250110 (Red Hat 14.2.1-8) Red Hat Enterprise Linux 8.10 Kernel: 5.15 Compiler: gcc gcc (GCC) 8.5.0 20210514 (Red Hat 8.5.0-22) Windows Server 2022 Kernel: 10.0.20348.2031 Compiler: clang 15.0.7, gcc 14.1.0 (MinGW), and MSVC VS 19.39.33521 To view detailed results, visit: https://lab.dpdk.org/results/dashboard/patchsets/33599/ UNH-IOL DPDK Community Lab To manage your email subscriptions, visit: https://lab.dpdk.org/results/dashboard/preferences/subscriptions/