From mboxrd@z Thu Jan 1 00:00:00 1970 Return-Path: Received: from mails.dpdk.org (mails.dpdk.org [217.70.189.124]) by inbox.dpdk.org (Postfix) with ESMTP id 0D3D246B0D for ; Sat, 5 Jul 2025 23:12:40 +0200 (CEST) Received: from mails.dpdk.org (localhost [127.0.0.1]) by mails.dpdk.org (Postfix) with ESMTP id 076AB4028B; Sat, 5 Jul 2025 23:12:40 +0200 (CEST) Received: from mail-qt1-f226.google.com (mail-qt1-f226.google.com [209.85.160.226]) by mails.dpdk.org (Postfix) with ESMTP id 277434028B for ; Sat, 5 Jul 2025 23:12:39 +0200 (CEST) Received: by mail-qt1-f226.google.com with SMTP id d75a77b69052e-4a58ebece05so24824921cf.1 for ; Sat, 05 Jul 2025 14:12:39 -0700 (PDT) DKIM-Signature: v=1; a=rsa-sha256; c=relaxed/relaxed; d=iol.unh.edu; s=unh-iol; t=1751749958; x=1752354758; darn=dpdk.org; h=references:in-reply-to:cc:to:from:subject:message-id:date:from:to :cc:subject:date:message-id:reply-to; bh=TM6p+RQE2UkQp/8TcEi6G3cGuK7On0sou0aIpL5JuoE=; b=RbwPOdtcAIkbXHfi4wpl0NkmDKbhv7kh3hkVGCA+//RIM3KdVqAqpQu5byUMJ/LLmw 1mgL6eALZczZMYBuqAbGhml1WSXKJoO8Ef398DKviD4wn6wbPTMhBe3SxVFycv7IpaHE n/aqYLtfO0GXEBdI2VQSFMpdhXIVXUVQnrqIM= X-Google-DKIM-Signature: v=1; a=rsa-sha256; c=relaxed/relaxed; d=1e100.net; s=20230601; t=1751749958; x=1752354758; h=references:in-reply-to:cc:to:from:subject:message-id:date :x-gm-message-state:from:to:cc:subject:date:message-id:reply-to; bh=TM6p+RQE2UkQp/8TcEi6G3cGuK7On0sou0aIpL5JuoE=; b=S0JB/qqlLeyAGuD/oL/EvlZ5do8m7mG/K6a7MWbsH+XRUJUTJVzXDeG9N1dGKmx5FX mqyWffsSBEp9zZTdqbLXJ/KQjAYr4qMoKGWVRuYTGKuHGyi6polsH7VlmYUMi1BY7W7x Tv3snQQgm8SqvzLpnEcNo55u/k7xnNM2zHBPHUNpZakOCOa3WZsQo7iFAS0rhsOeNyZR 7Erxsp8k77qitFxOvK5OdESjPP9kmSdKr3tLJTp1fuafqiFuLi1NkDj4mvcawlDUJsF/ AGAn0sSCzZHCSgzu2v2O3pDh7GIYnpd7J9PWIGswCRIMDkq9zHMXuRRKrgpUpOL8iMv+ 1aFw== X-Gm-Message-State: AOJu0Yzex7B+gFOvLkN2pfBMm3nWan1gbFwnb71INYbyGDDvpkH0/bE2 ZINqmhNRUZp61b8Q05xRbiJj9Uub96qdHPUFjur9hDNXQnJzHgarJV5/wLYljswC+cyJ9BMhp0E MMgknOUm3szFyljEJ7PegoQBhOIihj3FVvVTNDKk/7Ez+sb34YZB6EOYghXfr X-Gm-Gg: ASbGncudi4u4ZhWkEHzYFOvVgtqvWxXr1wFjzUpmQGwKT3u+sHW5qZuDCWuytmpACuu e/FsT0fLZIX9934fnMnxqv9EGDThr/guiUzFxKM32/tsjV6DM0r7h1mjqIdU399dRa/JDhpgoWh VwsfcUJZpGsDGj37l/oXDrs+YXY2VJCQ+vZ0BVxR488ojwHMjq0s5JIGs05/rpcN3iMBzPQ2qjQ PrUPNsxcP6u8+8m1POi80mC9qSQRkWHIHxOzgZ6ruavnAA1eyO0VodH1q1YnyAHIpFXe7s7GpDo SGo7/vD+efdi3YgvrksT2xJRZSICNOqThFDxtkgHhOH0+ww= X-Google-Smtp-Source: AGHT+IES8HsB56MHv5zpvRVO4TaiXpfpH5T631wj+kg809myJfzjuWoDsNbVlsJefYQiETwlN0ZIJKpR4rtC X-Received: by 2002:a05:622a:548c:b0:476:9847:7c6e with SMTP id d75a77b69052e-4a9964816ebmr118520511cf.19.1751749958447; Sat, 05 Jul 2025 14:12:38 -0700 (PDT) Received: from postal.iol.unh.edu (postal.iol.unh.edu. [2606:4100:3880:1234::84]) by smtp-relay.gmail.com with ESMTPS id d75a77b69052e-4a9949e7b1dsm1819681cf.2.2025.07.05.14.12.38 (version=TLS1_2 cipher=ECDHE-ECDSA-AES128-GCM-SHA256 bits=128/128); Sat, 05 Jul 2025 14:12:38 -0700 (PDT) X-Relaying-Domain: iol.unh.edu Date: Sat, 05 Jul 2025 14:12:38 -0700 (PDT) Message-ID: <68699546.c80a0220.2570d3.9835SMTPIN_ADDED_MISSING@mx.google.com> Received: from [172.21.0.6] (unknown [172.18.0.240]) by postal.iol.unh.edu (Postfix) with ESMTP id 0254A6051830; Sat, 5 Jul 2025 17:12:38 -0400 (EDT) Subject: |WARNING| pw155019 [PATCH] [v2] event/dlb2: add support for stop and From: dpdklab@iol.unh.edu To: Test Report Cc: dpdk-test-reports@iol.unh.edu In-Reply-To: <20250705184752.925174-1-pravin.pathak@intel.com> References: <20250705184752.925174-1-pravin.pathak@intel.com> Content-Type: text/plain X-BeenThere: test-report@dpdk.org X-Mailman-Version: 2.1.29 Precedence: list List-Id: automatic DPDK test reports List-Unsubscribe: , List-Archive: List-Post: List-Help: List-Subscribe: , Errors-To: test-report-bounces@dpdk.org Test-Label: iol-compile-amd64-testing Test-Status: WARNING http://dpdk.org/patch/155019 _Testing issues_ Submitter: Pravin Pathak Date: Saturday, July 05 2025 18:47:52 DPDK git baseline: Repo:dpdk Branch: master CommitID:780a078533fe65635afefb9be8580853476676e5 155019 --> testing issues Upstream job id: Generic-DPDK-Compile-Meson#405833 Test environment and result as below: +-------------------------------+--------------------+-------------------+------------------+-------------------------+-------------------+----------------------+ | Environment | dpdk_meson_compile | dpdk_compile_spdk | dpdk_compile_ovs | dpdk_llvm_clang_compile | dpdk_msvc_compile | dpdk_mingw64_compile | +===============================+====================+===================+==================+=========================+===================+======================+ | Fedora Linux 40 | PASS | PASS | SKIPPED | SKIPPED | SKIPPED | SKIPPED | +-------------------------------+--------------------+-------------------+------------------+-------------------------+-------------------+----------------------+ | Red Hat Enterprise Linux 9.5 | PASS | SKIPPED | SKIPPED | SKIPPED | SKIPPED | SKIPPED | +-------------------------------+--------------------+-------------------+------------------+-------------------------+-------------------+----------------------+ | CentOS Stream 9 | PASS | PASS | SKIPPED | SKIPPED | SKIPPED | SKIPPED | +-------------------------------+--------------------+-------------------+------------------+-------------------------+-------------------+----------------------+ | Debian GNU/Linux 12 | PASS | PASS | SKIPPED | SKIPPED | SKIPPED | SKIPPED | +-------------------------------+--------------------+-------------------+------------------+-------------------------+-------------------+----------------------+ | Fedora Linux 41 | PASS | PASS | PASS | SKIPPED | SKIPPED | SKIPPED | +-------------------------------+--------------------+-------------------+------------------+-------------------------+-------------------+----------------------+ | openSUSE Leap 15.6 | PASS | SKIPPED | SKIPPED | SKIPPED | SKIPPED | SKIPPED | +-------------------------------+--------------------+-------------------+------------------+-------------------------+-------------------+----------------------+ | Ubuntu 22.04 | PASS | PASS | SKIPPED | SKIPPED | SKIPPED | SKIPPED | +-------------------------------+--------------------+-------------------+------------------+-------------------------+-------------------+----------------------+ | Ubuntu 24.04 | PASS | PASS | PASS | SKIPPED | SKIPPED | SKIPPED | +-------------------------------+--------------------+-------------------+------------------+-------------------------+-------------------+----------------------+ | Alpine Linux 3.22.0 | PASS | SKIPPED | SKIPPED | SKIPPED | SKIPPED | SKIPPED | +-------------------------------+--------------------+-------------------+------------------+-------------------------+-------------------+----------------------+ | Ubuntu 20.04 | PASS | SKIPPED | SKIPPED | SKIPPED | SKIPPED | SKIPPED | +-------------------------------+--------------------+-------------------+------------------+-------------------------+-------------------+----------------------+ | CentOS Stream 10 | PASS | SKIPPED | SKIPPED | SKIPPED | SKIPPED | SKIPPED | +-------------------------------+--------------------+-------------------+------------------+-------------------------+-------------------+----------------------+ | Red Hat Enterprise Linux 8.10 | PASS | SKIPPED | SKIPPED | SKIPPED | SKIPPED | SKIPPED | +-------------------------------+--------------------+-------------------+------------------+-------------------------+-------------------+----------------------+ | Windows Server 2022 | SKIPPED | SKIPPED | SKIPPED | PASS | PASS | PASS | +-------------------------------+--------------------+-------------------+------------------+-------------------------+-------------------+----------------------+ Fedora Linux 40 Kernel: 5.15 Compiler: clang gcc (GCC) 14.2.1 20240912 (Red Hat 14.2.1-3) Red Hat Enterprise Linux 9.5 Kernel: 5.15 Compiler: gcc gcc (GCC) 11.5.0 20240719 (Red Hat 11.5.0-2) CentOS Stream 9 Kernel: 5.15 Compiler: gcc gcc (GCC) 11.5.0 20240719 (Red Hat 11.5.0-7) Debian GNU/Linux 12 Kernel: 5.15 Compiler: gcc gcc (Debian 12.2.0-14+deb12u1) 12.2.0 Fedora Linux 41 Kernel: 5.15 Compiler: clang gcc (GCC) 14.3.1 20250523 (Red Hat 14.3.1-1) openSUSE Leap 15.6 Kernel: 5.15 Compiler: gcc gcc (SUSE Linux) 7.5.0 Ubuntu 22.04 Kernel: 5.15 Compiler: gcc gcc (Ubuntu 11.4.0-1ubuntu1~22.04) 11.4.0 Ubuntu 24.04 Kernel: 5.15 Compiler: gcc gcc (Ubuntu 13.3.0-6ubuntu2~24.04) 13.3.0 Alpine Linux 3.22.0 Kernel: 5.15 Compiler: gcc gcc (Alpine 14.2.0) 14.2.0 Ubuntu 20.04 Kernel: 5.15 Compiler: gcc gcc (Ubuntu 9.4.0-1ubuntu1~20.04.2) 9.4.0 CentOS Stream 10 Kernel: 5.15 Compiler: gcc gcc (GCC) 14.2.1 20250110 (Red Hat 14.2.1-8) Red Hat Enterprise Linux 8.10 Kernel: 5.15 Compiler: gcc gcc (GCC) 8.5.0 20210514 (Red Hat 8.5.0-22) Windows Server 2022 Kernel: 10.0.20348.2031 Compiler: clang 15.0.7, gcc 14.1.0 (MinGW), and MSVC VS 19.39.33521 To view detailed results, visit: https://lab.dpdk.org/results/dashboard/patchsets/33599/ UNH-IOL DPDK Community Lab To manage your email subscriptions, visit: https://lab.dpdk.org/results/dashboard/preferences/subscriptions/