From mboxrd@z Thu Jan 1 00:00:00 1970 Return-Path: Received: from mails.dpdk.org (mails.dpdk.org [217.70.189.124]) by inbox.dpdk.org (Postfix) with ESMTP id 9B7B346B0D for ; Sat, 5 Jul 2025 23:17:39 +0200 (CEST) Received: from mails.dpdk.org (localhost [127.0.0.1]) by mails.dpdk.org (Postfix) with ESMTP id 795B84025F; Sat, 5 Jul 2025 23:17:39 +0200 (CEST) Received: from mail-oa1-f98.google.com (mail-oa1-f98.google.com [209.85.160.98]) by mails.dpdk.org (Postfix) with ESMTP id 8351C4025F for ; Sat, 5 Jul 2025 23:17:38 +0200 (CEST) Received: by mail-oa1-f98.google.com with SMTP id 586e51a60fabf-2efb0b03e40so491362fac.0 for ; Sat, 05 Jul 2025 14:17:38 -0700 (PDT) DKIM-Signature: v=1; a=rsa-sha256; c=relaxed/relaxed; d=iol.unh.edu; s=unh-iol; t=1751750257; x=1752355057; darn=dpdk.org; h=references:in-reply-to:cc:to:from:subject:message-id:date:from:to :cc:subject:date:message-id:reply-to; bh=uJ3mxGFH4iuUCFT8SJrYylwG9TGfMjD4jwgvoKYDL+U=; b=ho68YiyBbp7tRoZAuMNaLHnosp0UvNbzH+VDd1wIKf6rwuUSTejoDjjus69+gEPdrl a/C9bYu/lqCIMMQF218YuuA/x5Y6xiH07U4ZKSDqkdnAzJMaHXveaANUMLuB8ECYzFxz Ns/7ba6Mx+izt8wOFIKI4ucQeM2p9OEL1Fmmc= X-Google-DKIM-Signature: v=1; a=rsa-sha256; c=relaxed/relaxed; d=1e100.net; s=20230601; t=1751750257; x=1752355057; h=references:in-reply-to:cc:to:from:subject:message-id:date :x-gm-message-state:from:to:cc:subject:date:message-id:reply-to; bh=uJ3mxGFH4iuUCFT8SJrYylwG9TGfMjD4jwgvoKYDL+U=; b=AJv0sYJBkqMfEd2J5PzIZFXpXp/OMRjCDFAmFdDAA1BTlQ+eqysRbjr8maYDnF0+Ar qhaVcS2Dq4Aj+bQZkT+TSXD6F/OppTmq2T3S6djtJe9k/UD3Rh/Nlu/ktf2dqapyHPGJ u5FaGC5NVGrH/pFjXcLVuWIh0zumS3MN5jY9VzHGGfK24PqRWBqASGIs4x9swyCHEEDk IrqlVL5qydkgVmCrhP2yrXylY0AhEI6Ay6eUTkbyjTelzVQjSGgWhU8akE9pr8StpslP 6Py2fYIZmsOWlHOVu7In4eUYyS99RHKFJWjqRGzfYA9hql89bml1BrRNrghH9ccnphZF J/mA== X-Gm-Message-State: AOJu0YxBfM6FhQvuqlwa5y7E6QiQAvgBZr3Qs/0Bxg/jo44wXNYgjMmJ zArmd64fTGQNgfhoyIZZ8+PsECB3dRg1Iu4YlITLp7Ws0iuev7zSd8YZpYf4YgtzK2JqrSBnJOH AK+YF9SbUKwqqqpC8145dztORhvroQqhoN/ZNJ9ATioIM X-Gm-Gg: ASbGnctqCmR8ol2nycSXnikup8SyhnS2uDOAZLEmHKsUmJaEJf3kqW3a+ZPCugMgUZa kEvDFcmj6vIm4N6ujr+jbaF0pmZrFcps2ad3Hzg/tYHve/osfCQkfxivJdcGmyTQjsVK4dBqvlK qQG9I+NuJtg+TNDpBf0m69WJ69i6KwmVsWfInBFabgHAxEK+v9S5izsBhNCdOGTMJ6VCnxJYv4W 2EhqPijzJaCttj1Si6HzeRprU4TDHabGLCnMtioVkAJX4KGCg/o5U8kfBRlduE8WEKvGCZTMFd6 zYe5M92iLh5bTmBYSp71CrpGm+lx7M3b6k116+vAPZpzq7aC1ykD4WgJhoIRNTP9ROb4Cg== X-Google-Smtp-Source: AGHT+IE29LpKyI6CyOQ1wpxOiG2NjfmOyTodZXh8fvotals/5diLZa8hOS5rCyDlQrtIXsUjRXE9cRnw4pIF X-Received: by 2002:a05:6870:9d17:b0:2bc:7007:5145 with SMTP id 586e51a60fabf-2f7afed9e18mr2525947fac.9.1751750257726; Sat, 05 Jul 2025 14:17:37 -0700 (PDT) Received: from postal.iol.unh.edu (postal.iol.unh.edu. [132.177.123.84]) by smtp-relay.gmail.com with ESMTPS id 586e51a60fabf-2f790150de3sm294521fac.37.2025.07.05.14.17.37 (version=TLS1_2 cipher=ECDHE-ECDSA-AES128-GCM-SHA256 bits=128/128); Sat, 05 Jul 2025 14:17:37 -0700 (PDT) X-Relaying-Domain: iol.unh.edu Date: Sat, 05 Jul 2025 14:17:37 -0700 (PDT) Message-ID: <68699671.050a0220.1d3655.f63eSMTPIN_ADDED_MISSING@mx.google.com> Received: from [172.21.0.6] (unknown [172.18.0.240]) by postal.iol.unh.edu (Postfix) with ESMTP id 5F28C6051830; Sat, 5 Jul 2025 17:17:37 -0400 (EDT) Subject: |SUCCESS| pw155018 [PATCH] [v1] event/dlb2: add support for stop and From: dpdklab@iol.unh.edu To: Test Report Cc: dpdk-test-reports@iol.unh.edu In-Reply-To: <20250705184209.924922-1-pravin.pathak@intel.com> References: <20250705184209.924922-1-pravin.pathak@intel.com> Content-Type: text/plain X-BeenThere: test-report@dpdk.org X-Mailman-Version: 2.1.29 Precedence: list List-Id: automatic DPDK test reports List-Unsubscribe: , List-Archive: List-Post: List-Help: List-Subscribe: , Errors-To: test-report-bounces@dpdk.org Test-Label: iol-abi-testing Test-Status: SUCCESS http://dpdk.org/patch/155018 _Testing PASS_ Submitter: Pravin Pathak Date: Saturday, July 05 2025 18:42:09 DPDK git baseline: Repo:dpdk Branch: master CommitID:780a078533fe65635afefb9be8580853476676e5 155018 --> testing pass Upstream job id: Generic-DPDK-Compile-ABI#133242 Test environment and result as below: +-------------------------------+----------+ | Environment | abi_test | +===============================+==========+ | CentOS Stream 9 | PASS | +-------------------------------+----------+ | CentOS Stream 10 | PASS | +-------------------------------+----------+ | Red Hat Enterprise Linux 9.5 | PASS | +-------------------------------+----------+ | Red Hat Enterprise Linux 8.10 | PASS | +-------------------------------+----------+ | Debian GNU/Linux 12 | PASS | +-------------------------------+----------+ | Fedora Linux 40 | PASS | +-------------------------------+----------+ | Ubuntu 24.04 | PASS | +-------------------------------+----------+ | Ubuntu 22.04 | PASS | +-------------------------------+----------+ | Fedora Linux 41 | PASS | +-------------------------------+----------+ CentOS Stream 9 Kernel: 5.15 Compiler: gcc gcc (GCC) 11.5.0 20240719 (Red Hat 11.5.0-7) CentOS Stream 10 Kernel: 5.15 Compiler: gcc gcc (GCC) 14.2.1 20250110 (Red Hat 14.2.1-8) Red Hat Enterprise Linux 9.5 Kernel: 5.15 Compiler: gcc gcc (GCC) 11.5.0 20240719 (Red Hat 11.5.0-2) Red Hat Enterprise Linux 8.10 Kernel: 5.15 Compiler: gcc gcc (GCC) 8.5.0 20210514 (Red Hat 8.5.0-22) Debian GNU/Linux 12 Kernel: 5.15 Compiler: gcc gcc (Debian 12.2.0-14+deb12u1) 12.2.0 Fedora Linux 40 Kernel: 5.15 Compiler: gcc gcc (GCC) 14.2.1 20240912 (Red Hat 14.2.1-3) Ubuntu 24.04 Kernel: 5.15 Compiler: gcc gcc (Ubuntu 13.3.0-6ubuntu2~24.04) 13.3.0 Ubuntu 22.04 Kernel: 5.15 Compiler: gcc gcc (Ubuntu 11.4.0-1ubuntu1~22.04) 11.4.0 Fedora Linux 41 Kernel: 5.15 Compiler: gcc gcc (GCC) 14.3.1 20250523 (Red Hat 14.3.1-1) To view detailed results, visit: https://lab.dpdk.org/results/dashboard/patchsets/33598/ UNH-IOL DPDK Community Lab To manage your email subscriptions, visit: https://lab.dpdk.org/results/dashboard/preferences/subscriptions/