From mboxrd@z Thu Jan 1 00:00:00 1970 Return-Path: Received: from mails.dpdk.org (mails.dpdk.org [217.70.189.124]) by inbox.dpdk.org (Postfix) with ESMTP id 17D5E46B0D for ; Sat, 5 Jul 2025 23:22:30 +0200 (CEST) Received: from mails.dpdk.org (localhost [127.0.0.1]) by mails.dpdk.org (Postfix) with ESMTP id E42D74025F; Sat, 5 Jul 2025 23:22:29 +0200 (CEST) Received: from mail-qv1-f99.google.com (mail-qv1-f99.google.com [209.85.219.99]) by mails.dpdk.org (Postfix) with ESMTP id 6D2184025F for ; Sat, 5 Jul 2025 23:22:28 +0200 (CEST) Received: by mail-qv1-f99.google.com with SMTP id 6a1803df08f44-6facba680a1so28401746d6.3 for ; Sat, 05 Jul 2025 14:22:28 -0700 (PDT) DKIM-Signature: v=1; a=rsa-sha256; c=relaxed/relaxed; d=iol.unh.edu; s=unh-iol; t=1751750548; x=1752355348; darn=dpdk.org; h=references:in-reply-to:cc:to:from:subject:message-id:date:from:to :cc:subject:date:message-id:reply-to; bh=cMAnPnHQBRJ2EgTS1AR4kCrpOz8tSBijZs1pK83hNP4=; b=XZ5xmmfcbo0ocYr8/sEFThMSKTI4AZRyqvPi4y8xQxqlDnzZ/4lHICkS7qANak8cgE DR7sYPeOZSrfFpuL5/rpvL3gdgHxpSTfFAveX2du1nhQoF5Z6FzrwI4oTYguCnzStJ17 yZnYe+26IGiIgbi9QE4yu5RSMKUveflGDzRJc= X-Google-DKIM-Signature: v=1; a=rsa-sha256; c=relaxed/relaxed; d=1e100.net; s=20230601; t=1751750548; x=1752355348; h=references:in-reply-to:cc:to:from:subject:message-id:date :x-gm-message-state:from:to:cc:subject:date:message-id:reply-to; bh=cMAnPnHQBRJ2EgTS1AR4kCrpOz8tSBijZs1pK83hNP4=; b=RMf7S3irDETqPfrcmcyhFW+L2JHVBxr9G76kOnOAknY6jXqEvcfeuth7+b5NKMVz3J 2pd25S30lfKTNZYNDIg+igk49Qxji6tfkon8G0CX10CG52nlrE0WpWIReZzqcuvDQ8ZG 1VYXEjI09dFJOOm3U4YxefF0hObpnZ7eCsBy+1u8wOvun+A7m+kIAQ+4J/g/l4o8P4XY IM463nsZlLNYQy387wCGDAl9EG66s5rSKbPsQ/x98Pf+C+QVuRNUeyXfP8mybNddunhS WHp2iAACL60ryck0FuaMT9n7dIThrlagwtYkO9kHK70cq/P4aJqJ192gRsdV2MRxcPGT 353w== X-Gm-Message-State: AOJu0Yzvbdld3vtkSDGO9fWoE/T6rt4Gf0mO9M9VTrRQJspwOqL9V38a 8kXoluqOCydHjUS2G28uHdS8epNab/sQxwtoE9tQPO/Ptp1oUrhoVDJQNTo5ebtpnMMQ7ck/AvH ZBo0Q1/DJz6TXJrCp1ksloHn13f732oWkfrBbRycs1NepR1Gb/5kd1aPuysab X-Gm-Gg: ASbGncvfvSKoxE7vv5BI54HBLo7GSpFjAt+RSxGsELG10aFmXor4btqZERQgfkws6+L S+3K2wuziiZUDSfZHolWYW8neBo50PKNVQeZ7KmLhCunRnF/JXEJ5wHoy7usBiY0wS5k78iT4sO IVoduKjgXyTDl9Po9erMGRodLjpCpIL9rFbpaODSYANupyZeA1HUM3C8hKe/OmB0EcT2/a0r/qd gb1G7KOYCsfwdhTKv40jnw4U/7jBeQeNdNWhfvq/uEwqraOwzDBXzEaxvUY/WjB52xKCrZ2QKeh 8X97HnlDB7CwFLvBd38x0dlMuB0HWNeT71io/hHD4kUVAR0= X-Google-Smtp-Source: AGHT+IGRrTFmVCA6xSFVcVhgp6px5I1Bryovp73/Gx1MsPsO2Q3MwC5yJDIPpgNz0RWomQlgMzHi8186kkGd X-Received: by 2002:a05:6214:4485:b0:6fa:c6e6:11f9 with SMTP id 6a1803df08f44-702c8b722a9mr87965056d6.11.1751750547775; Sat, 05 Jul 2025 14:22:27 -0700 (PDT) Received: from postal.iol.unh.edu (postal.iol.unh.edu. [2606:4100:3880:1234::84]) by smtp-relay.gmail.com with ESMTPS id 6a1803df08f44-702c4cc9ff0sm2269716d6.16.2025.07.05.14.22.27 (version=TLS1_2 cipher=ECDHE-ECDSA-AES128-GCM-SHA256 bits=128/128); Sat, 05 Jul 2025 14:22:27 -0700 (PDT) X-Relaying-Domain: iol.unh.edu Date: Sat, 05 Jul 2025 14:22:27 -0700 (PDT) Message-ID: <68699793.d40a0220.580c1.bef3SMTPIN_ADDED_MISSING@mx.google.com> Received: from [172.21.0.5] (unknown [172.18.0.240]) by postal.iol.unh.edu (Postfix) with ESMTP id 7AABF6051830; Sat, 5 Jul 2025 17:22:27 -0400 (EDT) Subject: |WARNING| pw155018 [PATCH] [v1] event/dlb2: add support for stop and From: dpdklab@iol.unh.edu To: Test Report Cc: dpdk-test-reports@iol.unh.edu In-Reply-To: <20250705184209.924922-1-pravin.pathak@intel.com> References: <20250705184209.924922-1-pravin.pathak@intel.com> Content-Type: text/plain X-BeenThere: test-report@dpdk.org X-Mailman-Version: 2.1.29 Precedence: list List-Id: automatic DPDK test reports List-Unsubscribe: , List-Archive: List-Post: List-Help: List-Subscribe: , Errors-To: test-report-bounces@dpdk.org Test-Label: iol-compile-amd64-testing Test-Status: WARNING http://dpdk.org/patch/155018 _Testing issues_ Submitter: Pravin Pathak Date: Saturday, July 05 2025 18:42:09 DPDK git baseline: Repo:dpdk Branch: master CommitID:780a078533fe65635afefb9be8580853476676e5 155018 --> testing issues Upstream job id: Generic-DPDK-Compile-Meson#405866 Test environment and result as below: +-------------------------------+--------------------+-------------------+------------------+-------------------+-------------------------+----------------------+ | Environment | dpdk_meson_compile | dpdk_compile_spdk | dpdk_compile_ovs | dpdk_msvc_compile | dpdk_llvm_clang_compile | dpdk_mingw64_compile | +===============================+====================+===================+==================+===================+=========================+======================+ | CentOS Stream 10 | PASS | SKIPPED | SKIPPED | SKIPPED | SKIPPED | SKIPPED | +-------------------------------+--------------------+-------------------+------------------+-------------------+-------------------------+----------------------+ | CentOS Stream 9 | PASS | PASS | SKIPPED | SKIPPED | SKIPPED | SKIPPED | +-------------------------------+--------------------+-------------------+------------------+-------------------+-------------------------+----------------------+ | Debian GNU/Linux 12 | PASS | PASS | SKIPPED | SKIPPED | SKIPPED | SKIPPED | +-------------------------------+--------------------+-------------------+------------------+-------------------+-------------------------+----------------------+ | Fedora Linux 40 | PASS | WARN | SKIPPED | SKIPPED | SKIPPED | SKIPPED | +-------------------------------+--------------------+-------------------+------------------+-------------------+-------------------------+----------------------+ | Fedora Linux 41 | PEND | PEND | PEND | SKIPPED | SKIPPED | SKIPPED | +-------------------------------+--------------------+-------------------+------------------+-------------------+-------------------------+----------------------+ | openSUSE Leap 15.6 | PASS | SKIPPED | SKIPPED | SKIPPED | SKIPPED | SKIPPED | +-------------------------------+--------------------+-------------------+------------------+-------------------+-------------------------+----------------------+ | Red Hat Enterprise Linux 9.5 | PEND | SKIPPED | SKIPPED | SKIPPED | SKIPPED | SKIPPED | +-------------------------------+--------------------+-------------------+------------------+-------------------+-------------------------+----------------------+ | Red Hat Enterprise Linux 8.10 | PASS | SKIPPED | SKIPPED | SKIPPED | SKIPPED | SKIPPED | +-------------------------------+--------------------+-------------------+------------------+-------------------+-------------------------+----------------------+ | Ubuntu 20.04 | PASS | SKIPPED | SKIPPED | SKIPPED | SKIPPED | SKIPPED | +-------------------------------+--------------------+-------------------+------------------+-------------------+-------------------------+----------------------+ | Ubuntu 24.04 | PEND | PASS | PASS | SKIPPED | SKIPPED | SKIPPED | +-------------------------------+--------------------+-------------------+------------------+-------------------+-------------------------+----------------------+ | Alpine Linux 3.22.0 | PASS | SKIPPED | SKIPPED | SKIPPED | SKIPPED | SKIPPED | +-------------------------------+--------------------+-------------------+------------------+-------------------+-------------------------+----------------------+ | Ubuntu 22.04 | PASS | PASS | SKIPPED | SKIPPED | SKIPPED | SKIPPED | +-------------------------------+--------------------+-------------------+------------------+-------------------+-------------------------+----------------------+ | Windows Server 2022 | SKIPPED | SKIPPED | SKIPPED | PASS | PASS | PASS | +-------------------------------+--------------------+-------------------+------------------+-------------------+-------------------------+----------------------+ ==== 20 line log output for Fedora Linux 40 (dpdk_compile_spdk): ==== --- Failed to get log output --- ==== End log output ==== CentOS Stream 10 Kernel: 5.15 Compiler: gcc gcc (GCC) 14.2.1 20250110 (Red Hat 14.2.1-8) CentOS Stream 9 Kernel: 5.15 Compiler: gcc gcc (GCC) 11.5.0 20240719 (Red Hat 11.5.0-7) Debian GNU/Linux 12 Kernel: 5.15 Compiler: gcc gcc (Debian 12.2.0-14+deb12u1) 12.2.0 Fedora Linux 40 Kernel: 5.15 Compiler: gcc gcc (GCC) 14.2.1 20240912 (Red Hat 14.2.1-3) Fedora Linux 41 Kernel: 5.15 Compiler: clang gcc (GCC) 14.3.1 20250523 (Red Hat 14.3.1-1) openSUSE Leap 15.6 Kernel: 5.15 Compiler: gcc gcc (SUSE Linux) 7.5.0 Red Hat Enterprise Linux 9.5 Kernel: 5.15 Compiler: gcc gcc (GCC) 11.5.0 20240719 (Red Hat 11.5.0-2) Red Hat Enterprise Linux 8.10 Kernel: 5.15 Compiler: gcc gcc (GCC) 8.5.0 20210514 (Red Hat 8.5.0-22) Ubuntu 20.04 Kernel: 5.15 Compiler: gcc gcc (Ubuntu 9.4.0-1ubuntu1~20.04.2) 9.4.0 Ubuntu 24.04 Kernel: 5.15 Compiler: gcc gcc (Ubuntu 13.3.0-6ubuntu2~24.04) 13.3.0 Alpine Linux 3.22.0 Kernel: 5.15 Compiler: gcc gcc (Alpine 14.2.0) 14.2.0 Ubuntu 22.04 Kernel: 5.15 Compiler: gcc gcc (Ubuntu 11.4.0-1ubuntu1~22.04) 11.4.0 Windows Server 2022 Kernel: 10.0.20348.2031 Compiler: clang 15.0.7, gcc 14.1.0 (MinGW), and MSVC VS 19.39.33521 To view detailed results, visit: https://lab.dpdk.org/results/dashboard/patchsets/33598/ UNH-IOL DPDK Community Lab To manage your email subscriptions, visit: https://lab.dpdk.org/results/dashboard/preferences/subscriptions/