From mboxrd@z Thu Jan 1 00:00:00 1970 Return-Path: Received: from mails.dpdk.org (mails.dpdk.org [217.70.189.124]) by inbox.dpdk.org (Postfix) with ESMTP id 914B346ABF for ; Sat, 5 Jul 2025 23:51:01 +0200 (CEST) Received: from mails.dpdk.org (localhost [127.0.0.1]) by mails.dpdk.org (Postfix) with ESMTP id 7AF844025F; Sat, 5 Jul 2025 23:51:01 +0200 (CEST) Received: from mail-pg1-f228.google.com (mail-pg1-f228.google.com [209.85.215.228]) by mails.dpdk.org (Postfix) with ESMTP id 9CC304025F for ; Sat, 5 Jul 2025 23:50:59 +0200 (CEST) Received: by mail-pg1-f228.google.com with SMTP id 41be03b00d2f7-879d2e419b9so1301363a12.2 for ; Sat, 05 Jul 2025 14:50:59 -0700 (PDT) DKIM-Signature: v=1; a=rsa-sha256; c=relaxed/relaxed; d=iol.unh.edu; s=unh-iol; t=1751752258; x=1752357058; darn=dpdk.org; h=references:in-reply-to:cc:to:from:subject:message-id:date:from:to :cc:subject:date:message-id:reply-to; bh=GYCsc68M+nZXj/E1eRfIl6RDt6Uy8FX7TxcCxwcs/Hc=; b=J9jq/ArTflZSwbodgKp53rv34KQmpMEbtSkJFUzCz2WR9mPw2s1ooN1hIMyBnyFpnA gcgot5bfxwtrPKVUOUxexFRjVEGF6u9SVK8zSURgmgvBeIsEzU14wrO70hJZttgntiOU RJ+/cAU4Z0mGPyLKwqUMw32oE/9t0u3YYyQA4= X-Google-DKIM-Signature: v=1; a=rsa-sha256; c=relaxed/relaxed; d=1e100.net; s=20230601; t=1751752258; x=1752357058; h=references:in-reply-to:cc:to:from:subject:message-id:date :x-gm-message-state:from:to:cc:subject:date:message-id:reply-to; bh=GYCsc68M+nZXj/E1eRfIl6RDt6Uy8FX7TxcCxwcs/Hc=; b=cWzHTZqGVFfqGY/VF3Dw0YHfXeAwNkOUZqF2qbdzNSly72LAZAPEoTgAAmHd+xh17Y EiwQHHP9xw2P3JEbZvEUQLWj7iZ84rAi7X7XqnV9+0/Nl3LJPKGpwXQJ65TZJnMi+Y+J BvbxD9Bdw6Evb1ppBLrXFY/KIFTC1/WlULMj9JNn6ktEc2plJCSd1si1CuyPdFy/nlT6 lQF1cs9amlJoUB6wr3pLu2473qaq4KDmVCN7oB4Pccrfu8Il7oZweImMwuc7CUIDSJyx pWZapKRRjOck2aQ7EBtwCvZS5VHQpGpZp5fdhEibiYWhGzJXSVVTI164jkeEX95kqMYY WBHg== X-Gm-Message-State: AOJu0YyB7ZsUW2G9pFtKeelAlBPmBUAxodsNzNFlU4fKwCsKUkRJbpqt pjyPofCy8Wg6NV4tAicZ/rAVggXg195ohVRUTLfwFkhGv9+xPodFQZgu/ozw6ACnRpZAM0dMtqg 9JfJp38mdUO8KRiQYTdpe8PLTal3C6zWY3NWmXfKtFtK8 X-Gm-Gg: ASbGncvjerxvUChb32O3+BaWxN2vt45zgunpyNpRw4pSyCuIJ+1HLqTJZttqaFYRt6k Gexy+4NO3wd8DqLQFqZLaFuDnLJxb6MiG4JTBdaySPPkrE7LnqmCEu+MylYRmvl/Qv+gUt93DrM OuUXhFWm2MdV87ZKOXJKeVX1aY5B7seNkTfeMtoxECBiXtSZ9E+4z1sCRkU5o3BZ6BEHCQa4a7V a+lFiGSz1/Tf0RfvXK+JH469xpZNexOrN6pecdMZUhs0/UCM6KI7Fpyq8DpCLYhCr0GQsgNVfxg vI0MAbOAvjfKeIV5SOeSEPg4ugkhUJGBrQ1v21hRzr839fP0g7aVfis0P15g7TlvmLX9MQ== X-Google-Smtp-Source: AGHT+IFeZued9ABJyhh/3lrF2rsGi6xLh0+bQvaklTx7DbpQh3H4BqNGDR3sLtpm76JuYdxs6FtTrBZU37Ts X-Received: by 2002:a17:903:187:b0:236:93cb:48b with SMTP id d9443c01a7336-23c9104e1fbmr61481335ad.44.1751752258603; Sat, 05 Jul 2025 14:50:58 -0700 (PDT) Received: from postal.iol.unh.edu (postal.iol.unh.edu. [132.177.123.84]) by smtp-relay.gmail.com with ESMTPS id d9443c01a7336-23c844e0dd8sm2265055ad.58.2025.07.05.14.50.58 (version=TLS1_2 cipher=ECDHE-ECDSA-AES128-GCM-SHA256 bits=128/128); Sat, 05 Jul 2025 14:50:58 -0700 (PDT) X-Relaying-Domain: iol.unh.edu Date: Sat, 05 Jul 2025 14:50:58 -0700 (PDT) Message-ID: <68699e42.170a0220.1b8b54.c56fSMTPIN_ADDED_MISSING@mx.google.com> Received: from [172.21.0.5] (unknown [172.18.0.240]) by postal.iol.unh.edu (Postfix) with ESMTP id B83946051830; Sat, 5 Jul 2025 17:50:57 -0400 (EDT) Subject: |SUCCESS| pw155018 [PATCH] [v1] event/dlb2: add support for stop and From: dpdklab@iol.unh.edu To: Test Report Cc: dpdk-test-reports@iol.unh.edu In-Reply-To: <20250705184209.924922-1-pravin.pathak@intel.com> References: <20250705184209.924922-1-pravin.pathak@intel.com> Content-Type: text/plain X-BeenThere: test-report@dpdk.org X-Mailman-Version: 2.1.29 Precedence: list List-Id: automatic DPDK test reports List-Unsubscribe: , List-Archive: List-Post: List-Help: List-Subscribe: , Errors-To: test-report-bounces@dpdk.org Test-Label: iol-unit-arm64-testing Test-Status: SUCCESS http://dpdk.org/patch/155018 _Testing PASS_ Submitter: Pravin Pathak Date: Saturday, July 05 2025 18:42:09 DPDK git baseline: Repo:dpdk Branch: master CommitID:780a078533fe65635afefb9be8580853476676e5 155018 --> testing pass Upstream job id: Generic-Unit-Test-DPDK#352980 Test environment and result as below: +------------------------------+---------------------------+--------------+------------------------------+----------------+ | Environment | cryptodev_sw_zuc_autotest | lpm_autotest | cryptodev_sw_snow3g_autotest | dpdk_unit_test | +==============================+===========================+==============+==============================+================+ | Debian 12 (arm) | PASS | SKIPPED | PASS | SKIPPED | +------------------------------+---------------------------+--------------+------------------------------+----------------+ | Ubuntu 20.04 | SKIPPED | PASS | SKIPPED | PASS | +------------------------------+---------------------------+--------------+------------------------------+----------------+ | CentOS Stream 10 | SKIPPED | SKIPPED | SKIPPED | PASS | +------------------------------+---------------------------+--------------+------------------------------+----------------+ | Debian GNU/Linux 12 | SKIPPED | SKIPPED | SKIPPED | PASS | +------------------------------+---------------------------+--------------+------------------------------+----------------+ | Fedora Linux 40 | SKIPPED | SKIPPED | SKIPPED | PASS | +------------------------------+---------------------------+--------------+------------------------------+----------------+ | CentOS Stream 9 | SKIPPED | SKIPPED | SKIPPED | PASS | +------------------------------+---------------------------+--------------+------------------------------+----------------+ | Fedora Linux 41 | SKIPPED | SKIPPED | SKIPPED | PASS | +------------------------------+---------------------------+--------------+------------------------------+----------------+ | Red Hat Enterprise Linux 9.5 | SKIPPED | SKIPPED | SKIPPED | PASS | +------------------------------+---------------------------+--------------+------------------------------+----------------+ | Ubuntu 24.04 | SKIPPED | SKIPPED | SKIPPED | PASS | +------------------------------+---------------------------+--------------+------------------------------+----------------+ | Ubuntu 22.04 | SKIPPED | SKIPPED | SKIPPED | PASS | +------------------------------+---------------------------+--------------+------------------------------+----------------+ Debian 12 (arm) Kernel: Depends on container host Compiler: gcc (Debian 12.2.0-14) 12.2.0 Ubuntu 20.04 Kernel: 5.4 Compiler: gcc gcc (Ubuntu 9.4.0-1ubuntu1~20.04.2) 9.4.0 CentOS Stream 10 Kernel: 5.4 Compiler: gcc gcc (GCC) 14.2.1 20250110 (Red Hat 14.2.1-8) Debian GNU/Linux 12 Kernel: 5.4 Compiler: gcc gcc (Debian 12.2.0-14+deb12u1) 12.2.0 Fedora Linux 40 Kernel: 5.4 Compiler: clang gcc (GCC) 14.2.1 20240912 (Red Hat 14.2.1-3) CentOS Stream 9 Kernel: 5.4 Compiler: gcc gcc (GCC) 11.5.0 20240719 (Red Hat 11.5.0-7) Fedora Linux 41 Kernel: 5.4 Compiler: gcc gcc (GCC) 14.3.1 20250523 (Red Hat 14.3.1-1) Red Hat Enterprise Linux 9.5 Kernel: 5.4 Compiler: gcc gcc (GCC) 11.5.0 20240719 (Red Hat 11.5.0-2) Ubuntu 24.04 Kernel: 5.4 Compiler: gcc gcc (Ubuntu 13.3.0-6ubuntu2~24.04) 13.3.0 Ubuntu 22.04 Kernel: 5.4 Compiler: gcc gcc (Ubuntu 11.4.0-1ubuntu1~22.04) 11.4.0 To view detailed results, visit: https://lab.dpdk.org/results/dashboard/patchsets/33598/ UNH-IOL DPDK Community Lab To manage your email subscriptions, visit: https://lab.dpdk.org/results/dashboard/preferences/subscriptions/