From mboxrd@z Thu Jan 1 00:00:00 1970 Return-Path: Received: from mails.dpdk.org (mails.dpdk.org [217.70.189.124]) by inbox.dpdk.org (Postfix) with ESMTP id A060046ABF for ; Sat, 5 Jul 2025 23:58:28 +0200 (CEST) Received: from mails.dpdk.org (localhost [127.0.0.1]) by mails.dpdk.org (Postfix) with ESMTP id 860384025F; Sat, 5 Jul 2025 23:58:28 +0200 (CEST) Received: from mail-io1-f100.google.com (mail-io1-f100.google.com [209.85.166.100]) by mails.dpdk.org (Postfix) with ESMTP id CF8F04025F for ; Sat, 5 Jul 2025 23:58:26 +0200 (CEST) Received: by mail-io1-f100.google.com with SMTP id ca18e2360f4ac-876ae3f7768so211432339f.0 for ; Sat, 05 Jul 2025 14:58:26 -0700 (PDT) DKIM-Signature: v=1; a=rsa-sha256; c=relaxed/relaxed; d=iol.unh.edu; s=unh-iol; t=1751752706; x=1752357506; darn=dpdk.org; h=references:in-reply-to:cc:to:from:subject:message-id:date:from:to :cc:subject:date:message-id:reply-to; bh=JptC9jTXRTxSvo8yQ72xbEkQkA1DRUdCT8Xu5rk8fyY=; b=HfCOuzaPzKYtIy0tPp5QZdkc+tvYeep/za/8Wi+TyrrJh4C40IQGrrJ/LWXUShN009 TS77pGi7coXdyjrhBMXVAXSJcCPKKQF3uurslptxaK4D9T7R/3H8o38IINMZs4SaE+ln bQpdXnYh70LEaOiMZaIaAGUl+92DucZUaG5GI= X-Google-DKIM-Signature: v=1; a=rsa-sha256; c=relaxed/relaxed; d=1e100.net; s=20230601; t=1751752706; x=1752357506; h=references:in-reply-to:cc:to:from:subject:message-id:date :x-gm-message-state:from:to:cc:subject:date:message-id:reply-to; bh=JptC9jTXRTxSvo8yQ72xbEkQkA1DRUdCT8Xu5rk8fyY=; b=xPLBZ94aMsKWyNy4QJefw/nuY8QvzZpUBHhoUYWaKxaftdzM7ZWYxUnl9U8RkRLTg1 s+KlRU+5lUL5O3P9nPpfw8wE09O78HXa/4qOEK/QVGSY8lrumK+nT+NOynnYWFV/AGxP WaLHHZlqIke4p7Cw0XOVsnX4xhvfRktubBGesrDRQKlxdnAmMHlAv/a/Srqw6mcn9LU+ ATrQ62TQ6P/48cz5wG0MXtx60HHU3o2ydYouxhuZWyBESzE5oxbcQc2AXhqOXX5gjOv0 pBFKlBOQQosZ/3uyMoXwI2+zzhbWfZiwpWPieRxokD1wzf1YH9NhJrK1JNRnUd8N/cSW goiQ== X-Gm-Message-State: AOJu0YwhmB4vSNiU6RgjyfdaXWQPrRMnD1XUdzSrHEcRP8TALhNYS74+ FY4/ubUUUxZ6OFZ67kwjUINZIOgYCVlelUXMa2vMXwsquQZjVNSrIEi1BpqLjvb+yz6LLUpDk/5 bmKpdaS777LESbgC1+ESIb0284RHtLAhlcKwOXOwyAs+sBa75ZgR05H1LB6M8 X-Gm-Gg: ASbGncvIE/mbM3KqdNHXjUOqBQcUvBMf1PqFBLv6w+qx34Z1XP4+4Iowx/F/n9FgxXY KzqzSiUodj6KejQtpcjz8bgj+zFj0OZ0qXh5vm7OrnFdzzSACBlmb7c9+N9aChcw24kgvixYIzf w/P+H1/gwP6IzkOTzdi0icXK8IkNJPEUQIH0+6odeekc4bz9pw0NXJjKBkYXboXRtWkOHCAvrmu ocN+m8G9TljX5G2HM4REfrtJw710FyYyXO9Ct9yrIT71mj9AnkFsJgGfW1yUlgrRNUZON1HGCMp K+i8Da3bpDBKEypwChkfyVyopO5MM+/uTvypotoH6EjmNQo= X-Google-Smtp-Source: AGHT+IFrXmM24f3i45RWdGaGFdaelLlztjQZMlA/o5XqxjJIiNWg5cGm08DwhUoahmiewpewWTfcWeLKtfze X-Received: by 2002:a05:6602:378e:b0:86c:f9f4:6aa6 with SMTP id ca18e2360f4ac-876e47b46a7mr572592339f.7.1751752706115; Sat, 05 Jul 2025 14:58:26 -0700 (PDT) Received: from postal.iol.unh.edu (postal.iol.unh.edu. [2606:4100:3880:1234::84]) by smtp-relay.gmail.com with ESMTPS id 8926c6da1cb9f-503b59bde72sm151517173.4.2025.07.05.14.58.26 (version=TLS1_2 cipher=ECDHE-ECDSA-AES128-GCM-SHA256 bits=128/128); Sat, 05 Jul 2025 14:58:26 -0700 (PDT) X-Relaying-Domain: iol.unh.edu Date: Sat, 05 Jul 2025 14:58:26 -0700 (PDT) Message-ID: <6869a002.050a0220.339e17.7f1cSMTPIN_ADDED_MISSING@mx.google.com> Received: from [172.21.0.5] (unknown [172.18.0.240]) by postal.iol.unh.edu (Postfix) with ESMTP id B80776051830; Sat, 5 Jul 2025 17:58:25 -0400 (EDT) Subject: |WARNING| pw155018 [PATCH] [v1] event/dlb2: add support for stop and From: dpdklab@iol.unh.edu To: Test Report Cc: dpdk-test-reports@iol.unh.edu In-Reply-To: <20250705184209.924922-1-pravin.pathak@intel.com> References: <20250705184209.924922-1-pravin.pathak@intel.com> Content-Type: text/plain X-BeenThere: test-report@dpdk.org X-Mailman-Version: 2.1.29 Precedence: list List-Id: automatic DPDK test reports List-Unsubscribe: , List-Archive: List-Post: List-Help: List-Subscribe: , Errors-To: test-report-bounces@dpdk.org Test-Label: iol-compile-amd64-testing Test-Status: WARNING http://dpdk.org/patch/155018 _Testing issues_ Submitter: Pravin Pathak Date: Saturday, July 05 2025 18:42:09 DPDK git baseline: Repo:dpdk Branch: master CommitID:780a078533fe65635afefb9be8580853476676e5 155018 --> testing issues Upstream job id: Generic-DPDK-Compile-Meson#405869 Test environment and result as below: +-------------------------------+--------------------+-------------------+------------------+-------------------+-------------------------+----------------------+ | Environment | dpdk_meson_compile | dpdk_compile_spdk | dpdk_compile_ovs | dpdk_msvc_compile | dpdk_llvm_clang_compile | dpdk_mingw64_compile | +===============================+====================+===================+==================+===================+=========================+======================+ | CentOS Stream 10 | PASS | SKIPPED | SKIPPED | SKIPPED | SKIPPED | SKIPPED | +-------------------------------+--------------------+-------------------+------------------+-------------------+-------------------------+----------------------+ | CentOS Stream 9 | PASS | PASS | SKIPPED | SKIPPED | SKIPPED | SKIPPED | +-------------------------------+--------------------+-------------------+------------------+-------------------+-------------------------+----------------------+ | Debian GNU/Linux 12 | PASS | PASS | SKIPPED | SKIPPED | SKIPPED | SKIPPED | +-------------------------------+--------------------+-------------------+------------------+-------------------+-------------------------+----------------------+ | Fedora Linux 40 | PASS | WARN | SKIPPED | SKIPPED | SKIPPED | SKIPPED | +-------------------------------+--------------------+-------------------+------------------+-------------------+-------------------------+----------------------+ | Fedora Linux 41 | PASS | PASS | PASS | SKIPPED | SKIPPED | SKIPPED | +-------------------------------+--------------------+-------------------+------------------+-------------------+-------------------------+----------------------+ | openSUSE Leap 15.6 | PASS | SKIPPED | SKIPPED | SKIPPED | SKIPPED | SKIPPED | +-------------------------------+--------------------+-------------------+------------------+-------------------+-------------------------+----------------------+ | Red Hat Enterprise Linux 9.5 | PASS | SKIPPED | SKIPPED | SKIPPED | SKIPPED | SKIPPED | +-------------------------------+--------------------+-------------------+------------------+-------------------+-------------------------+----------------------+ | Red Hat Enterprise Linux 8.10 | PASS | SKIPPED | SKIPPED | SKIPPED | SKIPPED | SKIPPED | +-------------------------------+--------------------+-------------------+------------------+-------------------+-------------------------+----------------------+ | Ubuntu 20.04 | PASS | SKIPPED | SKIPPED | SKIPPED | SKIPPED | SKIPPED | +-------------------------------+--------------------+-------------------+------------------+-------------------+-------------------------+----------------------+ | Ubuntu 24.04 | PASS | PASS | PASS | SKIPPED | SKIPPED | SKIPPED | +-------------------------------+--------------------+-------------------+------------------+-------------------+-------------------------+----------------------+ | Alpine Linux 3.22.0 | PASS | SKIPPED | SKIPPED | SKIPPED | SKIPPED | SKIPPED | +-------------------------------+--------------------+-------------------+------------------+-------------------+-------------------------+----------------------+ | Ubuntu 22.04 | PASS | PASS | SKIPPED | SKIPPED | SKIPPED | SKIPPED | +-------------------------------+--------------------+-------------------+------------------+-------------------+-------------------------+----------------------+ | Windows Server 2022 | SKIPPED | SKIPPED | SKIPPED | PASS | PASS | PASS | +-------------------------------+--------------------+-------------------+------------------+-------------------+-------------------------+----------------------+ ==== 20 line log output for Fedora Linux 40 (dpdk_compile_spdk): ==== --- Failed to get log output --- ==== End log output ==== CentOS Stream 10 Kernel: 5.15 Compiler: gcc gcc (GCC) 14.2.1 20250110 (Red Hat 14.2.1-8) CentOS Stream 9 Kernel: 5.15 Compiler: gcc gcc (GCC) 11.5.0 20240719 (Red Hat 11.5.0-7) Debian GNU/Linux 12 Kernel: 5.15 Compiler: gcc gcc (Debian 12.2.0-14+deb12u1) 12.2.0 Fedora Linux 40 Kernel: 5.15 Compiler: gcc gcc (GCC) 14.2.1 20240912 (Red Hat 14.2.1-3) Fedora Linux 41 Kernel: 5.15 Compiler: clang gcc (GCC) 14.3.1 20250523 (Red Hat 14.3.1-1) openSUSE Leap 15.6 Kernel: 5.15 Compiler: gcc gcc (SUSE Linux) 7.5.0 Red Hat Enterprise Linux 9.5 Kernel: 5.15 Compiler: gcc gcc (GCC) 11.5.0 20240719 (Red Hat 11.5.0-2) Red Hat Enterprise Linux 8.10 Kernel: 5.15 Compiler: gcc gcc (GCC) 8.5.0 20210514 (Red Hat 8.5.0-22) Ubuntu 20.04 Kernel: 5.15 Compiler: gcc gcc (Ubuntu 9.4.0-1ubuntu1~20.04.2) 9.4.0 Ubuntu 24.04 Kernel: 5.15 Compiler: gcc gcc (Ubuntu 13.3.0-6ubuntu2~24.04) 13.3.0 Alpine Linux 3.22.0 Kernel: 5.15 Compiler: gcc gcc (Alpine 14.2.0) 14.2.0 Ubuntu 22.04 Kernel: 5.15 Compiler: gcc gcc (Ubuntu 11.4.0-1ubuntu1~22.04) 11.4.0 Windows Server 2022 Kernel: 10.0.20348.2031 Compiler: clang 15.0.7, gcc 14.1.0 (MinGW), and MSVC VS 19.39.33521 To view detailed results, visit: https://lab.dpdk.org/results/dashboard/patchsets/33598/ UNH-IOL DPDK Community Lab To manage your email subscriptions, visit: https://lab.dpdk.org/results/dashboard/preferences/subscriptions/