From mboxrd@z Thu Jan 1 00:00:00 1970 Return-Path: Received: from mails.dpdk.org (mails.dpdk.org [217.70.189.124]) by inbox.dpdk.org (Postfix) with ESMTP id 5C72946AD8 for ; Sun, 6 Jul 2025 00:56:02 +0200 (CEST) Received: from mails.dpdk.org (localhost [127.0.0.1]) by mails.dpdk.org (Postfix) with ESMTP id 3DD1D4025D; Sun, 6 Jul 2025 00:56:02 +0200 (CEST) Received: from mail-io1-f98.google.com (mail-io1-f98.google.com [209.85.166.98]) by mails.dpdk.org (Postfix) with ESMTP id B39D34025D for ; Sun, 6 Jul 2025 00:56:01 +0200 (CEST) Received: by mail-io1-f98.google.com with SMTP id ca18e2360f4ac-86d00726631so53324539f.1 for ; Sat, 05 Jul 2025 15:56:01 -0700 (PDT) DKIM-Signature: v=1; a=rsa-sha256; c=relaxed/relaxed; d=iol.unh.edu; s=unh-iol; t=1751756161; x=1752360961; darn=dpdk.org; h=references:in-reply-to:cc:to:from:subject:message-id:date:from:to :cc:subject:date:message-id:reply-to; bh=xKV4CpjSZ6+rDm2XstyPSzxVOCdZr2KHGI3itKc5KiQ=; b=Yfwo7MlTZg75UiyMPCbZRBzgkNYaJ0VJPcGx5dQHnyibxT71D8rEFcUxUHdOn4+ZK4 24UGE2q/No5eh09ammKN88X9j0yB7ay/Mr0+WN+wI0KQJqEZ+isrHXR9AeBDiIOkdzyA m78up/vpj5AwiOxF0G+BpmY3AfNA6Cjzpb8NM= X-Google-DKIM-Signature: v=1; a=rsa-sha256; c=relaxed/relaxed; d=1e100.net; s=20230601; t=1751756161; x=1752360961; h=references:in-reply-to:cc:to:from:subject:message-id:date :x-gm-message-state:from:to:cc:subject:date:message-id:reply-to; bh=xKV4CpjSZ6+rDm2XstyPSzxVOCdZr2KHGI3itKc5KiQ=; b=OF+TAxeovTR4AddTRjv3D2MEmwIPNiLSjDoWkDN+0cMQGcanI6uUaAgoBT5K6550ZI wQUJnvSW/6kExY2Lz6nfvcZAOfGt1NXczotyyXm+t+cxPmg7QleTMnVwiJeTNHytY8XU EAIDoYw+pgrxk2QI8jvGnXQIp8nMMDzEanhqTyaG6na2l702ilRA6NaqOd6g+skuJ2v7 EMDnMQQJ+I4QAluoSJWDMvK8Zz5i/qbO+d0DXvantNedVq6rjpzXHtsN/228GWNs2Uuy aPzd0EQoclYx9HyZC4Tq5dJA/N0xzPHsNXpo3Yu3vI6Beaxp7RhnH5UM/ONDxO0q8Ymy 8SDg== X-Gm-Message-State: AOJu0YzDz84qAaKFjDro/WHq41VJYZCl3zSkhcP1uzFNllKb6ruTgvoS 5BRMIcSIwnHaVCokvapHAH9dqdv5Ar2F1+iJKZ2zPYyf8W1xe4DhCf7s+HJXxJdfezj7vK4CJhN auvwuLH+jKuDJm0f8IvCDJ4L+Ar0srcZABh5uvYx6Sawp2foz4rAG4dYAEK0T X-Gm-Gg: ASbGnctLLKAcMbWUJlDoeZFLuDs0c0eCAz8yMXFfsNPf1f6hL7LM+QOLJnf9nPS/0IX IWhZJSCU4hlfSwl9FAdc5Bj62mlxaTWbI7g1zQ1P4QFWEEfrKhHlXYKTsE+7kXfO9L3A5ItXvzz RPBbVwdTvLDhk6DUo+oePp3/who+E48ethjgZa6sG8nUiWAyswwqWY/QiMUAoD7FPZ4146AAOX8 acyEdoJExSnIz0JcHaJYvqUc/BVQ+yTj4TJf8HMOwK+OMR75T5BwnLrOmcVQA/cJjNQCoXTnZhf QuKtj1H/V60/tI+ggFrAeMK1uHRqCo2RbLlcHu5wK7WmQzU= X-Google-Smtp-Source: AGHT+IGvl1rWoXXXKxFKiqH+p5hThRuyru1gP47GZbpv6ZuXZfLYfHB8EmUI6ptMsiuYcBlpp9kYfvNI5Hpt X-Received: by 2002:a05:6602:6a47:b0:86d:d6:5687 with SMTP id ca18e2360f4ac-876e4796fbemr582758839f.6.1751756160990; Sat, 05 Jul 2025 15:56:00 -0700 (PDT) Received: from postal.iol.unh.edu (postal.iol.unh.edu. [2606:4100:3880:1234::84]) by smtp-relay.gmail.com with ESMTPS id ca18e2360f4ac-876e082d5a4sm19003739f.14.2025.07.05.15.56.00 (version=TLS1_2 cipher=ECDHE-ECDSA-AES128-GCM-SHA256 bits=128/128); Sat, 05 Jul 2025 15:56:00 -0700 (PDT) X-Relaying-Domain: iol.unh.edu Date: Sat, 05 Jul 2025 15:56:00 -0700 (PDT) Message-ID: <6869ad80.050a0220.1721c0.9b3fSMTPIN_ADDED_MISSING@mx.google.com> Received: from [172.21.0.5] (unknown [172.18.0.240]) by postal.iol.unh.edu (Postfix) with ESMTP id 8535D6051830; Sat, 5 Jul 2025 18:56:00 -0400 (EDT) Subject: |SUCCESS| pw155019 [PATCH] [v2] event/dlb2: add support for stop and From: dpdklab@iol.unh.edu To: Test Report Cc: dpdk-test-reports@iol.unh.edu In-Reply-To: <20250705184752.925174-1-pravin.pathak@intel.com> References: <20250705184752.925174-1-pravin.pathak@intel.com> Content-Type: text/plain X-BeenThere: test-report@dpdk.org X-Mailman-Version: 2.1.29 Precedence: list List-Id: automatic DPDK test reports List-Unsubscribe: , List-Archive: List-Post: List-Help: List-Subscribe: , Errors-To: test-report-bounces@dpdk.org Test-Label: iol-compile-arm64-testing Test-Status: SUCCESS http://dpdk.org/patch/155019 _Testing PASS_ Submitter: Pravin Pathak Date: Saturday, July 05 2025 18:47:52 DPDK git baseline: Repo:dpdk Branch: master CommitID:780a078533fe65635afefb9be8580853476676e5 155019 --> testing pass Upstream job id: Generic-DPDK-Compile-Meson#405854 Test environment and result as below: +------------------------------+--------------------+ | Environment | dpdk_meson_compile | +==============================+====================+ | Red Hat Enterprise Linux 9.5 | PASS | +------------------------------+--------------------+ | Ubuntu 20.04 | PASS | +------------------------------+--------------------+ | Debian GNU/Linux 12 | PASS | +------------------------------+--------------------+ | Fedora Linux 40 | PASS | +------------------------------+--------------------+ | Ubuntu 24.04 | PASS | +------------------------------+--------------------+ | Fedora Linux 41 | PASS | +------------------------------+--------------------+ | Ubuntu 22.04 | PASS | +------------------------------+--------------------+ | CentOS Stream 9 | PASS | +------------------------------+--------------------+ | CentOS Stream 10 | PASS | +------------------------------+--------------------+ Red Hat Enterprise Linux 9.5 Kernel: 5.4 Compiler: gcc gcc (GCC) 11.5.0 20240719 (Red Hat 11.5.0-2) Ubuntu 20.04 Kernel: 5.4 Compiler: gcc gcc (Ubuntu 9.4.0-1ubuntu1~20.04.2) 9.4.0 Debian GNU/Linux 12 Kernel: 5.4 Compiler: gcc gcc (Debian 12.2.0-14+deb12u1) 12.2.0 Fedora Linux 40 Kernel: 5.4 Compiler: clang gcc (GCC) 14.2.1 20240912 (Red Hat 14.2.1-3) Ubuntu 24.04 Kernel: 5.4 Compiler: gcc gcc (Ubuntu 13.3.0-6ubuntu2~24.04) 13.3.0 Fedora Linux 41 Kernel: 5.4 Compiler: clang gcc (GCC) 14.3.1 20250523 (Red Hat 14.3.1-1) Ubuntu 22.04 Kernel: 5.4 Compiler: gcc gcc (Ubuntu 11.4.0-1ubuntu1~22.04) 11.4.0 CentOS Stream 9 Kernel: 5.4 Compiler: gcc gcc (GCC) 11.5.0 20240719 (Red Hat 11.5.0-7) CentOS Stream 10 Kernel: 5.4 Compiler: gcc gcc (GCC) 14.2.1 20250110 (Red Hat 14.2.1-8) To view detailed results, visit: https://lab.dpdk.org/results/dashboard/patchsets/33599/ UNH-IOL DPDK Community Lab To manage your email subscriptions, visit: https://lab.dpdk.org/results/dashboard/preferences/subscriptions/