From mboxrd@z Thu Jan 1 00:00:00 1970 Return-Path: Received: from mails.dpdk.org (mails.dpdk.org [217.70.189.124]) by inbox.dpdk.org (Postfix) with ESMTP id ED51C46AEC for ; Sun, 6 Jul 2025 01:18:48 +0200 (CEST) Received: from mails.dpdk.org (localhost [127.0.0.1]) by mails.dpdk.org (Postfix) with ESMTP id E8E7C4025D; Sun, 6 Jul 2025 01:18:48 +0200 (CEST) Received: from mail-io1-f99.google.com (mail-io1-f99.google.com [209.85.166.99]) by mails.dpdk.org (Postfix) with ESMTP id 931374025D for ; Sun, 6 Jul 2025 01:18:47 +0200 (CEST) Received: by mail-io1-f99.google.com with SMTP id ca18e2360f4ac-86d0c5981b3so72039239f.3 for ; Sat, 05 Jul 2025 16:18:47 -0700 (PDT) DKIM-Signature: v=1; a=rsa-sha256; c=relaxed/relaxed; d=iol.unh.edu; s=unh-iol; t=1751757527; x=1752362327; darn=dpdk.org; h=references:in-reply-to:cc:to:from:subject:message-id:date:from:to :cc:subject:date:message-id:reply-to; bh=RG4kyOUDS903Tyu/J8M17t93rfCIIAgN1ml3UtpBiYc=; b=NIFEVlvtfH+CyCjXo3e9ZHpLLBrT/0V4V6MVqOncyKeJbK1ltQBo/7YsaRVGb/OBaI 8loVHlDskh7nwOSzZ5XmHl1MfTa2kwHMBpwTo/UzaJJpq57XmVS+kDEn2CD8l8TDac3B rnGonfqrzC5jFEhUHUR7c0rxoZTvDrUeYqfKg= X-Google-DKIM-Signature: v=1; a=rsa-sha256; c=relaxed/relaxed; d=1e100.net; s=20230601; t=1751757527; x=1752362327; h=references:in-reply-to:cc:to:from:subject:message-id:date :x-gm-message-state:from:to:cc:subject:date:message-id:reply-to; bh=RG4kyOUDS903Tyu/J8M17t93rfCIIAgN1ml3UtpBiYc=; b=EMkkQnywLAiJM93sCcNxpIioXlR2U7at9iZ0Nefkhh0HuPp2C4ZSD8FUtb3ue9WZiX ln799Z51slJDS4SwbFLkvLorLFvSAOPwxGlexjvXETkIzrY7zB4vQ69gFqsZ+PDnL6Ff 2Jtb2Yh7nPFJyLu17iHec1RqiY9UwzZDAnAsvRvzBFG7hqBm0kGisdGqU+nWEPaOHW/p gZ3gcws13h9/yVHZSpEqC/pNO/OWb9/XiCu43VWm2BJtdC2CuORc1I0DGKek+bvoqZT+ +qkRMNpdX6QyB2gWo7VcFsR2+whzJjwcOZZ7xHmUMr2IGKjNJ6sviCEUpXj/rMyHnUo8 UElA== X-Gm-Message-State: AOJu0Yy9OVKDTBn09WO0WH1qdpENAQdbbBb7L2yaxoGFFnnbT6/pom5d 586XRkem5qDlBGHps8xCDaYZj+jzGyJ8d/r6orzjlk4AhTVqwIQB4n+FM95QCvBLndy4B6LGF+b fNvcI9ONT9mo0Fasg9jbvIxL+TdZHAE7Vunsy5jNaGXVu X-Gm-Gg: ASbGncvbCovmrNFNau55SkUG8j7W+NvJ2RfZ0FIQm810tdsviTzOylBkNGChBETxl/Q C06nCzGbm2noOCuIpoXnFcMFAFbYor2D/kMgl7Jmlitvcjfa6QSmjr5qNMCQHRm/YIVcCjxhnlx hiNYQfPVM8/wGxy8G7pvHglo9CM0ypV1+442XyQ2E6DVnYhcKcOCHnwF48XWo2AVIQSDoUWHhsZ NivzyyefsEcuqwoSIZAEBYKOri8bpHtf4vjEIgm1sBxLj+nFTquc1ZxM/smc7btFEe2k79zD7oN IH9/UPL3/Iui0/6M4ktG5mDTqG1jrF/58n/vEkB7T/DUC7aplkc4hikvxXO2MVOjypPT4A== X-Google-Smtp-Source: AGHT+IHI3Astke3ga4MXpdrr1tDDm7et9tHz691Fu82/lJVl49Y+cCB2obeXnIuJ95yEjkQK7nMn8+5HIx5Z X-Received: by 2002:a05:6602:3805:b0:873:f21:d912 with SMTP id ca18e2360f4ac-876e15722c9mr594595339f.2.1751757526900; Sat, 05 Jul 2025 16:18:46 -0700 (PDT) Received: from postal.iol.unh.edu (postal.iol.unh.edu. [132.177.123.84]) by smtp-relay.gmail.com with ESMTPS id ca18e2360f4ac-876e079e6bdsm19404839f.4.2025.07.05.16.18.46 (version=TLS1_2 cipher=ECDHE-ECDSA-AES128-GCM-SHA256 bits=128/128); Sat, 05 Jul 2025 16:18:46 -0700 (PDT) X-Relaying-Domain: iol.unh.edu Date: Sat, 05 Jul 2025 16:18:46 -0700 (PDT) Message-ID: <6869b2d6.050a0220.2ae19.9f2dSMTPIN_ADDED_MISSING@mx.google.com> Received: from [172.21.0.5] (unknown [172.18.0.240]) by postal.iol.unh.edu (Postfix) with ESMTP id 6049760003E7; Sat, 5 Jul 2025 19:18:46 -0400 (EDT) Subject: |SUCCESS| pw155020 [PATCH] net/i40e: fix missing support for RSS IPv From: dpdklab@iol.unh.edu To: Test Report Cc: dpdk-test-reports@iol.unh.edu In-Reply-To: <20250705215412.200958-1-dhanya.r.pillai@intel.com> References: <20250705215412.200958-1-dhanya.r.pillai@intel.com> Content-Type: text/plain X-BeenThere: test-report@dpdk.org X-Mailman-Version: 2.1.29 Precedence: list List-Id: automatic DPDK test reports List-Unsubscribe: , List-Archive: List-Post: List-Help: List-Subscribe: , Errors-To: test-report-bounces@dpdk.org Test-Label: iol-unit-amd64-testing Test-Status: SUCCESS http://dpdk.org/patch/155020 _Testing PASS_ Submitter: Dhanya Pillai Date: Saturday, July 05 2025 21:54:07 DPDK git baseline: Repo:dpdk Branch: master CommitID:0ae2a33d16a8727ac2935ac500e216906b50ac2c 155020 --> testing pass Upstream job id: Generic-VM-Unit-Test-DPDK#29753 Test environment and result as below: +-------------------------------+----------------+ | Environment | dpdk_unit_test | +===============================+================+ | Fedora Linux 40 | PASS | +-------------------------------+----------------+ | CentOS Stream 10 | PASS | +-------------------------------+----------------+ | CentOS Stream 9 | PASS | +-------------------------------+----------------+ | Red Hat Enterprise Linux 8.10 | PASS | +-------------------------------+----------------+ | Fedora Linux 41 | PASS | +-------------------------------+----------------+ | Debian GNU/Linux 12 | PASS | +-------------------------------+----------------+ | Ubuntu 20.04 | PASS | +-------------------------------+----------------+ | Ubuntu 22.04 | PASS | +-------------------------------+----------------+ | Red Hat Enterprise Linux 9.5 | PASS | +-------------------------------+----------------+ | Ubuntu 24.04 | PASS | +-------------------------------+----------------+ | Windows Server 2022 | PASS | +-------------------------------+----------------+ Fedora Linux 40 Kernel: 5.15 Compiler: clang gcc (GCC) 14.2.1 20240912 (Red Hat 14.2.1-3) CentOS Stream 10 Kernel: 5.15 Compiler: gcc gcc (GCC) 14.2.1 20250110 (Red Hat 14.2.1-8) CentOS Stream 9 Kernel: 5.15 Compiler: gcc gcc (GCC) 11.5.0 20240719 (Red Hat 11.5.0-7) Red Hat Enterprise Linux 8.10 Kernel: 5.15 Compiler: gcc gcc (GCC) 8.5.0 20210514 (Red Hat 8.5.0-22) Fedora Linux 41 Kernel: 5.15 Compiler: clang gcc (GCC) 14.3.1 20250523 (Red Hat 14.3.1-1) Debian GNU/Linux 12 Kernel: 5.15 Compiler: gcc gcc (Debian 12.2.0-14+deb12u1) 12.2.0 Ubuntu 20.04 Kernel: 5.15 Compiler: gcc gcc (Ubuntu 9.4.0-1ubuntu1~20.04.2) 9.4.0 Ubuntu 22.04 Kernel: 5.15 Compiler: gcc gcc (Ubuntu 11.4.0-1ubuntu1~22.04) 11.4.0 Red Hat Enterprise Linux 9.5 Kernel: 5.15 Compiler: gcc gcc (GCC) 11.5.0 20240719 (Red Hat 11.5.0-2) Ubuntu 24.04 Kernel: 5.15 Compiler: gcc gcc (Ubuntu 13.3.0-6ubuntu2~24.04) 13.3.0 Windows Server 2022 Kernel: 10.0.20348.2031 Compiler: clang 15.0.7, gcc 14.1.0 (MinGW), and MSVC VS 19.39.33521 To view detailed results, visit: https://lab.dpdk.org/results/dashboard/patchsets/33600/ UNH-IOL DPDK Community Lab To manage your email subscriptions, visit: https://lab.dpdk.org/results/dashboard/preferences/subscriptions/