From mboxrd@z Thu Jan 1 00:00:00 1970 Return-Path: Received: from mails.dpdk.org (mails.dpdk.org [217.70.189.124]) by inbox.dpdk.org (Postfix) with ESMTP id 7493846AEC for ; Sun, 6 Jul 2025 01:22:44 +0200 (CEST) Received: from mails.dpdk.org (localhost [127.0.0.1]) by mails.dpdk.org (Postfix) with ESMTP id 4C5424025D; Sun, 6 Jul 2025 01:22:44 +0200 (CEST) Received: from mail-pg1-f226.google.com (mail-pg1-f226.google.com [209.85.215.226]) by mails.dpdk.org (Postfix) with ESMTP id ADDAA4025D for ; Sun, 6 Jul 2025 01:22:42 +0200 (CEST) Received: by mail-pg1-f226.google.com with SMTP id 41be03b00d2f7-879d2e419b9so1332495a12.2 for ; Sat, 05 Jul 2025 16:22:42 -0700 (PDT) DKIM-Signature: v=1; a=rsa-sha256; c=relaxed/relaxed; d=iol.unh.edu; s=unh-iol; t=1751757762; x=1752362562; darn=dpdk.org; h=references:in-reply-to:cc:to:from:subject:message-id:date:from:to :cc:subject:date:message-id:reply-to; bh=Yrntq2T61JhmeWi9lRvoSXcDUBbh61nkO/lLW2RaLQs=; b=bU2TsSKvm66FmHIRsr/ATCaZQkmzfKIuBhFKSLZ9FcsbLTc9rI28EhxkRZ8xXV/FOt NcnUpm7PcpsX+bDX3vTAmmX3FbYIPP909tBGOKQJuyBFV2zn0bvOiIjtSsDQl/P5ji3L FZzv/dXeFJ53ngXCS7Fan5vObtshVgq9E1rUc= X-Google-DKIM-Signature: v=1; a=rsa-sha256; c=relaxed/relaxed; d=1e100.net; s=20230601; t=1751757762; x=1752362562; h=references:in-reply-to:cc:to:from:subject:message-id:date :x-gm-message-state:from:to:cc:subject:date:message-id:reply-to; bh=Yrntq2T61JhmeWi9lRvoSXcDUBbh61nkO/lLW2RaLQs=; b=kh5H0ea9UWmZj2iHWCK6jJvZlzzias6oxIISp9aGrDtZuEOpOUuL+e5q4cMHRQg008 IMT0MEnPRqhd/QaDn8TqXrEQF52kEu9TezeQuoPud3ou+OUTT5Iz7tuuqtoG0KB9G06d zuWK2OfC3N9g7Vh34ixL2YmVbiHyI4utme0zq1rq9rPU13R269cHEovOvCItB79cKE88 Py6hl9jggD8SyCqBQizIws/y8trGRkISi4kZ+g3xio0fVdm681DhpCVH/dvROGpHRHx1 ItFPClyd7nJ6yEjrh8Zl22FBlKOt764G5UuS9RggFxL/4HDieTBq2NXcIyfV4wdWhZqA bo2A== X-Gm-Message-State: AOJu0YxD2wnx7bCmqiv0xtKenC7mXott298hzKeSV9WsBuLE66aSm8EO OtturhQdOSiwFnegW6QXSmQz3yOkWgOrd/Q3HSuYnrh7O+7GqbNxSx9jKUmurDIWrfpwHv2GU5Z fixsDt6tXDgUfDU0uwGY+bFLfSiwpDqhSkxnWFpq+l40peSqG8PxJrFiTcvxc X-Gm-Gg: ASbGnct7Jg7QcaD/f8w7fdW0nSP030ZOvECpSlXYvXnG3Jmr2IIoXnigOh2xK60raQY ykzfIpybNXEaj8zKgnUf/3tKUnVpjM3gGmpVVmHUOzTqgSZSt1EzCJGAAaYTLOqPHnqdKMctOXx /BtPkHeiR0iBjhoRrrvbdD3CFXv2RNj6S0r9QhYapRRn8f3XCG8MYOokAhgZ1B4Xjydtn7cb5eR /hJYTyQPovht1iSd73RsBpuTI81Izbns7ZLX7E2bP8IqOZ7zHEsR1zdrWOIirRi2fh5eNsPcgEY d+3EkehjA47arD01GoivL3/fHwoFmOXvCWzPLzmzG+oUh4w= X-Google-Smtp-Source: AGHT+IGWO0R/bUJj7863BeP2wWvx8uZgx3fPEPwXwmEW3h7FO1x1gku57zUADO2SUA7koxRVpsHERNd899ox X-Received: by 2002:a17:903:faf:b0:23c:8f13:1381 with SMTP id d9443c01a7336-23c90fa6619mr60480285ad.19.1751757761734; Sat, 05 Jul 2025 16:22:41 -0700 (PDT) Received: from postal.iol.unh.edu (postal.iol.unh.edu. [2606:4100:3880:1234::84]) by smtp-relay.gmail.com with ESMTPS id d9443c01a7336-23c844e1410sm2374475ad.73.2025.07.05.16.22.41 (version=TLS1_2 cipher=ECDHE-ECDSA-AES128-GCM-SHA256 bits=128/128); Sat, 05 Jul 2025 16:22:41 -0700 (PDT) X-Relaying-Domain: iol.unh.edu Date: Sat, 05 Jul 2025 16:22:41 -0700 (PDT) Message-ID: <6869b3c1.170a0220.4ff8b.c5c8SMTPIN_ADDED_MISSING@mx.google.com> Received: from [172.21.0.5] (unknown [172.18.0.240]) by postal.iol.unh.edu (Postfix) with ESMTP id E5B6F6051830; Sat, 5 Jul 2025 19:22:40 -0400 (EDT) Subject: |SUCCESS| pw155020 [PATCH] net/i40e: fix missing support for RSS IPv From: dpdklab@iol.unh.edu To: Test Report Cc: dpdk-test-reports@iol.unh.edu In-Reply-To: <20250705215412.200958-1-dhanya.r.pillai@intel.com> References: <20250705215412.200958-1-dhanya.r.pillai@intel.com> Content-Type: text/plain X-BeenThere: test-report@dpdk.org X-Mailman-Version: 2.1.29 Precedence: list List-Id: automatic DPDK test reports List-Unsubscribe: , List-Archive: List-Post: List-Help: List-Subscribe: , Errors-To: test-report-bounces@dpdk.org Test-Label: iol-abi-testing Test-Status: SUCCESS http://dpdk.org/patch/155020 _Testing PASS_ Submitter: Dhanya Pillai Date: Saturday, July 05 2025 21:54:07 DPDK git baseline: Repo:dpdk Branch: master CommitID:0ae2a33d16a8727ac2935ac500e216906b50ac2c 155020 --> testing pass Upstream job id: Generic-DPDK-Compile-ABI#133256 Test environment and result as below: +-------------------------------+----------+ | Environment | abi_test | +===============================+==========+ | CentOS Stream 9 | PASS | +-------------------------------+----------+ | CentOS Stream 10 | PASS | +-------------------------------+----------+ | Debian GNU/Linux 12 | PASS | +-------------------------------+----------+ | Fedora Linux 40 | PASS | +-------------------------------+----------+ | Fedora Linux 41 | PASS | +-------------------------------+----------+ | Ubuntu 24.04 | PASS | +-------------------------------+----------+ | Ubuntu 22.04 | PASS | +-------------------------------+----------+ | openSUSE Leap 15.6 | PASS | +-------------------------------+----------+ | Red Hat Enterprise Linux 9.5 | PASS | +-------------------------------+----------+ | Red Hat Enterprise Linux 8.10 | PASS | +-------------------------------+----------+ CentOS Stream 9 Kernel: 5.15 Compiler: gcc gcc (GCC) 11.5.0 20240719 (Red Hat 11.5.0-7) CentOS Stream 10 Kernel: 5.15 Compiler: gcc gcc (GCC) 14.2.1 20250110 (Red Hat 14.2.1-8) Debian GNU/Linux 12 Kernel: 5.15 Compiler: gcc gcc (Debian 12.2.0-14+deb12u1) 12.2.0 Fedora Linux 40 Kernel: 5.15 Compiler: gcc gcc (GCC) 14.2.1 20240912 (Red Hat 14.2.1-3) Fedora Linux 41 Kernel: 5.15 Compiler: clang gcc (GCC) 14.3.1 20250523 (Red Hat 14.3.1-1) Ubuntu 24.04 Kernel: 5.15 Compiler: gcc gcc (Ubuntu 13.3.0-6ubuntu2~24.04) 13.3.0 Ubuntu 22.04 Kernel: 5.15 Compiler: gcc gcc (Ubuntu 11.4.0-1ubuntu1~22.04) 11.4.0 openSUSE Leap 15.6 Kernel: 5.15 Compiler: gcc gcc (SUSE Linux) 7.5.0 Red Hat Enterprise Linux 9.5 Kernel: 5.15 Compiler: gcc gcc (GCC) 11.5.0 20240719 (Red Hat 11.5.0-2) Red Hat Enterprise Linux 8.10 Kernel: 5.15 Compiler: gcc gcc (GCC) 8.5.0 20210514 (Red Hat 8.5.0-22) To view detailed results, visit: https://lab.dpdk.org/results/dashboard/patchsets/33600/ UNH-IOL DPDK Community Lab To manage your email subscriptions, visit: https://lab.dpdk.org/results/dashboard/preferences/subscriptions/