From mboxrd@z Thu Jan 1 00:00:00 1970 Return-Path: Received: from mails.dpdk.org (mails.dpdk.org [217.70.189.124]) by inbox.dpdk.org (Postfix) with ESMTP id 7992F46AEC for ; Sun, 6 Jul 2025 01:23:56 +0200 (CEST) Received: from mails.dpdk.org (localhost [127.0.0.1]) by mails.dpdk.org (Postfix) with ESMTP id 734A94025D; Sun, 6 Jul 2025 01:23:56 +0200 (CEST) Received: from mail-qv1-f99.google.com (mail-qv1-f99.google.com [209.85.219.99]) by mails.dpdk.org (Postfix) with ESMTP id 020684025D for ; Sun, 6 Jul 2025 01:23:55 +0200 (CEST) Received: by mail-qv1-f99.google.com with SMTP id 6a1803df08f44-6fad79433bbso19410706d6.0 for ; Sat, 05 Jul 2025 16:23:54 -0700 (PDT) DKIM-Signature: v=1; a=rsa-sha256; c=relaxed/relaxed; d=iol.unh.edu; s=unh-iol; t=1751757834; x=1752362634; darn=dpdk.org; h=references:in-reply-to:cc:to:from:subject:message-id:date:from:to :cc:subject:date:message-id:reply-to; bh=LhNG6W2GMYQ0hE7XbSUT/lh0QS880Vkg1IfrJi7w2W0=; b=M5MJVgJqQmUV7ReBhTWSiqT4gTPcPYcm38oEl5uEkZpmG0ILJZD9o07GXywW7tVfsm 5+VrOvs7nTJfibYHsN/CxM7xJB73vMW8kvDcPRT+Z963ybKuzcYsbEuP344Qn9B4qFPp PhIFVogUYmX5PKNwWGSmVPFwWjYnZtBgzoK8c= X-Google-DKIM-Signature: v=1; a=rsa-sha256; c=relaxed/relaxed; d=1e100.net; s=20230601; t=1751757834; x=1752362634; h=references:in-reply-to:cc:to:from:subject:message-id:date :x-gm-message-state:from:to:cc:subject:date:message-id:reply-to; bh=LhNG6W2GMYQ0hE7XbSUT/lh0QS880Vkg1IfrJi7w2W0=; b=gJAhlSzLzrUOhRsFsmNmVrsn4C7m5WFCmB2+yiW9D5PueFUQ6X/FASJPc+QFphHOHF 2yrTf8OaFA9b6cnkoz2qVGYnV4dP6/SD4hNrKFKPfjcNN13AL7oSgJMrCxF7KOLlluR9 Q5ROY6Hk6DQcITKPY/qtspel5SAtofAL+U3DXRt5czA4rTLKI0k1xN11LWrkTf8lZcGZ vh2K2z5GetgcqS78e/Mv4dWPOrSANwkZgIL1E3dXDOWZDw5hslvybm9GGOHYopCKfFoB vXxMjoQzw0Zz/lvgEw08Cpu/aXlME05OSJ+6M8UCwN3Ews2rr+QOhyVRjQES2aBXMJW+ JjTQ== X-Gm-Message-State: AOJu0YxiKeaoHUCzUi17ZRx3lQvIcS7uKZZ++XtBybEMJEf+Be4Kyk0c YtQsO8ciSmiwju3H9S64lidfm0bpF3gAzmdj/xCqtjXGif3DAOBT5hRodXbQdUJyU0tfMmgl85X MWVfweY68X0IiqiVU9/GRsbTCU7DJGKEVG7lQlYWmAK1T X-Gm-Gg: ASbGncvEz3tj2wM4RLA728Ab/taRGOh5lDSAyISq9YIsKkapKEA23qhWal6ZBK3ZxX1 NBNPXzY4hRz9tQy9CAyj9eTzb426REeO8K9N9muZrR20FIKUh8HkKY/HGrK1h1Cgdkc15hnUPV4 qLRvitmA7ahSFFOYbSRF4sH7DfS8bRsiPIraRdk5wf/YPdgE6u8ewb8Y1ANwjJZYZlyiEuhq5Vk N44tZ9mg9CR+NAqtUHvq3VHX8uzYboLi7AK57AuArvwTSoOlvYt3dA1S5qXzO5wEo1EN4YqMtZn HZRla0YyJEPbC/8FHo70vJE9C6MoI3evXl/FWW5WMt922F4Ov33KwAva3EOO8m8DhnM5GA== X-Google-Smtp-Source: AGHT+IH0ZhYel/QlcQUIOFgeVJoVvAsdsqDQrtagNL/3IEZdBiX4hTRIPBp2mC1ijO2ZANpCjmV1Vp1SE4hh X-Received: by 2002:a05:6214:224b:b0:6ff:1542:6590 with SMTP id 6a1803df08f44-702c8b58c9amr98745636d6.2.1751757834354; Sat, 05 Jul 2025 16:23:54 -0700 (PDT) Received: from postal.iol.unh.edu (postal.iol.unh.edu. [132.177.123.84]) by smtp-relay.gmail.com with ESMTPS id 6a1803df08f44-702c4d51539sm2310036d6.47.2025.07.05.16.23.54 (version=TLS1_2 cipher=ECDHE-ECDSA-AES128-GCM-SHA256 bits=128/128); Sat, 05 Jul 2025 16:23:54 -0700 (PDT) X-Relaying-Domain: iol.unh.edu Date: Sat, 05 Jul 2025 16:23:54 -0700 (PDT) Message-ID: <6869b40a.050a0220.a9317.be58SMTPIN_ADDED_MISSING@mx.google.com> Received: from [172.21.0.5] (unknown [172.18.0.240]) by postal.iol.unh.edu (Postfix) with ESMTP id 0ADCB6051830; Sat, 5 Jul 2025 19:23:54 -0400 (EDT) Subject: |WARNING| pw155020 [PATCH] net/i40e: fix missing support for RSS IPv From: dpdklab@iol.unh.edu To: Test Report Cc: dpdk-test-reports@iol.unh.edu In-Reply-To: <20250705215412.200958-1-dhanya.r.pillai@intel.com> References: <20250705215412.200958-1-dhanya.r.pillai@intel.com> Content-Type: text/plain X-BeenThere: test-report@dpdk.org X-Mailman-Version: 2.1.29 Precedence: list List-Id: automatic DPDK test reports List-Unsubscribe: , List-Archive: List-Post: List-Help: List-Subscribe: , Errors-To: test-report-bounces@dpdk.org Test-Label: iol-compile-amd64-testing Test-Status: WARNING http://dpdk.org/patch/155020 _Testing issues_ Submitter: Dhanya Pillai Date: Saturday, July 05 2025 21:54:07 DPDK git baseline: Repo:dpdk Branch: master CommitID:0ae2a33d16a8727ac2935ac500e216906b50ac2c 155020 --> testing issues Upstream job id: Generic-DPDK-Compile-Meson#405908 Test environment and result as below: +-------------------------------+--------------------+-------------------+------------------+-------------------------+-------------------+----------------------+ | Environment | dpdk_meson_compile | dpdk_compile_spdk | dpdk_compile_ovs | dpdk_llvm_clang_compile | dpdk_msvc_compile | dpdk_mingw64_compile | +===============================+====================+===================+==================+=========================+===================+======================+ | CentOS Stream 10 | PASS | SKIPPED | SKIPPED | SKIPPED | SKIPPED | SKIPPED | +-------------------------------+--------------------+-------------------+------------------+-------------------------+-------------------+----------------------+ | CentOS Stream 9 | PASS | PASS | SKIPPED | SKIPPED | SKIPPED | SKIPPED | +-------------------------------+--------------------+-------------------+------------------+-------------------------+-------------------+----------------------+ | Debian GNU/Linux 12 | PASS | PASS | SKIPPED | SKIPPED | SKIPPED | SKIPPED | +-------------------------------+--------------------+-------------------+------------------+-------------------------+-------------------+----------------------+ | Fedora Linux 40 | PASS | PASS | SKIPPED | SKIPPED | SKIPPED | SKIPPED | +-------------------------------+--------------------+-------------------+------------------+-------------------------+-------------------+----------------------+ | Fedora Linux 41 | PASS | PASS | PASS | SKIPPED | SKIPPED | SKIPPED | +-------------------------------+--------------------+-------------------+------------------+-------------------------+-------------------+----------------------+ | openSUSE Leap 15.6 | PASS | SKIPPED | SKIPPED | SKIPPED | SKIPPED | SKIPPED | +-------------------------------+--------------------+-------------------+------------------+-------------------------+-------------------+----------------------+ | Red Hat Enterprise Linux 8.10 | PASS | SKIPPED | SKIPPED | SKIPPED | SKIPPED | SKIPPED | +-------------------------------+--------------------+-------------------+------------------+-------------------------+-------------------+----------------------+ | Red Hat Enterprise Linux 9.5 | PASS | SKIPPED | SKIPPED | SKIPPED | SKIPPED | SKIPPED | +-------------------------------+--------------------+-------------------+------------------+-------------------------+-------------------+----------------------+ | Ubuntu 20.04 | PASS | SKIPPED | SKIPPED | SKIPPED | SKIPPED | SKIPPED | +-------------------------------+--------------------+-------------------+------------------+-------------------------+-------------------+----------------------+ | Ubuntu 22.04 | PASS | PASS | SKIPPED | SKIPPED | SKIPPED | SKIPPED | +-------------------------------+--------------------+-------------------+------------------+-------------------------+-------------------+----------------------+ | Ubuntu 24.04 | PASS | PASS | PASS | SKIPPED | SKIPPED | SKIPPED | +-------------------------------+--------------------+-------------------+------------------+-------------------------+-------------------+----------------------+ | Alpine Linux 3.22.0 | PASS | SKIPPED | SKIPPED | SKIPPED | SKIPPED | SKIPPED | +-------------------------------+--------------------+-------------------+------------------+-------------------------+-------------------+----------------------+ | Windows Server 2022 | SKIPPED | SKIPPED | SKIPPED | PASS | PASS | PASS | +-------------------------------+--------------------+-------------------+------------------+-------------------------+-------------------+----------------------+ CentOS Stream 10 Kernel: 5.15 Compiler: gcc gcc (GCC) 14.2.1 20250110 (Red Hat 14.2.1-8) CentOS Stream 9 Kernel: 5.15 Compiler: gcc gcc (GCC) 11.5.0 20240719 (Red Hat 11.5.0-7) Debian GNU/Linux 12 Kernel: 5.15 Compiler: gcc gcc (Debian 12.2.0-14+deb12u1) 12.2.0 Fedora Linux 40 Kernel: 5.15 Compiler: clang gcc (GCC) 14.2.1 20240912 (Red Hat 14.2.1-3) Fedora Linux 41 Kernel: 5.15 Compiler: clang gcc (GCC) 14.3.1 20250523 (Red Hat 14.3.1-1) openSUSE Leap 15.6 Kernel: 5.15 Compiler: gcc gcc (SUSE Linux) 7.5.0 Red Hat Enterprise Linux 8.10 Kernel: 5.15 Compiler: gcc gcc (GCC) 8.5.0 20210514 (Red Hat 8.5.0-22) Red Hat Enterprise Linux 9.5 Kernel: 5.15 Compiler: gcc gcc (GCC) 11.5.0 20240719 (Red Hat 11.5.0-2) Ubuntu 20.04 Kernel: 5.15 Compiler: gcc gcc (Ubuntu 9.4.0-1ubuntu1~20.04.2) 9.4.0 Ubuntu 22.04 Kernel: 5.15 Compiler: gcc gcc (Ubuntu 11.4.0-1ubuntu1~22.04) 11.4.0 Ubuntu 24.04 Kernel: 5.15 Compiler: gcc gcc (Ubuntu 13.3.0-6ubuntu2~24.04) 13.3.0 Alpine Linux 3.22.0 Kernel: 5.15 Compiler: gcc gcc (Alpine 14.2.0) 14.2.0 Windows Server 2022 Kernel: 10.0.20348.2031 Compiler: clang 15.0.7, gcc 14.1.0 (MinGW), and MSVC VS 19.39.33521 To view detailed results, visit: https://lab.dpdk.org/results/dashboard/patchsets/33600/ UNH-IOL DPDK Community Lab To manage your email subscriptions, visit: https://lab.dpdk.org/results/dashboard/preferences/subscriptions/