From mboxrd@z Thu Jan 1 00:00:00 1970 Return-Path: Received: from mails.dpdk.org (mails.dpdk.org [217.70.189.124]) by inbox.dpdk.org (Postfix) with ESMTP id 63DB946AEC for ; Sun, 6 Jul 2025 01:31:44 +0200 (CEST) Received: from mails.dpdk.org (localhost [127.0.0.1]) by mails.dpdk.org (Postfix) with ESMTP id 3AFCD4025D; Sun, 6 Jul 2025 01:31:44 +0200 (CEST) Received: from mail-oa1-f98.google.com (mail-oa1-f98.google.com [209.85.160.98]) by mails.dpdk.org (Postfix) with ESMTP id 28B324025D for ; Sun, 6 Jul 2025 01:31:43 +0200 (CEST) Received: by mail-oa1-f98.google.com with SMTP id 586e51a60fabf-2ea08399ec8so1705971fac.1 for ; Sat, 05 Jul 2025 16:31:43 -0700 (PDT) DKIM-Signature: v=1; a=rsa-sha256; c=relaxed/relaxed; d=iol.unh.edu; s=unh-iol; t=1751758302; x=1752363102; darn=dpdk.org; h=references:in-reply-to:cc:to:from:subject:message-id:date:from:to :cc:subject:date:message-id:reply-to; bh=pM8LDbLp2T1qjPgApK9Ax+9TzP4zqDTBZ4PBQ6Qquac=; b=KxKD4QEx0+v4burx3qIFcS2aqykv4dNtIXeMorCX/NI+oP4EvHSZVb5+ltADf7ZYLG AG6IsYbUcKPfDvOQEZ/vigU1xDkXkM1y3i6qUbeKdz2OMnn0kNiG/js1taZ4ximWnJ9d sMpgnRXa2JPQD9AXlYVM6j3spmEFHss3jmzWk= X-Google-DKIM-Signature: v=1; a=rsa-sha256; c=relaxed/relaxed; d=1e100.net; s=20230601; t=1751758302; x=1752363102; h=references:in-reply-to:cc:to:from:subject:message-id:date :x-gm-message-state:from:to:cc:subject:date:message-id:reply-to; bh=pM8LDbLp2T1qjPgApK9Ax+9TzP4zqDTBZ4PBQ6Qquac=; b=um8Nb6kx1F6/t4RnHF5DSRCGIaaRZ0idhJzpR/oHPv71ED7Vr042YXogOFwVzaFkVQ iUWFeKfyIEiigm8vDCELFZGe+K5mX/xreTTqNRWCHy1W8ZZ6wteCZh5UPYHeJTMpIYb4 EEVrdh4NJFqQxFE+RL2JZ+0LiMwyTv75CUWQZtejddEeGIwg8ZTkIskSE7kMWZ5Ym2DM H348BHDwfQUk+EaExS1XtxBO7h3hYWMDZ/QJl8XOuoeEeakCPyxoy7PRxhKRUq0JSZcb p1V98emec8Iaz3KRpTC+QW7ZB8r9hRmPFGnvVNtK+6F8ve8plNN9sKQR64CdL1hRCF+E GDXQ== X-Gm-Message-State: AOJu0YyXZ9jzFQzGmWjHf6kuWgTMXeZQOWhuGkvUXWROWBs7WChEe9G/ M7UT63JL1zUXB0e8acfUtVYQx4DSP0B2JyRj9DSppXq6e4MPvd/wM2s1gg929w/hKswZ8LoQUo+ hokAiK926Q8FLmQZLr0wDjxSle49vL/we1vpYnvRYscMo X-Gm-Gg: ASbGncu/yAeHmngNPC98BQjzxp2j2q0bw7v/r4OQvxcduPEOXxzt77fkyB+HCerIecP KdDnMi4uUAb65n0xvxqPJoxD/i5U6LURf/pfunVIHiXW/Wa2oqfIdHfNF38pPamJ7odabeMgIsm +H1ryjYP6Nlelx72V2dQluxl3iiXC9Zt79K5frCRPL0TXNvRqL4YRaf9gYuVPLxdMWIWA2bYz6c tpye8WAZQRFSktsXtLK7n4qEhmpeF1rMS0qid3mlsSPWH+RrqsdT/Ls6/er8fWVwSq/ZjWZt4kF 8TNCzFCfdhP1odI0HyI1ILCN/tZUYaviE5LNdUbc8OfC2R7ExCybuy/LL2Gl2t7+/UJiew== X-Google-Smtp-Source: AGHT+IEo4xyk6upQ0EqxTV9csW8L2xO6Fawsfiu9ViAuUq8m6rtuRFsD2EFQJVf5QN/OBAHuzL7oSGJbTKlM X-Received: by 2002:a05:6870:28d:b0:29d:c85f:bc8c with SMTP id 586e51a60fabf-2f7b01e4d4emr2984170fac.36.1751758302283; Sat, 05 Jul 2025 16:31:42 -0700 (PDT) Received: from postal.iol.unh.edu (postal.iol.unh.edu. [132.177.123.84]) by smtp-relay.gmail.com with ESMTPS id 586e51a60fabf-2f7900544cdsm308260fac.19.2025.07.05.16.31.42 (version=TLS1_2 cipher=ECDHE-ECDSA-AES128-GCM-SHA256 bits=128/128); Sat, 05 Jul 2025 16:31:42 -0700 (PDT) X-Relaying-Domain: iol.unh.edu Date: Sat, 05 Jul 2025 16:31:42 -0700 (PDT) Message-ID: <6869b5de.050a0220.12808e.fe7bSMTPIN_ADDED_MISSING@mx.google.com> Received: from [172.21.0.5] (unknown [172.18.0.240]) by postal.iol.unh.edu (Postfix) with ESMTP id C35316051830; Sat, 5 Jul 2025 19:31:41 -0400 (EDT) Subject: |SUCCESS| pw155020 [PATCH] net/i40e: fix missing support for RSS IPv From: dpdklab@iol.unh.edu To: Test Report Cc: dpdk-test-reports@iol.unh.edu In-Reply-To: <20250705215412.200958-1-dhanya.r.pillai@intel.com> References: <20250705215412.200958-1-dhanya.r.pillai@intel.com> Content-Type: text/plain X-BeenThere: test-report@dpdk.org X-Mailman-Version: 2.1.29 Precedence: list List-Id: automatic DPDK test reports List-Unsubscribe: , List-Archive: List-Post: List-Help: List-Subscribe: , Errors-To: test-report-bounces@dpdk.org Test-Label: iol-unit-arm64-testing Test-Status: SUCCESS http://dpdk.org/patch/155020 _Testing PASS_ Submitter: Dhanya Pillai Date: Saturday, July 05 2025 21:54:07 DPDK git baseline: Repo:dpdk Branch: master CommitID:0ae2a33d16a8727ac2935ac500e216906b50ac2c 155020 --> testing pass Upstream job id: Generic-Unit-Test-DPDK#353006 Test environment and result as below: +------------------------------+------------------------------+---------------------------+--------------+----------------+ | Environment | cryptodev_sw_snow3g_autotest | cryptodev_sw_zuc_autotest | lpm_autotest | dpdk_unit_test | +==============================+==============================+===========================+==============+================+ | Debian 12 (arm) | PASS | PASS | SKIPPED | SKIPPED | +------------------------------+------------------------------+---------------------------+--------------+----------------+ | Ubuntu 20.04 | SKIPPED | SKIPPED | PASS | PASS | +------------------------------+------------------------------+---------------------------+--------------+----------------+ | CentOS Stream 9 | SKIPPED | SKIPPED | SKIPPED | PASS | +------------------------------+------------------------------+---------------------------+--------------+----------------+ | Fedora Linux 40 | SKIPPED | SKIPPED | SKIPPED | PASS | +------------------------------+------------------------------+---------------------------+--------------+----------------+ | Debian GNU/Linux 12 | SKIPPED | SKIPPED | SKIPPED | PASS | +------------------------------+------------------------------+---------------------------+--------------+----------------+ | CentOS Stream 10 | SKIPPED | SKIPPED | SKIPPED | PASS | +------------------------------+------------------------------+---------------------------+--------------+----------------+ | Fedora Linux 41 | SKIPPED | SKIPPED | SKIPPED | PASS | +------------------------------+------------------------------+---------------------------+--------------+----------------+ | Red Hat Enterprise Linux 9.5 | SKIPPED | SKIPPED | SKIPPED | PASS | +------------------------------+------------------------------+---------------------------+--------------+----------------+ | Ubuntu 22.04 | SKIPPED | SKIPPED | SKIPPED | PASS | +------------------------------+------------------------------+---------------------------+--------------+----------------+ | Ubuntu 24.04 | SKIPPED | SKIPPED | SKIPPED | PASS | +------------------------------+------------------------------+---------------------------+--------------+----------------+ Debian 12 (arm) Kernel: Depends on container host Compiler: gcc (Debian 12.2.0-14) 12.2.0 Ubuntu 20.04 Kernel: 5.4 Compiler: gcc gcc (Ubuntu 9.4.0-1ubuntu1~20.04.2) 9.4.0 CentOS Stream 9 Kernel: 5.4 Compiler: gcc gcc (GCC) 11.5.0 20240719 (Red Hat 11.5.0-7) Fedora Linux 40 Kernel: 5.4 Compiler: gcc gcc (GCC) 14.2.1 20240912 (Red Hat 14.2.1-3) Debian GNU/Linux 12 Kernel: 5.4 Compiler: gcc gcc (Debian 12.2.0-14+deb12u1) 12.2.0 CentOS Stream 10 Kernel: 5.4 Compiler: gcc gcc (GCC) 14.2.1 20250110 (Red Hat 14.2.1-8) Fedora Linux 41 Kernel: 5.4 Compiler: clang gcc (GCC) 14.3.1 20250523 (Red Hat 14.3.1-1) Red Hat Enterprise Linux 9.5 Kernel: 5.4 Compiler: gcc gcc (GCC) 11.5.0 20240719 (Red Hat 11.5.0-2) Ubuntu 22.04 Kernel: 5.4 Compiler: gcc gcc (Ubuntu 11.4.0-1ubuntu1~22.04) 11.4.0 Ubuntu 24.04 Kernel: 5.4 Compiler: gcc gcc (Ubuntu 13.3.0-6ubuntu2~24.04) 13.3.0 To view detailed results, visit: https://lab.dpdk.org/results/dashboard/patchsets/33600/ UNH-IOL DPDK Community Lab To manage your email subscriptions, visit: https://lab.dpdk.org/results/dashboard/preferences/subscriptions/