From mboxrd@z Thu Jan 1 00:00:00 1970 Return-Path: Received: from mails.dpdk.org (mails.dpdk.org [217.70.189.124]) by inbox.dpdk.org (Postfix) with ESMTP id 5B19546AED for ; Sun, 6 Jul 2025 03:24:21 +0200 (CEST) Received: from mails.dpdk.org (localhost [127.0.0.1]) by mails.dpdk.org (Postfix) with ESMTP id 4469C4025F; Sun, 6 Jul 2025 03:24:21 +0200 (CEST) Received: from mail-il1-f228.google.com (mail-il1-f228.google.com [209.85.166.228]) by mails.dpdk.org (Postfix) with ESMTP id 8C6874025F for ; Sun, 6 Jul 2025 03:24:19 +0200 (CEST) Received: by mail-il1-f228.google.com with SMTP id e9e14a558f8ab-3df4bdadca5so7876345ab.1 for ; Sat, 05 Jul 2025 18:24:19 -0700 (PDT) DKIM-Signature: v=1; a=rsa-sha256; c=relaxed/relaxed; d=iol.unh.edu; s=unh-iol; t=1751765059; x=1752369859; darn=dpdk.org; h=cc:to:from:subject:message-id:date:from:to:cc:subject:date :message-id:reply-to; bh=S+6fsDkOpqHCVWXgT7fAGUhJ5jrvvWtuhOECwgJcjA4=; b=AJDs0xOcc4xtkIUU/PIxl8YZ8cgL1dN5CHyPOBPt12jWnVcRGcah/A5XR4MBJ8gtoE sZ7hn+W+9bpBCcdZdCdsCTbctP4LRD55DExmGuTGHYbTrXwsyof75beBxACieYqkONYI 6FGlV6x1pS7OSm3BRI4rQe079UsgprrD+ZPF8= X-Google-DKIM-Signature: v=1; a=rsa-sha256; c=relaxed/relaxed; d=1e100.net; s=20230601; t=1751765059; x=1752369859; h=cc:to:from:subject:message-id:date:x-gm-message-state:from:to:cc :subject:date:message-id:reply-to; bh=S+6fsDkOpqHCVWXgT7fAGUhJ5jrvvWtuhOECwgJcjA4=; b=VZJ76lPZFk7Hj7JKrK8qz3s/N0A2tjubPXLKOq5ymTri9yEDjH1TLQvXAubSisNtUK OdoK0kHmRaobrFXWbq3s9iGhGq/NpLdU0uEZ4Qqqabc0utti8gzoC6Bj67fIghPDmPIZ 0deIE+0eg61ncA8NjsTUrUMHm7LfRD6QG1latq2Oe0sySJtRvP0ZBs9vJ4QyiUhZx6y3 3S2ZdDLB5SeRpjsV7nm5c1EZxkwC0BUxnu2WwhxrvySprDwBK0SCUCBFLsIvnrNBKebv iRpKMJ+2DGXroqZLcYM1ciCvBekJZ9io7KGAfZIcQYorRUCgvUlOP11xCS/1PiFuk7Ty PGKg== X-Gm-Message-State: AOJu0YxEQp6I8y3l5dQXupNXpUyjAVb7APIp8ZpG8e6zb5PwxRnjEA+V UWoBtsmw33wlCcMwytDUl5iBaGJDWxMCdjOzMaE6SuLEHK3Vl0I9r6fy7Usbl128EPKSwWkhbxP /ZE2YFhVyX2MgdidtjxmHDkLX2gtegYNfMbqttLZXUJQ/jqzwa7s0DdST4Q09 X-Gm-Gg: ASbGncvhUsCv2TS2s+dQcpRjemzFqrDQL7+a+IAIj5/lCFN5+FkZl9sicxr9+c2bRz9 lQLOwr8hRIXIWGFtyO8qmmhgZLzpF7qKfSdSdZ4u2uzETM94NohWHSyszsP4MP3fxAGOSCJWgCr Zbt/Ezg7YlnDvPMAzEd4Sd0ATRqI6uflf17Tja3j+ZO4muV8J6A48UKQNqafn0fUSLBKmCKgGtG WPShHtKTyE6C+NeEmd1yfDhu/DdsnzFRf3PsLooSVd/RICeQIVlM+DVEV78oS6cXQgTJVegXKrB XSWWfyIPpfReBv/WPfYF81CDQcxB++gEPqjUoxlooOEI6LY= X-Google-Smtp-Source: AGHT+IG/GyWRDE2u2ZHX4HaxzjYnvzBMW7F02Sj0sqUNl5/IBfuWpH+9Pf2rGd7/G04S/cW6kbcjAlbigEu2 X-Received: by 2002:a92:c26c:0:b0:3de:12ff:3617 with SMTP id e9e14a558f8ab-3e13ef0c7c3mr34369815ab.15.1751765058821; Sat, 05 Jul 2025 18:24:18 -0700 (PDT) Received: from postal.iol.unh.edu (postal.iol.unh.edu. [2606:4100:3880:1234::84]) by smtp-relay.gmail.com with ESMTPS id e9e14a558f8ab-3e0f9b559d5sm3135075ab.16.2025.07.05.18.24.18 (version=TLS1_2 cipher=ECDHE-ECDSA-AES128-GCM-SHA256 bits=128/128); Sat, 05 Jul 2025 18:24:18 -0700 (PDT) X-Relaying-Domain: iol.unh.edu Date: Sat, 05 Jul 2025 18:24:18 -0700 (PDT) Message-ID: <6869d042.050a0220.27c42a.17dfSMTPIN_ADDED_MISSING@mx.google.com> Received: from [172.21.0.5] (unknown [172.18.0.240]) by postal.iol.unh.edu (Postfix) with ESMTP id 5B5A56051830; Sat, 5 Jul 2025 21:24:18 -0400 (EDT) Subject: |SUCCESS| [GIT MASTER] 70c2297528e7c7789af452f78de1932e9a20c8a2 From: dpdklab@iol.unh.edu To: Test Report Cc: dpdk-test-reports@iol.unh.edu Content-Type: text/plain X-BeenThere: test-report@dpdk.org X-Mailman-Version: 2.1.29 Precedence: list List-Id: automatic DPDK test reports List-Unsubscribe: , List-Archive: List-Post: List-Help: List-Subscribe: , Errors-To: test-report-bounces@dpdk.org _Testing PASS_ Branch: dpdk 70c2297528e7c7789af452f78de1932e9a20c8a2 --> testing pass Upstream job id: Generic-DPDK-Compile-ABI#133265 Test environment and result as below: +-------------------------------+----------+ | Environment | abi_test | +===============================+==========+ | CentOS Stream 9 | PASS | +-------------------------------+----------+ | CentOS Stream 10 | PASS | +-------------------------------+----------+ | Debian GNU/Linux 12 | PASS | +-------------------------------+----------+ | Fedora Linux 40 | PASS | +-------------------------------+----------+ | Red Hat Enterprise Linux 8.10 | PASS | +-------------------------------+----------+ | Fedora Linux 41 | PASS | +-------------------------------+----------+ | openSUSE Leap 15.6 | PASS | +-------------------------------+----------+ | Red Hat Enterprise Linux 9.5 | PASS | +-------------------------------+----------+ | Ubuntu 22.04 | PASS | +-------------------------------+----------+ | Arch Linux 20250613.0.365270 | PASS | +-------------------------------+----------+ | Ubuntu 24.04 | PASS | +-------------------------------+----------+ CentOS Stream 9 Kernel: 5.15 Compiler: gcc gcc (GCC) 11.5.0 20240719 (Red Hat 11.5.0-7) CentOS Stream 10 Kernel: 5.15 Compiler: gcc gcc (GCC) 14.2.1 20250110 (Red Hat 14.2.1-8) Debian GNU/Linux 12 Kernel: 5.15 Compiler: gcc gcc (Debian 12.2.0-14+deb12u1) 12.2.0 Fedora Linux 40 Kernel: 5.15 Compiler: clang gcc (GCC) 14.2.1 20240912 (Red Hat 14.2.1-3) Red Hat Enterprise Linux 8.10 Kernel: 5.15 Compiler: gcc gcc (GCC) 8.5.0 20210514 (Red Hat 8.5.0-22) Fedora Linux 41 Kernel: 5.15 Compiler: gcc gcc (GCC) 14.3.1 20250523 (Red Hat 14.3.1-1) openSUSE Leap 15.6 Kernel: 5.15 Compiler: gcc gcc (SUSE Linux) 7.5.0 Red Hat Enterprise Linux 9.5 Kernel: 5.15 Compiler: gcc gcc (GCC) 11.5.0 20240719 (Red Hat 11.5.0-2) Ubuntu 22.04 Kernel: 5.15 Compiler: gcc gcc (Ubuntu 11.4.0-1ubuntu1~22.04) 11.4.0 Arch Linux 20250613.0.365270 Kernel: 5.15 Compiler: gcc gcc (GCC) 15.1.1 20250425 Ubuntu 24.04 Kernel: 5.15 Compiler: gcc gcc (Ubuntu 13.3.0-6ubuntu2~24.04) 13.3.0 To view detailed results, visit: https://lab.dpdk.org/results/dashboard/tarballs/34162/ UNH-IOL DPDK Community Lab To manage your email subscriptions, visit: https://lab.dpdk.org/results/dashboard/preferences/subscriptions/