From mboxrd@z Thu Jan 1 00:00:00 1970 Return-Path: Received: from mails.dpdk.org (mails.dpdk.org [217.70.189.124]) by inbox.dpdk.org (Postfix) with ESMTP id 6A90446AED for ; Sun, 6 Jul 2025 03:24:47 +0200 (CEST) Received: from mails.dpdk.org (localhost [127.0.0.1]) by mails.dpdk.org (Postfix) with ESMTP id 609934025F; Sun, 6 Jul 2025 03:24:47 +0200 (CEST) Received: from mail-oo1-f97.google.com (mail-oo1-f97.google.com [209.85.161.97]) by mails.dpdk.org (Postfix) with ESMTP id 89CDE4025F for ; Sun, 6 Jul 2025 03:24:46 +0200 (CEST) Received: by mail-oo1-f97.google.com with SMTP id 006d021491bc7-613ab402150so186673eaf.2 for ; Sat, 05 Jul 2025 18:24:46 -0700 (PDT) DKIM-Signature: v=1; a=rsa-sha256; c=relaxed/relaxed; d=iol.unh.edu; s=unh-iol; t=1751765085; x=1752369885; darn=dpdk.org; h=cc:to:from:subject:message-id:date:from:to:cc:subject:date :message-id:reply-to; bh=tGDsk+1Hkklt8lW/9cCgh8hjdlNkvM/9ytpuzku0whA=; b=C4yX97nXTsTphorp9LDRPJc9W0NQOQcwA8MNppOisVFYHiBqrbhkFHd/BaS82ld0wT cyAe/3YcdM0lAuMk+FuIh6BwqZUt+MPwTB26DOmoOSU9vIaozTSIUD53sgLndF5O5Rvg PKilTShi6U4BSRV1ySfBdMPHQ+Ur3ji3BvEho= X-Google-DKIM-Signature: v=1; a=rsa-sha256; c=relaxed/relaxed; d=1e100.net; s=20230601; t=1751765085; x=1752369885; h=cc:to:from:subject:message-id:date:x-gm-message-state:from:to:cc :subject:date:message-id:reply-to; bh=tGDsk+1Hkklt8lW/9cCgh8hjdlNkvM/9ytpuzku0whA=; b=pFrpOYqp5ZR3+ROSgZ1+fhD7TQy9V1xH7BpVz4mUMWUBGBWo5oA/WqEZQ44KXwWqdx 4FYgOphLfzhP1VAKqYGPatDgL6EugusentHvKOsiLw5OAwZpvgc2n4DWlG18iVJ+XofJ Nkzb+b3hF66mcDyARk+nMnpp4eDNjX0TWhmoerigaW5w3Pg93EAdr/edsBRYVTGK1C7g 0B1LQsPoGTmAoQtS+kTNyOG1NZqAluVilEL67+MHeQt4VB9NV5qP6rHvqcaoGf/wZ2DP tt6ZEoNIhojhGSMble4LZGXJ2zUy5+LjIvaeMn8JmBz/nrA0YVY3l0EX1dBjA4CsQHID OxwA== X-Gm-Message-State: AOJu0YzokbpZNPCRLhXu6if4eb/hKqzNpwpcgyDDpaRyirVqSGz1H78n DZIbeTDi13GAN5D1vdkAV6Js94GcEzBxZwD+iTk5Mrh7asCOXLpdan5515jDctoufBGGBlPkzYc wsf6Vl8nGkESQbIFeQYXpYoQsiUuv+NOV3ZFudas+QQ2d X-Gm-Gg: ASbGncu233Mkh9ajk+oOEOyJqKhZqhk4t5P03ZnTJUhn1TcgVh+mvGiQ7xKr7nPzjhY 7a0noWLGgW+ZHUO+N2K9i/AIEkeTxKh0+LXBu1G6S51srEEia7zlCzCQg/G4SrJWMA934KgkoNy hzTnyzFjqxMu0kjol8ixfVNt9lrDYtu4OE8ouYH7JVYKohjjOgYrYx+HxWqL0ZlF1Og4ucBG7Vy L0al0Db65Va1JtbuUnAatF4jQgT2i0qkxZUDxkPIuD7ZmCV40buGifWZQNcjhCqsVu2QAcjohko SBjH9DhIUMkQrrfcTu2vd/E1Ihj69WC6tVFZe02sUnK/85RcNlOaN3+zA3btd/AeiUkStg== X-Google-Smtp-Source: AGHT+IE6bQ2Ko3ohu0oNC825/Ddo+OCnV/miiepy7NWk4MoeN11ZQFO59YhluCxxWPUq6gNVVUeSdmhQUpaZ X-Received: by 2002:a05:6808:171a:b0:403:5150:c348 with SMTP id 5614622812f47-40d072775aemr4759523b6e.4.1751765085669; Sat, 05 Jul 2025 18:24:45 -0700 (PDT) Received: from postal.iol.unh.edu (postal.iol.unh.edu. [132.177.123.84]) by smtp-relay.gmail.com with ESMTPS id 006d021491bc7-6138e5acc19sm215222eaf.23.2025.07.05.18.24.45 (version=TLS1_2 cipher=ECDHE-ECDSA-AES128-GCM-SHA256 bits=128/128); Sat, 05 Jul 2025 18:24:45 -0700 (PDT) X-Relaying-Domain: iol.unh.edu Date: Sat, 05 Jul 2025 18:24:45 -0700 (PDT) Message-ID: <6869d05d.050a0220.23989f.b958SMTPIN_ADDED_MISSING@mx.google.com> Received: from [172.21.0.5] (unknown [172.18.0.240]) by postal.iol.unh.edu (Postfix) with ESMTP id 2D6546051830; Sat, 5 Jul 2025 21:24:45 -0400 (EDT) Subject: |SUCCESS| [GIT MASTER] 70c2297528e7c7789af452f78de1932e9a20c8a2 From: dpdklab@iol.unh.edu To: Test Report Cc: dpdk-test-reports@iol.unh.edu Content-Type: text/plain X-BeenThere: test-report@dpdk.org X-Mailman-Version: 2.1.29 Precedence: list List-Id: automatic DPDK test reports List-Unsubscribe: , List-Archive: List-Post: List-Help: List-Subscribe: , Errors-To: test-report-bounces@dpdk.org _Testing PASS_ Branch: dpdk 70c2297528e7c7789af452f78de1932e9a20c8a2 --> testing pass Upstream job id: Generic-DPDK-Compile-ABI#133264 Test environment and result as below: +-------------------------------+----------+ | Environment | abi_test | +===============================+==========+ | CentOS Stream 9 | PASS | +-------------------------------+----------+ | CentOS Stream 10 | PASS | +-------------------------------+----------+ | Debian GNU/Linux 12 | PASS | +-------------------------------+----------+ | Fedora Linux 40 | PASS | +-------------------------------+----------+ | Red Hat Enterprise Linux 8.10 | PASS | +-------------------------------+----------+ | Fedora Linux 41 | PASS | +-------------------------------+----------+ | openSUSE Leap 15.6 | PASS | +-------------------------------+----------+ | Red Hat Enterprise Linux 9.5 | PASS | +-------------------------------+----------+ | Ubuntu 22.04 | PASS | +-------------------------------+----------+ | Arch Linux 20250613.0.365270 | PASS | +-------------------------------+----------+ | Ubuntu 24.04 | PASS | +-------------------------------+----------+ CentOS Stream 9 Kernel: 5.15 Compiler: gcc gcc (GCC) 11.5.0 20240719 (Red Hat 11.5.0-7) CentOS Stream 10 Kernel: 5.15 Compiler: gcc gcc (GCC) 14.2.1 20250110 (Red Hat 14.2.1-8) Debian GNU/Linux 12 Kernel: 5.15 Compiler: gcc gcc (Debian 12.2.0-14+deb12u1) 12.2.0 Fedora Linux 40 Kernel: 5.15 Compiler: clang gcc (GCC) 14.2.1 20240912 (Red Hat 14.2.1-3) Red Hat Enterprise Linux 8.10 Kernel: 5.15 Compiler: gcc gcc (GCC) 8.5.0 20210514 (Red Hat 8.5.0-22) Fedora Linux 41 Kernel: 5.15 Compiler: gcc gcc (GCC) 14.3.1 20250523 (Red Hat 14.3.1-1) openSUSE Leap 15.6 Kernel: 5.15 Compiler: gcc gcc (SUSE Linux) 7.5.0 Red Hat Enterprise Linux 9.5 Kernel: 5.15 Compiler: gcc gcc (GCC) 11.5.0 20240719 (Red Hat 11.5.0-2) Ubuntu 22.04 Kernel: 5.15 Compiler: gcc gcc (Ubuntu 11.4.0-1ubuntu1~22.04) 11.4.0 Arch Linux 20250613.0.365270 Kernel: 5.15 Compiler: gcc gcc (GCC) 15.1.1 20250425 Ubuntu 24.04 Kernel: 5.15 Compiler: gcc gcc (Ubuntu 13.3.0-6ubuntu2~24.04) 13.3.0 To view detailed results, visit: https://lab.dpdk.org/results/dashboard/tarballs/34162/ UNH-IOL DPDK Community Lab To manage your email subscriptions, visit: https://lab.dpdk.org/results/dashboard/preferences/subscriptions/