From mboxrd@z Thu Jan 1 00:00:00 1970 Return-Path: Received: from mails.dpdk.org (mails.dpdk.org [217.70.189.124]) by inbox.dpdk.org (Postfix) with ESMTP id 7875A46AED for ; Sun, 6 Jul 2025 03:25:00 +0200 (CEST) Received: from mails.dpdk.org (localhost [127.0.0.1]) by mails.dpdk.org (Postfix) with ESMTP id 73E1A4025F; Sun, 6 Jul 2025 03:25:00 +0200 (CEST) Received: from mail-pf1-f226.google.com (mail-pf1-f226.google.com [209.85.210.226]) by mails.dpdk.org (Postfix) with ESMTP id 4C6274025F for ; Sun, 6 Jul 2025 03:24:59 +0200 (CEST) Received: by mail-pf1-f226.google.com with SMTP id d2e1a72fcca58-74af4af04fdso2366265b3a.1 for ; Sat, 05 Jul 2025 18:24:59 -0700 (PDT) DKIM-Signature: v=1; a=rsa-sha256; c=relaxed/relaxed; d=iol.unh.edu; s=unh-iol; t=1751765098; x=1752369898; darn=dpdk.org; h=cc:to:from:subject:message-id:date:from:to:cc:subject:date :message-id:reply-to; bh=LVR/S3BxHO+v0lXhH+opV7w3VWNZilmo/xeZXvrLNww=; b=FahzMUH490Sm6rpwadWFcdP8zLWGTz6Jo5VOIMsA5dlDwyMlIHIIadH02K/MERrl7g 0K7FFrbaRt60VlU+QocUvBtQ01mJyWrQ/DCExSqodX5WAwY7/Yly3s6lVKJVRcgFbPO6 pKJmZ/e7yuUNk8zpwR71qcNhn17OQcQZ4DA30= X-Google-DKIM-Signature: v=1; a=rsa-sha256; c=relaxed/relaxed; d=1e100.net; s=20230601; t=1751765098; x=1752369898; h=cc:to:from:subject:message-id:date:x-gm-message-state:from:to:cc :subject:date:message-id:reply-to; bh=LVR/S3BxHO+v0lXhH+opV7w3VWNZilmo/xeZXvrLNww=; b=hd2gOFhvpqoh76j75O0ey75AacJV9zCE/NYDI+TvTi6wuNbxh5UlnLaz0KTcalgQEL y53pLOuYLSPr2YVJ+wEQkKRq0bNRO7m0tunakv4aeaacPdizZ70AaTP2svvCkuNIfXLU K/4iSnEUbXopEbMUW7r1D3Imy1c8UbsXIZ4qujx/R6GeOqUo9+kqgKnZIcCsjD2uje+S cN5GyHGByUnCKDf9ZSoI8HZ/ESOre75zPFfybLhMtet1g84CCDLrkZbZky3YD5PEoAXc tgwU5sYoYO1qM2t/Eb1BfezFnY6Qg4u3qHLUs8AV7AWjBtzyG9DqP1QNk8YQp0QcNvSC XzFg== X-Gm-Message-State: AOJu0Yz9wZBZWR6WumjVZ8xJjP6pMkKUbQpDGij+4nr6MSGR9RZSXX/j HIIFW53U6f7mnFL8BSmBiW4pGmTcaw6XehxEn++CD/OBp39Nv6UDo+3nRGsHrFShH1jQ6rru4L+ zbJf4HvlkWg7yCA5X1w+MdGVt/ep3WtGoEd0CxrGfkbpPqjRK67ZGcLrxN797 X-Gm-Gg: ASbGnctk44Hp1eHwQRxwrNjPCA3+3SnwIDErycfKaXlyKC5KOsqIhIYqU6mN8Fpwymo 716x3tdFg+/FAkwCGdfiOGYiZr8oxI/gL7eSANVlBLEI/pf7NTUZZNCnCYWfi7PvAHXkMZtw2bW bbGaca8FtDUdWW33Tm2s+0fiynajTj/MdIx1U2eXJNL4sQwApnayug7qqV3qEjDox+6viJIHFFo K1Un0mhNRPsZZBPI+sOpV8oiOOvAsOXR7AMTpe0aJ8qQPMpD+HzpIFpk37O/56L7Wu4YZlpTsG/ yVZCsDAQQc8S+svjfIMrwE6XSQfhGg10t4aya+Np0dGRYZo= X-Google-Smtp-Source: AGHT+IEIeho5TXPgEQic+qt0CiSc1eLHzzKq3sdH9H3iINJMQON7okaHuOgHYklgREL3xW/UWa10tsJKl9aL X-Received: by 2002:a05:6a21:6d99:b0:21f:4027:b9ed with SMTP id adf61e73a8af0-22595173200mr14637232637.1.1751765098391; Sat, 05 Jul 2025 18:24:58 -0700 (PDT) Received: from postal.iol.unh.edu (postal.iol.unh.edu. [2606:4100:3880:1234::84]) by smtp-relay.gmail.com with ESMTPS id 41be03b00d2f7-b38ee4e6d8dsm259107a12.23.2025.07.05.18.24.58 (version=TLS1_2 cipher=ECDHE-ECDSA-AES128-GCM-SHA256 bits=128/128); Sat, 05 Jul 2025 18:24:58 -0700 (PDT) X-Relaying-Domain: iol.unh.edu Date: Sat, 05 Jul 2025 18:24:58 -0700 (PDT) Message-ID: <6869d06a.630a0220.d371b.da96SMTPIN_ADDED_MISSING@mx.google.com> Received: from [172.21.0.9] (unknown [172.18.0.240]) by postal.iol.unh.edu (Postfix) with ESMTP id 969796051830; Sat, 5 Jul 2025 21:24:57 -0400 (EDT) Subject: |SUCCESS| [GIT MASTER] 70c2297528e7c7789af452f78de1932e9a20c8a2 From: dpdklab@iol.unh.edu To: Test Report Cc: dpdk-test-reports@iol.unh.edu Content-Type: text/plain X-BeenThere: test-report@dpdk.org X-Mailman-Version: 2.1.29 Precedence: list List-Id: automatic DPDK test reports List-Unsubscribe: , List-Archive: List-Post: List-Help: List-Subscribe: , Errors-To: test-report-bounces@dpdk.org _Testing PASS_ Branch: dpdk 70c2297528e7c7789af452f78de1932e9a20c8a2 --> testing pass Upstream job id: Generic-DPDK-Compile-ABI#133274 Test environment and result as below: +-------------------------------+----------+ | Environment | abi_test | +===============================+==========+ | CentOS Stream 9 | PASS | +-------------------------------+----------+ | CentOS Stream 10 | PASS | +-------------------------------+----------+ | Debian GNU/Linux 12 | PASS | +-------------------------------+----------+ | Fedora Linux 40 | PASS | +-------------------------------+----------+ | Red Hat Enterprise Linux 8.10 | PASS | +-------------------------------+----------+ | Fedora Linux 41 | PASS | +-------------------------------+----------+ | openSUSE Leap 15.6 | PASS | +-------------------------------+----------+ | Red Hat Enterprise Linux 9.5 | PASS | +-------------------------------+----------+ | Ubuntu 22.04 | PASS | +-------------------------------+----------+ | Arch Linux 20250613.0.365270 | PASS | +-------------------------------+----------+ | Ubuntu 24.04 | PASS | +-------------------------------+----------+ CentOS Stream 9 Kernel: 5.15 Compiler: gcc gcc (GCC) 11.5.0 20240719 (Red Hat 11.5.0-7) CentOS Stream 10 Kernel: 5.15 Compiler: gcc gcc (GCC) 14.2.1 20250110 (Red Hat 14.2.1-8) Debian GNU/Linux 12 Kernel: 5.15 Compiler: gcc gcc (Debian 12.2.0-14+deb12u1) 12.2.0 Fedora Linux 40 Kernel: 5.15 Compiler: clang gcc (GCC) 14.2.1 20240912 (Red Hat 14.2.1-3) Red Hat Enterprise Linux 8.10 Kernel: 5.15 Compiler: gcc gcc (GCC) 8.5.0 20210514 (Red Hat 8.5.0-22) Fedora Linux 41 Kernel: 5.15 Compiler: gcc gcc (GCC) 14.3.1 20250523 (Red Hat 14.3.1-1) openSUSE Leap 15.6 Kernel: 5.15 Compiler: gcc gcc (SUSE Linux) 7.5.0 Red Hat Enterprise Linux 9.5 Kernel: 5.15 Compiler: gcc gcc (GCC) 11.5.0 20240719 (Red Hat 11.5.0-2) Ubuntu 22.04 Kernel: 5.15 Compiler: gcc gcc (Ubuntu 11.4.0-1ubuntu1~22.04) 11.4.0 Arch Linux 20250613.0.365270 Kernel: 5.15 Compiler: gcc gcc (GCC) 15.1.1 20250425 Ubuntu 24.04 Kernel: 5.15 Compiler: gcc gcc (Ubuntu 13.3.0-6ubuntu2~24.04) 13.3.0 To view detailed results, visit: https://lab.dpdk.org/results/dashboard/tarballs/34162/ UNH-IOL DPDK Community Lab To manage your email subscriptions, visit: https://lab.dpdk.org/results/dashboard/preferences/subscriptions/