From mboxrd@z Thu Jan 1 00:00:00 1970 Return-Path: Received: from mails.dpdk.org (mails.dpdk.org [217.70.189.124]) by inbox.dpdk.org (Postfix) with ESMTP id 956EC46AED for ; Sun, 6 Jul 2025 03:25:07 +0200 (CEST) Received: from mails.dpdk.org (localhost [127.0.0.1]) by mails.dpdk.org (Postfix) with ESMTP id 824034025F; Sun, 6 Jul 2025 03:25:07 +0200 (CEST) Received: from mail-oi1-f228.google.com (mail-oi1-f228.google.com [209.85.167.228]) by mails.dpdk.org (Postfix) with ESMTP id A7FE14025F for ; Sun, 6 Jul 2025 03:25:05 +0200 (CEST) Received: by mail-oi1-f228.google.com with SMTP id 5614622812f47-40b99490728so1719429b6e.0 for ; Sat, 05 Jul 2025 18:25:05 -0700 (PDT) DKIM-Signature: v=1; a=rsa-sha256; c=relaxed/relaxed; d=iol.unh.edu; s=unh-iol; t=1751765105; x=1752369905; darn=dpdk.org; h=cc:to:from:subject:message-id:date:from:to:cc:subject:date :message-id:reply-to; bh=YKCl2UMGBbVSr1kfQx5aNXkdR/L3M3Gf3TPG3gNnWMQ=; b=YO9z4oYoxujOVSsEATSKsdd292uN/PZYiLvxQhHlBuusEGevVagyGuv4xEvNobfFGR OP0qVsdaDIiWqswz/7oWjq+2wKJNk6ftYSz5HsgOLYeQZnk82n8hxWahkGOp/sOOLxvN SuXwT+nufmTQd379lJHVEf2mOpZMlHTRXx+RY= X-Google-DKIM-Signature: v=1; a=rsa-sha256; c=relaxed/relaxed; d=1e100.net; s=20230601; t=1751765105; x=1752369905; h=cc:to:from:subject:message-id:date:x-gm-message-state:from:to:cc :subject:date:message-id:reply-to; bh=YKCl2UMGBbVSr1kfQx5aNXkdR/L3M3Gf3TPG3gNnWMQ=; b=vWwFJKxCJe+sCYcfHWz2JEjeFztoBvT45Wdr21cssM9B0rdroyeScRn9C63rO4BmW1 9680jB4+lPd1HXye/lcMgSC9XfDEdkGYvvjDcYC1PxwR0dOiQjx/NdLYNuQiQrbiTjuO 03Uqs6nId0OiX/n/luhU5g1OblXabTmsWeHMZetHCxW9jwIvFAeK+06sKvlA+FcgzSw8 NWH/uX0DrApuY72ngsePYcN6LRK/X3oiJzJyiI0Zz/cPIQCWNyzTpD6MGrlOVIezin5Y V8iFbB+eaZ9ctWUBfrPI5eq7jNztqY0hfFncAXeNyXgE6PwAbp+V6V+SmZmlQQdBIzDB uH5A== X-Gm-Message-State: AOJu0YybxXvhyuLHoQ7AMHO8Cj6ggB+8juk4e6sXk0sUUbNNwcJTXrKC Jl/4Q0T4wtmCyJlpEjXCmcHwK8mGmhlao4NxJjipQCzV0cQZLIy692Bq2ZiiGOhSY2E+Q2uRIJS F+GLxtWQc0qDyhrFPaMP272hZdbbl7X4hy8DzkWFarjJT X-Gm-Gg: ASbGncuqjuqzFhHuewk8p2JUTPaqI0IhZAL1zZAM3mMkBsevqtniovEsV5nNt+XgRqx vGS9LkuAyZfnQRNVjpXmwWfnWWos3jV9LdHJLmI0zWso+IKPxTYw2eYiqtwV35wuNJtzdM/yfKz Eg7jt8gG2yC0/bFMNVUk/LWcrDiY3OCYUCplemeSK/Smgj7+ujJ2vOQ9Wg78vgPrbelV+aPxftz FbLtXfEbrom8A3IDK+Jf/eoJa7iyHxVgYMpj2LXk6FfoHPX0sXX/d9uyXpH1M7l0Yj4zZ845cgd SoKtBI23W7eo3vX5WIKoH+2fU0avPU0OMt+B86WS6R+ZNhBesb+XuwMekueMnB3MAOwIxA== X-Google-Smtp-Source: AGHT+IGa7tl2b+zVQCiAey52z1G4VOwa/DK5y121/QEqzfA9+Yf6BoJlAgX3klD9RaiY+hbAePMZ9fuQRX6Y X-Received: by 2002:a05:6808:6d8d:b0:401:e9e:5042 with SMTP id 5614622812f47-40d02a56551mr6095885b6e.15.1751765104885; Sat, 05 Jul 2025 18:25:04 -0700 (PDT) Received: from postal.iol.unh.edu (postal.iol.unh.edu. [132.177.123.84]) by smtp-relay.gmail.com with ESMTPS id 006d021491bc7-6138e49934csm192925eaf.6.2025.07.05.18.25.04 (version=TLS1_2 cipher=ECDHE-ECDSA-AES128-GCM-SHA256 bits=128/128); Sat, 05 Jul 2025 18:25:04 -0700 (PDT) X-Relaying-Domain: iol.unh.edu Date: Sat, 05 Jul 2025 18:25:04 -0700 (PDT) Message-ID: <6869d070.050a0220.3a57c4.a0d3SMTPIN_ADDED_MISSING@mx.google.com> Received: from [172.21.0.10] (unknown [172.18.0.240]) by postal.iol.unh.edu (Postfix) with ESMTP id 606246051830; Sat, 5 Jul 2025 21:25:04 -0400 (EDT) Subject: |SUCCESS| [GIT MASTER] 70c2297528e7c7789af452f78de1932e9a20c8a2 From: dpdklab@iol.unh.edu To: Test Report Cc: dpdk-test-reports@iol.unh.edu Content-Type: text/plain X-BeenThere: test-report@dpdk.org X-Mailman-Version: 2.1.29 Precedence: list List-Id: automatic DPDK test reports List-Unsubscribe: , List-Archive: List-Post: List-Help: List-Subscribe: , Errors-To: test-report-bounces@dpdk.org _Testing PASS_ Branch: dpdk 70c2297528e7c7789af452f78de1932e9a20c8a2 --> testing pass Upstream job id: Generic-DPDK-Compile-ABI#133268 Test environment and result as below: +-------------------------------+----------+ | Environment | abi_test | +===============================+==========+ | CentOS Stream 9 | PASS | +-------------------------------+----------+ | CentOS Stream 10 | PASS | +-------------------------------+----------+ | Debian GNU/Linux 12 | PASS | +-------------------------------+----------+ | Fedora Linux 40 | PASS | +-------------------------------+----------+ | Red Hat Enterprise Linux 8.10 | PASS | +-------------------------------+----------+ | Fedora Linux 41 | PASS | +-------------------------------+----------+ | openSUSE Leap 15.6 | PASS | +-------------------------------+----------+ | Red Hat Enterprise Linux 9.5 | PASS | +-------------------------------+----------+ | Ubuntu 22.04 | PASS | +-------------------------------+----------+ | Arch Linux 20250613.0.365270 | PASS | +-------------------------------+----------+ | Ubuntu 24.04 | PASS | +-------------------------------+----------+ CentOS Stream 9 Kernel: 5.15 Compiler: gcc gcc (GCC) 11.5.0 20240719 (Red Hat 11.5.0-7) CentOS Stream 10 Kernel: 5.15 Compiler: gcc gcc (GCC) 14.2.1 20250110 (Red Hat 14.2.1-8) Debian GNU/Linux 12 Kernel: 5.15 Compiler: gcc gcc (Debian 12.2.0-14+deb12u1) 12.2.0 Fedora Linux 40 Kernel: 5.15 Compiler: clang gcc (GCC) 14.2.1 20240912 (Red Hat 14.2.1-3) Red Hat Enterprise Linux 8.10 Kernel: 5.15 Compiler: gcc gcc (GCC) 8.5.0 20210514 (Red Hat 8.5.0-22) Fedora Linux 41 Kernel: 5.15 Compiler: gcc gcc (GCC) 14.3.1 20250523 (Red Hat 14.3.1-1) openSUSE Leap 15.6 Kernel: 5.15 Compiler: gcc gcc (SUSE Linux) 7.5.0 Red Hat Enterprise Linux 9.5 Kernel: 5.15 Compiler: gcc gcc (GCC) 11.5.0 20240719 (Red Hat 11.5.0-2) Ubuntu 22.04 Kernel: 5.15 Compiler: gcc gcc (Ubuntu 11.4.0-1ubuntu1~22.04) 11.4.0 Arch Linux 20250613.0.365270 Kernel: 5.15 Compiler: gcc gcc (GCC) 15.1.1 20250425 Ubuntu 24.04 Kernel: 5.15 Compiler: gcc gcc (Ubuntu 13.3.0-6ubuntu2~24.04) 13.3.0 To view detailed results, visit: https://lab.dpdk.org/results/dashboard/tarballs/34162/ UNH-IOL DPDK Community Lab To manage your email subscriptions, visit: https://lab.dpdk.org/results/dashboard/preferences/subscriptions/