From mboxrd@z Thu Jan 1 00:00:00 1970 Return-Path: Received: from mails.dpdk.org (mails.dpdk.org [217.70.189.124]) by inbox.dpdk.org (Postfix) with ESMTP id A66CA46AED for ; Sun, 6 Jul 2025 03:25:15 +0200 (CEST) Received: from mails.dpdk.org (localhost [127.0.0.1]) by mails.dpdk.org (Postfix) with ESMTP id A28884025F; Sun, 6 Jul 2025 03:25:15 +0200 (CEST) Received: from mail-io1-f99.google.com (mail-io1-f99.google.com [209.85.166.99]) by mails.dpdk.org (Postfix) with ESMTP id 848994025F for ; Sun, 6 Jul 2025 03:25:14 +0200 (CEST) Received: by mail-io1-f99.google.com with SMTP id ca18e2360f4ac-87611ac3456so65476939f.0 for ; Sat, 05 Jul 2025 18:25:14 -0700 (PDT) DKIM-Signature: v=1; a=rsa-sha256; c=relaxed/relaxed; d=iol.unh.edu; s=unh-iol; t=1751765114; x=1752369914; darn=dpdk.org; h=cc:to:from:subject:message-id:date:from:to:cc:subject:date :message-id:reply-to; bh=ZllCoHFhPxNGzkMSrUyYx/vw6UBjWOaaX2NoVNbkDmY=; b=Oytz3CgJ56yRuv8n5t7meBG40O6/8O0RVJgMvHMlAohlmXqh40GbDcwZgeze3jMOFO uTDgKyrBH5ctfp0eEH4tjRDNQz1S7PrOhrM1RJ13VcR4gmLwZsta95YI3Dg7mXjkaPyi 2+6+WHCwxaG8/CBgFGmOsCEWcai6Jn/+ZaDVE= X-Google-DKIM-Signature: v=1; a=rsa-sha256; c=relaxed/relaxed; d=1e100.net; s=20230601; t=1751765114; x=1752369914; h=cc:to:from:subject:message-id:date:x-gm-message-state:from:to:cc :subject:date:message-id:reply-to; bh=ZllCoHFhPxNGzkMSrUyYx/vw6UBjWOaaX2NoVNbkDmY=; b=Z0phwNI/JRLU02rSBaUNDh9RcGzPasXDPwh5tH5GYltwTMwKoaQKcusaSMe9FFfX+S Tgzaa9bOj+PvMmHtBwKjhyh0DdKI4pygxJarXzxB4ogWzrQTUtHCFDj4cQvOQnEhOp4b NilQIoiquet4GjBJ/ge3TgPHkJqc1rVXcArP2CybnFtgbvvyEV7yhgF4GD3eY4XNmjkM LJWgWoZCmrnbAV59/ufcYYhFphvtSaISAtP0vSi9zEeYUEw4EvFetZ0JrtRSng7Jx5Bq WogNoTkIDrNI9E7uZIc0TmHdxNxVADsHMHsTf5POdfubYfSbwRTtBNRYWqbotgbLhwAq 0PhQ== X-Gm-Message-State: AOJu0YxedkYt0OZ7hVmbOoU1oXiGkWOnSuGWqIMLRmk00bzws9/khM3q oK8hI6baVzX4ZA7uCktRqElYLo7y6j+6Nndei9FJR56ki5aXTbQkltF1CncMZobCfm+rb7IKYGL RLhzO1ljCuPqlo35dgSC1wdA+gpgea3dUrzd3AWVd93uk X-Gm-Gg: ASbGncvhmVc3WRWp/9RkPv5YTM/AZwdGiB40n+0/5vuOvQyU/YRkOJLvaG+CPJDBI1J hJ4Cvylxa9/rVJfSBqQb0ygOiv7j/iX4L4PEwOZSeRxN0W0Hgbac/jCKIlW9/aL2ge0GCWNr9GF 3r7hIA/jtradXqDdfY6Wu7md8VfyTrZdpZLUmtGMZMIDROp8EPLvhsRoLVOkE3UWBl6GJGn47+5 ARr0cJC+dnmqVcCtEP5cQWIh9OmTb2E6cWuAukKvJ0YejkkMHeE+QWZYRW34xlC2wTobN6TrmwA ON7JZ4lIEqv+imhRDNYr898xy2Ayh8C2Ib+dCfdS2L8485haqSnRhWsNd2nDEyfuP2O11A== X-Google-Smtp-Source: AGHT+IHAktuuhjVsi+Vs2zrRCy9aT95cUZKKvosWSad4Kx3GrMjyY89KBzF2GNKbG1vUpF5M0l2IHG/l5vaK X-Received: by 2002:a05:6602:4815:b0:876:8cb1:a010 with SMTP id ca18e2360f4ac-876e15b720amr745897439f.7.1751765113850; Sat, 05 Jul 2025 18:25:13 -0700 (PDT) Received: from postal.iol.unh.edu (postal.iol.unh.edu. [132.177.123.84]) by smtp-relay.gmail.com with ESMTPS id 8926c6da1cb9f-503b5be4ea8sm162342173.71.2025.07.05.18.25.13 (version=TLS1_2 cipher=ECDHE-ECDSA-AES128-GCM-SHA256 bits=128/128); Sat, 05 Jul 2025 18:25:13 -0700 (PDT) X-Relaying-Domain: iol.unh.edu Date: Sat, 05 Jul 2025 18:25:13 -0700 (PDT) Message-ID: <6869d079.050a0220.7453d.8844SMTPIN_ADDED_MISSING@mx.google.com> Received: from [172.21.0.5] (unknown [172.18.0.240]) by postal.iol.unh.edu (Postfix) with ESMTP id 5B6616051830; Sat, 5 Jul 2025 21:25:13 -0400 (EDT) Subject: |SUCCESS| [GIT MASTER] 70c2297528e7c7789af452f78de1932e9a20c8a2 From: dpdklab@iol.unh.edu To: Test Report Cc: dpdk-test-reports@iol.unh.edu Content-Type: text/plain X-BeenThere: test-report@dpdk.org X-Mailman-Version: 2.1.29 Precedence: list List-Id: automatic DPDK test reports List-Unsubscribe: , List-Archive: List-Post: List-Help: List-Subscribe: , Errors-To: test-report-bounces@dpdk.org _Testing PASS_ Branch: dpdk 70c2297528e7c7789af452f78de1932e9a20c8a2 --> testing pass Upstream job id: Generic-Unit-Test-DPDK#353040 Test environment and result as below: +------------------------------+----------------+---------------------------+--------------+------------------------------+ | Environment | dpdk_unit_test | cryptodev_sw_zuc_autotest | lpm_autotest | cryptodev_sw_snow3g_autotest | +==============================+================+===========================+==============+==============================+ | Fedora Linux 40 | PASS | SKIPPED | SKIPPED | SKIPPED | +------------------------------+----------------+---------------------------+--------------+------------------------------+ | Fedora Linux 41 | PASS | SKIPPED | SKIPPED | SKIPPED | +------------------------------+----------------+---------------------------+--------------+------------------------------+ | CentOS Stream 9 | PASS | SKIPPED | SKIPPED | SKIPPED | +------------------------------+----------------+---------------------------+--------------+------------------------------+ | Debian GNU/Linux 12 | PASS | SKIPPED | SKIPPED | SKIPPED | +------------------------------+----------------+---------------------------+--------------+------------------------------+ | Ubuntu 20.04 | PASS | SKIPPED | PASS | SKIPPED | +------------------------------+----------------+---------------------------+--------------+------------------------------+ | CentOS Stream 10 | PASS | SKIPPED | SKIPPED | SKIPPED | +------------------------------+----------------+---------------------------+--------------+------------------------------+ | Ubuntu 24.04 | PASS | SKIPPED | SKIPPED | SKIPPED | +------------------------------+----------------+---------------------------+--------------+------------------------------+ | Red Hat Enterprise Linux 9.5 | PASS | SKIPPED | SKIPPED | SKIPPED | +------------------------------+----------------+---------------------------+--------------+------------------------------+ | Ubuntu 22.04 | PASS | SKIPPED | SKIPPED | SKIPPED | +------------------------------+----------------+---------------------------+--------------+------------------------------+ | Debian 12 (arm) | SKIPPED | PASS | SKIPPED | PASS | +------------------------------+----------------+---------------------------+--------------+------------------------------+ Fedora Linux 40 Kernel: 5.4 Compiler: clang gcc (GCC) 14.2.1 20240912 (Red Hat 14.2.1-3) Fedora Linux 41 Kernel: 5.4 Compiler: clang gcc (GCC) 14.3.1 20250523 (Red Hat 14.3.1-1) CentOS Stream 9 Kernel: 5.4 Compiler: gcc gcc (GCC) 11.5.0 20240719 (Red Hat 11.5.0-7) Debian GNU/Linux 12 Kernel: 5.4 Compiler: gcc gcc (Debian 12.2.0-14+deb12u1) 12.2.0 Ubuntu 20.04 Kernel: 5.4 Compiler: gcc gcc (Ubuntu 9.4.0-1ubuntu1~20.04.2) 9.4.0 CentOS Stream 10 Kernel: 5.4 Compiler: gcc gcc (GCC) 14.2.1 20250110 (Red Hat 14.2.1-8) Ubuntu 24.04 Kernel: 5.4 Compiler: gcc gcc (Ubuntu 13.3.0-6ubuntu2~24.04) 13.3.0 Red Hat Enterprise Linux 9.5 Kernel: 5.4 Compiler: gcc gcc (GCC) 11.5.0 20240719 (Red Hat 11.5.0-2) Ubuntu 22.04 Kernel: 5.4 Compiler: gcc gcc (Ubuntu 11.4.0-1ubuntu1~22.04) 11.4.0 Debian 12 (arm) Kernel: Depends on container host Compiler: gcc (Debian 12.2.0-14) 12.2.0 To view detailed results, visit: https://lab.dpdk.org/results/dashboard/tarballs/34162/ UNH-IOL DPDK Community Lab To manage your email subscriptions, visit: https://lab.dpdk.org/results/dashboard/preferences/subscriptions/