From mboxrd@z Thu Jan 1 00:00:00 1970 Return-Path: Received: from mails.dpdk.org (mails.dpdk.org [217.70.189.124]) by inbox.dpdk.org (Postfix) with ESMTP id C783D46AED for ; Sun, 6 Jul 2025 03:25:53 +0200 (CEST) Received: from mails.dpdk.org (localhost [127.0.0.1]) by mails.dpdk.org (Postfix) with ESMTP id C0DBD4025F; Sun, 6 Jul 2025 03:25:53 +0200 (CEST) Received: from mail-pj1-f98.google.com (mail-pj1-f98.google.com [209.85.216.98]) by mails.dpdk.org (Postfix) with ESMTP id 8C2F44025F for ; Sun, 6 Jul 2025 03:25:52 +0200 (CEST) Received: by mail-pj1-f98.google.com with SMTP id 98e67ed59e1d1-313a188174fso2509381a91.1 for ; Sat, 05 Jul 2025 18:25:52 -0700 (PDT) DKIM-Signature: v=1; a=rsa-sha256; c=relaxed/relaxed; d=iol.unh.edu; s=unh-iol; t=1751765152; x=1752369952; darn=dpdk.org; h=cc:to:from:subject:message-id:date:from:to:cc:subject:date :message-id:reply-to; bh=6EhFtnGAqdy0KE+5V/6fIIb54/bMTUxyFSeyN61OdwU=; b=WtvIurT5DSeK7zRcOqDdfkMBkEHIAaEreNISk5ffGARlZoKJ9kHiq3Iis4GSK8maw+ 3aMuhue/HR2D0EgiIRjcJRmUarcdNRTlgA2z4XErWUkXZ2ohs8/bKdwiLzYO9yxbqCyZ 1DC6UPUaTcpOlo4cGJqywaoxIrhFjYpt2LLdQ= X-Google-DKIM-Signature: v=1; a=rsa-sha256; c=relaxed/relaxed; d=1e100.net; s=20230601; t=1751765152; x=1752369952; h=cc:to:from:subject:message-id:date:x-gm-message-state:from:to:cc :subject:date:message-id:reply-to; bh=6EhFtnGAqdy0KE+5V/6fIIb54/bMTUxyFSeyN61OdwU=; b=ha9QGwOn9jq7zKfsNrNcrFyj5qRVE8j19icA93XiYqqF3U0rfzhLRDSlVdJmhSeB/0 7u+1RSW2vm6XaEdbTKb0WPJdmMgL5Fki0T19d0ks7Wt7QN3NFzBs4MG2cpiAaCtvnncS FZjYzqKpHUMQfBHMGKbSqiZ4xr4ApLOdVau7n6/jzKNeHsd5KwAAWxNTfNEnpUTZsFs5 kNCiggf7k5lE44146DTxe+jeQXGVebaJFWY/kOd1xJ9GptbJWazBMLRKq6Ix1ohLA2hN jtefottwkX2yeSzjjzX3xWZhUvVJmIZYLwF7LAI+S3WAe/DNGm5WxgQP+63bAbgTu/km VoTQ== X-Gm-Message-State: AOJu0Ywaz0Fmf7V0YkDvV9ZQFzF23BzHXvmFbsvUVTIvhOM83kH5WHPx LkvOjJAm5JbInvWz0ZpV3r9Q9TsBqndOqzzBJNICZINSTG8CQm5kfw5NBKuU2Xa34/5IOWnfTWl On3mGuYSsS+EN/UMR+PTAJNQrVzjrOcelw9e7rN6m6525 X-Gm-Gg: ASbGnctuTz3DDUyZXm6yNhGdb1SjfMnwoSzP/vZ+N7+aDbFIZYfGnm2r89RuhZdQKSM QRhAlN8TIhERxzFLyKt6f2odYhWD+b9YHmxgtOCHLphVKyfY3NW0UNrZ70wS7FN1qpMSWS3C0uZ DUXP/5q9BB6Qb308VyPBtAk+/T2bAFYyIHubLNG+WCFANvR9vjSsVh5eU4p0hF4dAqEW37iObi2 qFwhGAdx9SN9IJ0sKCeP/MMaI16XgifnVSy+Rjb5BlmcYKdlAX/v62XFIoJJqPeeB/3ZHARWp+i TOFP5oc/1AJEE4Nnb5yo9mHZDrXT2uaWyMfmiYfvlt4SGa7Yyk/n9iUK7KY7/0N4A8aJhg== X-Google-Smtp-Source: AGHT+IFb/nDT5j3UitHz4sJDgSp6wX8riFuuvMl25Jef8nXUzPINr2H3ea4wZefo3OCrzc4+5jJKYkdvzhP6 X-Received: by 2002:a17:90b:57cc:b0:302:fc48:4f0a with SMTP id 98e67ed59e1d1-31aab7586a4mr12529364a91.0.1751765151659; Sat, 05 Jul 2025 18:25:51 -0700 (PDT) Received: from postal.iol.unh.edu (postal.iol.unh.edu. [132.177.123.84]) by smtp-relay.gmail.com with ESMTPS id 98e67ed59e1d1-31aaaf6f55bsm338214a91.12.2025.07.05.18.25.51 (version=TLS1_2 cipher=ECDHE-ECDSA-AES128-GCM-SHA256 bits=128/128); Sat, 05 Jul 2025 18:25:51 -0700 (PDT) X-Relaying-Domain: iol.unh.edu Date: Sat, 05 Jul 2025 18:25:51 -0700 (PDT) Message-ID: <6869d09f.170a0220.3432a7.2d2fSMTPIN_ADDED_MISSING@mx.google.com> Received: from [172.21.0.5] (unknown [172.18.0.240]) by postal.iol.unh.edu (Postfix) with ESMTP id D6B536051830; Sat, 5 Jul 2025 21:25:50 -0400 (EDT) Subject: |WARNING| [GIT MASTER] 70c2297528e7c7789af452f78de1932e9a20c8a2 From: dpdklab@iol.unh.edu To: Test Report Cc: dpdk-test-reports@iol.unh.edu Content-Type: text/plain X-BeenThere: test-report@dpdk.org X-Mailman-Version: 2.1.29 Precedence: list List-Id: automatic DPDK test reports List-Unsubscribe: , List-Archive: List-Post: List-Help: List-Subscribe: , Errors-To: test-report-bounces@dpdk.org _Testing issues_ Branch: dpdk 70c2297528e7c7789af452f78de1932e9a20c8a2 --> testing issues Upstream job id: Generic-DPDK-Compile-Meson#405928 Test environment and result as below: +-------------------------------+--------------------+-------------------+------------------+-------------------+-------------------------+----------------------+ | Environment | dpdk_meson_compile | dpdk_compile_spdk | dpdk_compile_ovs | dpdk_msvc_compile | dpdk_llvm_clang_compile | dpdk_mingw64_compile | +===============================+====================+===================+==================+===================+=========================+======================+ | CentOS Stream 10 | PASS | SKIPPED | SKIPPED | SKIPPED | SKIPPED | SKIPPED | +-------------------------------+--------------------+-------------------+------------------+-------------------+-------------------------+----------------------+ | CentOS Stream 9 | PEND | PEND | SKIPPED | SKIPPED | SKIPPED | SKIPPED | +-------------------------------+--------------------+-------------------+------------------+-------------------+-------------------------+----------------------+ | Fedora Linux 40 | PEND | PEND | SKIPPED | SKIPPED | SKIPPED | SKIPPED | +-------------------------------+--------------------+-------------------+------------------+-------------------+-------------------------+----------------------+ | Debian GNU/Linux 12 | PEND | PEND | SKIPPED | SKIPPED | SKIPPED | SKIPPED | +-------------------------------+--------------------+-------------------+------------------+-------------------+-------------------------+----------------------+ | Fedora Linux 41 | PEND | PEND | PEND | SKIPPED | SKIPPED | SKIPPED | +-------------------------------+--------------------+-------------------+------------------+-------------------+-------------------------+----------------------+ | Red Hat Enterprise Linux 8.10 | PASS | SKIPPED | SKIPPED | SKIPPED | SKIPPED | SKIPPED | +-------------------------------+--------------------+-------------------+------------------+-------------------+-------------------------+----------------------+ | Red Hat Enterprise Linux 9.5 | PEND | SKIPPED | SKIPPED | SKIPPED | SKIPPED | SKIPPED | +-------------------------------+--------------------+-------------------+------------------+-------------------+-------------------------+----------------------+ | Ubuntu 24.04 | PEND | PEND | PEND | SKIPPED | SKIPPED | SKIPPED | +-------------------------------+--------------------+-------------------+------------------+-------------------+-------------------------+----------------------+ | Ubuntu 20.04 | PASS | SKIPPED | SKIPPED | SKIPPED | SKIPPED | SKIPPED | +-------------------------------+--------------------+-------------------+------------------+-------------------+-------------------------+----------------------+ | Alpine Linux 3.22.0 | PEND | SKIPPED | SKIPPED | SKIPPED | SKIPPED | SKIPPED | +-------------------------------+--------------------+-------------------+------------------+-------------------+-------------------------+----------------------+ | Arch Linux 20250613.0.365270 | PEND | SKIPPED | SKIPPED | SKIPPED | SKIPPED | SKIPPED | +-------------------------------+--------------------+-------------------+------------------+-------------------+-------------------------+----------------------+ | openSUSE Leap 15.6 | PEND | SKIPPED | SKIPPED | SKIPPED | SKIPPED | SKIPPED | +-------------------------------+--------------------+-------------------+------------------+-------------------+-------------------------+----------------------+ | Ubuntu 22.04 | PEND | PEND | SKIPPED | SKIPPED | SKIPPED | SKIPPED | +-------------------------------+--------------------+-------------------+------------------+-------------------+-------------------------+----------------------+ | Windows Server 2022 | SKIPPED | SKIPPED | SKIPPED | PASS | PASS | PASS | +-------------------------------+--------------------+-------------------+------------------+-------------------+-------------------------+----------------------+ CentOS Stream 10 Kernel: 5.15 Compiler: gcc gcc (GCC) 14.2.1 20250110 (Red Hat 14.2.1-8) CentOS Stream 9 Kernel: 5.15 Compiler: gcc gcc (GCC) 11.5.0 20240719 (Red Hat 11.5.0-7) Fedora Linux 40 Kernel: 5.15 Compiler: clang gcc (GCC) 14.2.1 20240912 (Red Hat 14.2.1-3) Debian GNU/Linux 12 Kernel: 5.15 Compiler: gcc gcc (Debian 12.2.0-14+deb12u1) 12.2.0 Fedora Linux 41 Kernel: 5.15 Compiler: clang gcc (GCC) 14.3.1 20250523 (Red Hat 14.3.1-1) Red Hat Enterprise Linux 8.10 Kernel: 5.15 Compiler: gcc gcc (GCC) 8.5.0 20210514 (Red Hat 8.5.0-22) Red Hat Enterprise Linux 9.5 Kernel: 5.15 Compiler: gcc gcc (GCC) 11.5.0 20240719 (Red Hat 11.5.0-2) Ubuntu 24.04 Kernel: 5.15 Compiler: gcc gcc (Ubuntu 13.3.0-6ubuntu2~24.04) 13.3.0 Ubuntu 20.04 Kernel: 5.15 Compiler: gcc gcc (Ubuntu 9.4.0-1ubuntu1~20.04.2) 9.4.0 Alpine Linux 3.22.0 Kernel: 5.15 Compiler: gcc gcc (Alpine 14.2.0) 14.2.0 Arch Linux 20250613.0.365270 Kernel: 5.15 Compiler: gcc gcc (GCC) 15.1.1 20250425 openSUSE Leap 15.6 Kernel: 5.15 Compiler: gcc gcc (SUSE Linux) 7.5.0 Ubuntu 22.04 Kernel: 5.15 Compiler: gcc gcc (Ubuntu 11.4.0-1ubuntu1~22.04) 11.4.0 Windows Server 2022 Kernel: 10.0.20348.2031 Compiler: clang 15.0.7, gcc 14.1.0 (MinGW), and MSVC VS 19.39.33521 To view detailed results, visit: https://lab.dpdk.org/results/dashboard/tarballs/34162/ UNH-IOL DPDK Community Lab To manage your email subscriptions, visit: https://lab.dpdk.org/results/dashboard/preferences/subscriptions/