From mboxrd@z Thu Jan 1 00:00:00 1970 Return-Path: Received: from mails.dpdk.org (mails.dpdk.org [217.70.189.124]) by inbox.dpdk.org (Postfix) with ESMTP id 0283C46AED for ; Sun, 6 Jul 2025 03:39:13 +0200 (CEST) Received: from mails.dpdk.org (localhost [127.0.0.1]) by mails.dpdk.org (Postfix) with ESMTP id DA0DE4025F; Sun, 6 Jul 2025 03:39:13 +0200 (CEST) Received: from mail-il1-f225.google.com (mail-il1-f225.google.com [209.85.166.225]) by mails.dpdk.org (Postfix) with ESMTP id 187624025F for ; Sun, 6 Jul 2025 03:39:12 +0200 (CEST) Received: by mail-il1-f225.google.com with SMTP id e9e14a558f8ab-3df2d111fefso20771195ab.1 for ; Sat, 05 Jul 2025 18:39:12 -0700 (PDT) DKIM-Signature: v=1; a=rsa-sha256; c=relaxed/relaxed; d=iol.unh.edu; s=unh-iol; t=1751765951; x=1752370751; darn=dpdk.org; h=references:in-reply-to:cc:to:from:subject:message-id:date:from:to :cc:subject:date:message-id:reply-to; bh=W/a2pt+Af2qUS0w/+Q+yZCwSzIVfeJgZKI3iN5Zjw1g=; b=RFd5nBEu/PrQdrNMx1Ui/GO0X3L9tn+tjpnJfsRhZkG3NRhjpr33df86TNr9ybIiz0 NRy2N92RsReCdV2ZE+YG6N6Zox0AyGqI1VYT4HKFgDrWup1cNIH3kY0uyjPOjeNZQ3jS tg4gSecgjkgy8yy4VXnxVA6SSwQJANH2BDmN8= X-Google-DKIM-Signature: v=1; a=rsa-sha256; c=relaxed/relaxed; d=1e100.net; s=20230601; t=1751765951; x=1752370751; h=references:in-reply-to:cc:to:from:subject:message-id:date :x-gm-message-state:from:to:cc:subject:date:message-id:reply-to; bh=W/a2pt+Af2qUS0w/+Q+yZCwSzIVfeJgZKI3iN5Zjw1g=; b=o86dOVsuPVF6xhy/5PHThK3ljhgvXg5GKouZKRZI+e64UcGgINDYB86dhPyvkZlDdq 45UTxPdW83OUFPJoJsca1CEUu9D0B/RMcnOhOXL8rTNRjbcEHqSpOnOZQ2OqHg+AYTak u/ud2S37vqkJKm6FGOKXc7C3LIbFGJn5UQXn6Lb5hPFVFgItkdIvPO9+J6S3oZC5026P W7j3scDXqmgizrSm9TVRgZRLEZRtbHrBPVgWgpizNxXs6B2Ez4c0RFKbD+vFY2mQKbZo qZGzTI491S0fjsHv+yGTXW0MWCSmvk7jMMkYsu/Tb46c/22A0jB329NAXr8TpNDiQABR NZ2w== X-Gm-Message-State: AOJu0YyDB7i9i1tg4X4SvxCAhjtLUviAmDm95bkufLFVFgM8gUiYLOOl Az+EkFvoQoBy+h3wEkOomB7N0hneJWG5+lq+e2vA8VjJ8oHZ55npsn57sj4OD8xdPhh4N0r8Bp1 Tg9obkEAy+69EBs9vLrPFHmrx95kHGRNwHtHM7VsUfOOGm6c7hAlXptpFoC5e X-Gm-Gg: ASbGncuNEorqxG3v6YQJv2DRTIwio++RzRhM4YVqegHXXo3ezuz8AEwca37oHXJG9cx MuQc9QTPo2ZIXeeyNWtlpGXs5FPyxR9hQp9aNg9WO2k19zoYuoTz6eYmUiJmBKmW951u6L6cPa3 yyvVqd4rxcPlwRUUa8j/OiKpmZ312IxLh4AZjh3aVRQhwQ49ZJ9dch+Q5AISSMjZIS6yxmzBQE2 gG220CbPm82gAAuR/D78aIxMBgXNJwKA6jjoXPn06rOmMr+owsN6SDQ6GE66LllzxeNBej2d7rb AejhcuLEXD5nWEpSEzES3AoLgXghjRJLfQ5LnIWkF0Yeqzs= X-Google-Smtp-Source: AGHT+IHLyH4cYGuZZ3VVs7jz49cNUWX0P1mJjIdLp+rnqwST+sC07gTDaC31uOaxOsgVhCjKzwn6S445zum5 X-Received: by 2002:a05:6e02:1a6c:b0:3df:29c5:2972 with SMTP id e9e14a558f8ab-3e135497bcbmr60674805ab.9.1751765951392; Sat, 05 Jul 2025 18:39:11 -0700 (PDT) Received: from postal.iol.unh.edu (postal.iol.unh.edu. [2606:4100:3880:1234::84]) by smtp-relay.gmail.com with ESMTPS id e9e14a558f8ab-3e0f9b75195sm3298225ab.27.2025.07.05.18.39.11 (version=TLS1_2 cipher=ECDHE-ECDSA-AES128-GCM-SHA256 bits=128/128); Sat, 05 Jul 2025 18:39:11 -0700 (PDT) X-Relaying-Domain: iol.unh.edu Date: Sat, 05 Jul 2025 18:39:11 -0700 (PDT) Message-ID: <6869d3bf.050a0220.3ada21.133fSMTPIN_ADDED_MISSING@mx.google.com> Received: from [172.21.0.5] (unknown [172.18.0.240]) by postal.iol.unh.edu (Postfix) with ESMTP id DD3606051830; Sat, 5 Jul 2025 21:39:10 -0400 (EDT) Subject: |SUCCESS| pw155020 [PATCH] net/i40e: fix missing support for RSS IPv From: dpdklab@iol.unh.edu To: Test Report Cc: dpdk-test-reports@iol.unh.edu In-Reply-To: <20250705215412.200958-1-dhanya.r.pillai@intel.com> References: <20250705215412.200958-1-dhanya.r.pillai@intel.com> Content-Type: text/plain X-BeenThere: test-report@dpdk.org X-Mailman-Version: 2.1.29 Precedence: list List-Id: automatic DPDK test reports List-Unsubscribe: , List-Archive: List-Post: List-Help: List-Subscribe: , Errors-To: test-report-bounces@dpdk.org Test-Label: iol-compile-arm64-testing Test-Status: SUCCESS http://dpdk.org/patch/155020 _Testing PASS_ Submitter: Dhanya Pillai Date: Saturday, July 05 2025 21:54:07 DPDK git baseline: Repo:dpdk Branch: master CommitID:0ae2a33d16a8727ac2935ac500e216906b50ac2c 155020 --> testing pass Upstream job id: Generic-DPDK-Compile-Meson#405885 Test environment and result as below: +------------------------------+--------------------+ | Environment | dpdk_meson_compile | +==============================+====================+ | Ubuntu 20.04 | PASS | +------------------------------+--------------------+ | Red Hat Enterprise Linux 9.5 | PASS | +------------------------------+--------------------+ | Debian GNU/Linux 12 | PASS | +------------------------------+--------------------+ | Fedora Linux 40 | PASS | +------------------------------+--------------------+ | CentOS Stream 9 | PASS | +------------------------------+--------------------+ | Ubuntu 22.04 | PASS | +------------------------------+--------------------+ | CentOS Stream 10 | PASS | +------------------------------+--------------------+ | Fedora Linux 41 | PASS | +------------------------------+--------------------+ | Ubuntu 24.04 | PASS | +------------------------------+--------------------+ Ubuntu 20.04 Kernel: 5.15 Compiler: aarch64-linux-gnu-gcc gcc (Ubuntu 9.4.0-1ubuntu1~20.04.2) 9.4.0 Red Hat Enterprise Linux 9.5 Kernel: 5.4 Compiler: gcc gcc (GCC) 11.5.0 20240719 (Red Hat 11.5.0-2) Debian GNU/Linux 12 Kernel: 5.4 Compiler: gcc gcc (Debian 12.2.0-14+deb12u1) 12.2.0 Fedora Linux 40 Kernel: 5.4 Compiler: gcc gcc (GCC) 14.2.1 20240912 (Red Hat 14.2.1-3) CentOS Stream 9 Kernel: 5.4 Compiler: gcc gcc (GCC) 11.5.0 20240719 (Red Hat 11.5.0-7) Ubuntu 22.04 Kernel: 5.4 Compiler: gcc gcc (Ubuntu 11.4.0-1ubuntu1~22.04) 11.4.0 CentOS Stream 10 Kernel: 5.4 Compiler: gcc gcc (GCC) 14.2.1 20250110 (Red Hat 14.2.1-8) Fedora Linux 41 Kernel: 5.4 Compiler: clang gcc (GCC) 14.3.1 20250523 (Red Hat 14.3.1-1) Ubuntu 24.04 Kernel: 5.4 Compiler: gcc gcc (Ubuntu 13.3.0-6ubuntu2~24.04) 13.3.0 To view detailed results, visit: https://lab.dpdk.org/results/dashboard/patchsets/33600/ UNH-IOL DPDK Community Lab To manage your email subscriptions, visit: https://lab.dpdk.org/results/dashboard/preferences/subscriptions/