From mboxrd@z Thu Jan 1 00:00:00 1970 Return-Path: Received: from mails.dpdk.org (mails.dpdk.org [217.70.189.124]) by inbox.dpdk.org (Postfix) with ESMTP id F3BC646AED for ; Sun, 6 Jul 2025 03:39:15 +0200 (CEST) Received: from mails.dpdk.org (localhost [127.0.0.1]) by mails.dpdk.org (Postfix) with ESMTP id EE6A64025F; Sun, 6 Jul 2025 03:39:15 +0200 (CEST) Received: from mail-pf1-f227.google.com (mail-pf1-f227.google.com [209.85.210.227]) by mails.dpdk.org (Postfix) with ESMTP id 07019402A9 for ; Sun, 6 Jul 2025 03:39:14 +0200 (CEST) Received: by mail-pf1-f227.google.com with SMTP id d2e1a72fcca58-74af4af04fdso2369095b3a.1 for ; Sat, 05 Jul 2025 18:39:13 -0700 (PDT) DKIM-Signature: v=1; a=rsa-sha256; c=relaxed/relaxed; d=iol.unh.edu; s=unh-iol; t=1751765953; x=1752370753; darn=dpdk.org; h=cc:to:from:subject:message-id:date:from:to:cc:subject:date :message-id:reply-to; bh=tykPuRWcI9j9C78PvcRVoMPIE+eeuMd1SNds1Feq0YI=; b=hAZsdH8iAe39NhGTb8tpXw5gf7em/iWiIHurf7vaIUFaGY0ncQU6P1lZh6miM9bMtV IetmARk8c1INrJkzrfTnx/YebpPyCqNLWki6eZhyAu3HI4E9xNGBbVbWJbZD7rV/Xr7g xHnKzZgzx+3e3g5DqjVFjWW9UVVwPjvQ7FjKs= X-Google-DKIM-Signature: v=1; a=rsa-sha256; c=relaxed/relaxed; d=1e100.net; s=20230601; t=1751765953; x=1752370753; h=cc:to:from:subject:message-id:date:x-gm-message-state:from:to:cc :subject:date:message-id:reply-to; bh=tykPuRWcI9j9C78PvcRVoMPIE+eeuMd1SNds1Feq0YI=; b=JRPYYvLBihh08F3wvIalcuwJod64Wh2BX+Bd+AR0mijbYonH6zfBbKKdMrha2qnm5n J4i4N56VDtvdMliteuYDt5crrxMPqkrQryxpkYpQLTpPreT56nG0bdm55GOwX07HwEhW hl4VjwybX2OpN+IUnA4nw2oZ5LcUZJs+luHf1CL/Y9bTGlnKmvns80i7bnnkCbDHcmDi P+WSucje44goCJoOTVFu1yS3zJYZ1X14JX6VFd6y3wkbD0Wcp+fGIFng2gnK5Fp6wyQT AyZ2hPNSKzh5NYIZXC7GZtsVpqpOEPKsxfaCIABl0g4Mk1qE7MtZNxazPinLal2DT40Z 1Y9Q== X-Gm-Message-State: AOJu0Yz0cD/kA4V+liRcVEaRL/d8PwQ6LtM9Sj79Vwv1Fkz5C2xf3qyh 8KRALJ/nfqAj0rhsb9bv9xMAOcKlk+JJFTFrpXQx9O7i2jsdBhjy/YvB/uYKULmHLlvQDk4IvmG pR9Fzo8SN2XZiVg2RrQMdNhc9eZiKnNQj1EB7na9OXCEX X-Gm-Gg: ASbGnct5dQ0DOTnzLpe0hA17EXSU0y3mpKChoCch5REJfXDujS7sPQ0rNIfcZwlzcCp eJG8n/Soi3GrdXculGTY7c8n2UoL88VKUeGMpm7gXGZpTvH9Zy7FgUmSd1/MVyhA8Kyr8WoHWsv rEdo/y1QWBg0EDrz7VgzEKmdFVMZd31sOuykdVhQWxsAQ6KfSK7HuQ1im5xinuB0CPO6JxEF9BE xOu8291WNYbnMoC6Q3stDxJmcg74FrqnrODT+qjRm3/ncMW3tlWsLCf/41UVYeAQPV4YABZMCde 0/2e60k2vl2tVsab9bqFy70q9/8kJkjczxs+RaBC8mWBFGhzhsP/93DMlbRvGmmyhq8uSA== X-Google-Smtp-Source: AGHT+IH0T/VrptfxlO2TTBcMcHsSRViPONX6WP4zQk20r0sSOiLuXbwQnALfcJqmUPZZGX6LPAVNPQ+XsLD4 X-Received: by 2002:a17:903:298d:b0:235:278c:7d06 with SMTP id d9443c01a7336-23c858ac2camr108147145ad.8.1751765953030; Sat, 05 Jul 2025 18:39:13 -0700 (PDT) Received: from postal.iol.unh.edu (postal.iol.unh.edu. [132.177.123.84]) by smtp-relay.gmail.com with ESMTPS id d9443c01a7336-23c842d10d6sm2572725ad.42.2025.07.05.18.39.12 (version=TLS1_2 cipher=ECDHE-ECDSA-AES128-GCM-SHA256 bits=128/128); Sat, 05 Jul 2025 18:39:13 -0700 (PDT) X-Relaying-Domain: iol.unh.edu Date: Sat, 05 Jul 2025 18:39:13 -0700 (PDT) Message-ID: <6869d3c1.170a0220.1b0ed2.d946SMTPIN_ADDED_MISSING@mx.google.com> Received: from [172.21.0.6] (unknown [172.18.0.240]) by postal.iol.unh.edu (Postfix) with ESMTP id 3E5606051830; Sat, 5 Jul 2025 21:39:12 -0400 (EDT) Subject: |SUCCESS| [GIT MASTER] 70c2297528e7c7789af452f78de1932e9a20c8a2 From: dpdklab@iol.unh.edu To: Test Report Cc: dpdk-test-reports@iol.unh.edu Content-Type: text/plain X-BeenThere: test-report@dpdk.org X-Mailman-Version: 2.1.29 Precedence: list List-Id: automatic DPDK test reports List-Unsubscribe: , List-Archive: List-Post: List-Help: List-Subscribe: , Errors-To: test-report-bounces@dpdk.org _Testing PASS_ Branch: dpdk 70c2297528e7c7789af452f78de1932e9a20c8a2 --> testing pass Upstream job id: Generic-Unit-Test-DPDK#353027 Test environment and result as below: +-------------------------------+----------------+ | Environment | dpdk_unit_test | +===============================+================+ | Arch Linux 20250613.0.365270 | PASS | +-------------------------------+----------------+ | Fedora Linux 41 | PASS | +-------------------------------+----------------+ | Fedora Linux 40 | PASS | +-------------------------------+----------------+ | Red Hat Enterprise Linux 9.5 | PASS | +-------------------------------+----------------+ | CentOS Stream 10 | PASS | +-------------------------------+----------------+ | CentOS Stream 9 | PASS | +-------------------------------+----------------+ | Debian GNU/Linux 12 | PASS | +-------------------------------+----------------+ | Red Hat Enterprise Linux 8.10 | PASS | +-------------------------------+----------------+ | Ubuntu 20.04 | PASS | +-------------------------------+----------------+ | Ubuntu 24.04 | PASS | +-------------------------------+----------------+ | Ubuntu 22.04 | PASS | +-------------------------------+----------------+ | Windows Server 2022 | PASS | +-------------------------------+----------------+ Arch Linux 20250613.0.365270 Kernel: 5.15 Compiler: gcc gcc (GCC) 15.1.1 20250425 Fedora Linux 41 Kernel: 5.15 Compiler: clang gcc (GCC) 14.3.1 20250523 (Red Hat 14.3.1-1) Fedora Linux 40 Kernel: 5.15 Compiler: gcc gcc (GCC) 14.2.1 20240912 (Red Hat 14.2.1-3) Red Hat Enterprise Linux 9.5 Kernel: 5.15 Compiler: gcc gcc (GCC) 11.5.0 20240719 (Red Hat 11.5.0-2) CentOS Stream 10 Kernel: 5.15 Compiler: gcc gcc (GCC) 14.2.1 20250110 (Red Hat 14.2.1-8) CentOS Stream 9 Kernel: 5.15 Compiler: gcc gcc (GCC) 11.5.0 20240719 (Red Hat 11.5.0-7) Debian GNU/Linux 12 Kernel: 5.15 Compiler: gcc gcc (Debian 12.2.0-14+deb12u1) 12.2.0 Red Hat Enterprise Linux 8.10 Kernel: 5.15 Compiler: gcc gcc (GCC) 8.5.0 20210514 (Red Hat 8.5.0-22) Ubuntu 20.04 Kernel: 5.15 Compiler: gcc gcc (Ubuntu 9.4.0-1ubuntu1~20.04.2) 9.4.0 Ubuntu 24.04 Kernel: 5.15 Compiler: gcc gcc (Ubuntu 13.3.0-6ubuntu2~24.04) 13.3.0 Ubuntu 22.04 Kernel: 5.15 Compiler: gcc gcc (Ubuntu 11.4.0-1ubuntu1~22.04) 11.4.0 Windows Server 2022 Kernel: 10.0.20348.2031 Compiler: clang 15.0.7, gcc 14.1.0 (MinGW), and MSVC VS 19.39.33521 To view detailed results, visit: https://lab.dpdk.org/results/dashboard/tarballs/34162/ UNH-IOL DPDK Community Lab To manage your email subscriptions, visit: https://lab.dpdk.org/results/dashboard/preferences/subscriptions/