From mboxrd@z Thu Jan 1 00:00:00 1970 Return-Path: Received: from mails.dpdk.org (mails.dpdk.org [217.70.189.124]) by inbox.dpdk.org (Postfix) with ESMTP id AB54F46AED for ; Sun, 6 Jul 2025 03:56:57 +0200 (CEST) Received: from mails.dpdk.org (localhost [127.0.0.1]) by mails.dpdk.org (Postfix) with ESMTP id 893954025F; Sun, 6 Jul 2025 03:56:57 +0200 (CEST) Received: from mail-oa1-f99.google.com (mail-oa1-f99.google.com [209.85.160.99]) by mails.dpdk.org (Postfix) with ESMTP id 6F0614025F for ; Sun, 6 Jul 2025 03:56:55 +0200 (CEST) Received: by mail-oa1-f99.google.com with SMTP id 586e51a60fabf-2ea34731c5dso1740174fac.0 for ; Sat, 05 Jul 2025 18:56:55 -0700 (PDT) DKIM-Signature: v=1; a=rsa-sha256; c=relaxed/relaxed; d=iol.unh.edu; s=unh-iol; t=1751767014; x=1752371814; darn=dpdk.org; h=cc:to:from:subject:message-id:date:from:to:cc:subject:date :message-id:reply-to; bh=fh4vS6VJQ/xzOWNgdaJVKltYAVKKlqHhVjQMjiqZ3GE=; b=aoTnpjtgd5xkQCS0L2xnjZI7KGNc4Ti/0l5XDYT6AUpyVhoX/5vfp+3Sv1ALNB1Dy/ 4I1sdRnsrI/nhyFWUxOM3NvjWRUAoS9qHugKRC2eT2qC2T6stwpuCGQtS4/7sIF5n3QY mQbeoYdXx1ItcWCPfKZUSmGFEODQ1DgN/9rlo= X-Google-DKIM-Signature: v=1; a=rsa-sha256; c=relaxed/relaxed; d=1e100.net; s=20230601; t=1751767014; x=1752371814; h=cc:to:from:subject:message-id:date:x-gm-message-state:from:to:cc :subject:date:message-id:reply-to; bh=fh4vS6VJQ/xzOWNgdaJVKltYAVKKlqHhVjQMjiqZ3GE=; b=Vd8EQDZi4tamJ4H2qpgQswSOoK6M9Ad6JkO8NgoXE6pPstwgFmyrhS/Ca2ln/NOK0l o5ovjzHyYami/UNbz2kzET5t18iuJNeplTaepo8UWLFjxVjh374DEcUZ3pG0oDGJIGpP LQKdaKR22Kuf9iScbsh9aD/KqFOd53Rc+yj1dnpHdAQK4a60z3BpX0egGUCFixhwCBXu aMwfmLa/vh7kxp7iuptXpfEp3Er0y+aHpzehDfvkkDRLiYV5R/vJiE3WUtUW8bHUnsxk 8bsu0o39wuEonBVyZ1B/5UQ14dSeo4ojASJA9w1lRJYVFPq4knkGm1OZF5yWG8VJb/py eTNQ== X-Gm-Message-State: AOJu0YwhEU/OY51c6I7xvQsdONDexGrjXpQ8RUhE1C7sk+f/pvZowpL3 y86JpOJ5p+dN1FyyetaWfDd46prFr83rwqL9yPWOm9+9vPE+U5eGF8y6Po5+VYVvaLMYXEA8c/M kLZxpXelT2ggTQ0kZGf8QLWMxROXZhIqowM2bVJytF6loaogp1nDHYuqsMrlU X-Gm-Gg: ASbGncthOC5LlLrIfdMT9cvKtQkgEFg1IgbK66j0HsN38oMNxhKxJ5b/8ixUWEgsxQQ ErSoeaAF9t3IxMyoMhWlhY4YZPlpTH1k5/V1N0KXkVq/TO+A/w8dcIa9e7kpKfM1UVb++Lrgx7J I2XraIGRS7lKvC//+tcVr1F0C36NH9UybzyDU7JtRRNqeZ0DaEIB6vNUps78BfiVGEAyajDE7qV L7/HXgwiyGZTDcF548RGbGv9fRbj/9uSFlk7ux27F2yjbSTDYOnXzQCAuD1tDfjRErqVIc6A7Du X9VmJ8+vq261sgsnVakbKFJcXz2b5DuTwEnaVWnLNsLSKkc= X-Google-Smtp-Source: AGHT+IGgkZSL4//ciKW0o7MCO4bMCEwdj/zz+5ekEePSi/iDTlKyBecu2AJtXg76uKyZSzvqFxsWDF/d5dKw X-Received: by 2002:a05:6870:6492:b0:29e:74a0:e03f with SMTP id 586e51a60fabf-2f791e86af3mr5494589fac.24.1751767014599; Sat, 05 Jul 2025 18:56:54 -0700 (PDT) Received: from postal.iol.unh.edu (postal.iol.unh.edu. [2606:4100:3880:1234::84]) by smtp-relay.gmail.com with ESMTPS id 586e51a60fabf-2f78fe57997sm327204fac.9.2025.07.05.18.56.54 (version=TLS1_2 cipher=ECDHE-ECDSA-AES128-GCM-SHA256 bits=128/128); Sat, 05 Jul 2025 18:56:54 -0700 (PDT) X-Relaying-Domain: iol.unh.edu Date: Sat, 05 Jul 2025 18:56:54 -0700 (PDT) Message-ID: <6869d7e6.050a0220.146436.1e47SMTPIN_ADDED_MISSING@mx.google.com> Received: from [172.21.0.5] (unknown [172.18.0.240]) by postal.iol.unh.edu (Postfix) with ESMTP id 15EFA6051830; Sat, 5 Jul 2025 21:56:54 -0400 (EDT) Subject: |WARNING| [GIT MASTER] 70c2297528e7c7789af452f78de1932e9a20c8a2 From: dpdklab@iol.unh.edu To: Test Report Cc: dpdk-test-reports@iol.unh.edu Content-Type: text/plain X-BeenThere: test-report@dpdk.org X-Mailman-Version: 2.1.29 Precedence: list List-Id: automatic DPDK test reports List-Unsubscribe: , List-Archive: List-Post: List-Help: List-Subscribe: , Errors-To: test-report-bounces@dpdk.org _Testing issues_ Branch: dpdk 70c2297528e7c7789af452f78de1932e9a20c8a2 --> testing issues Upstream job id: Generic-DPDK-Compile-Meson#405938 Test environment and result as below: +-------------------------------+--------------------+-------------------+------------------+-------------------+-------------------------+----------------------+ | Environment | dpdk_meson_compile | dpdk_compile_spdk | dpdk_compile_ovs | dpdk_msvc_compile | dpdk_llvm_clang_compile | dpdk_mingw64_compile | +===============================+====================+===================+==================+===================+=========================+======================+ | CentOS Stream 10 | PASS | SKIPPED | SKIPPED | SKIPPED | SKIPPED | SKIPPED | +-------------------------------+--------------------+-------------------+------------------+-------------------+-------------------------+----------------------+ | CentOS Stream 9 | PASS | PASS | SKIPPED | SKIPPED | SKIPPED | SKIPPED | +-------------------------------+--------------------+-------------------+------------------+-------------------+-------------------------+----------------------+ | Fedora Linux 40 | PASS | PASS | SKIPPED | SKIPPED | SKIPPED | SKIPPED | +-------------------------------+--------------------+-------------------+------------------+-------------------+-------------------------+----------------------+ | Debian GNU/Linux 12 | PASS | PASS | SKIPPED | SKIPPED | SKIPPED | SKIPPED | +-------------------------------+--------------------+-------------------+------------------+-------------------+-------------------------+----------------------+ | Fedora Linux 41 | PASS | PASS | PASS | SKIPPED | SKIPPED | SKIPPED | +-------------------------------+--------------------+-------------------+------------------+-------------------+-------------------------+----------------------+ | Red Hat Enterprise Linux 8.10 | PASS | SKIPPED | SKIPPED | SKIPPED | SKIPPED | SKIPPED | +-------------------------------+--------------------+-------------------+------------------+-------------------+-------------------------+----------------------+ | Red Hat Enterprise Linux 9.5 | PASS | SKIPPED | SKIPPED | SKIPPED | SKIPPED | SKIPPED | +-------------------------------+--------------------+-------------------+------------------+-------------------+-------------------------+----------------------+ | Ubuntu 24.04 | PASS | PASS | PASS | SKIPPED | SKIPPED | SKIPPED | +-------------------------------+--------------------+-------------------+------------------+-------------------+-------------------------+----------------------+ | Ubuntu 20.04 | PASS | SKIPPED | SKIPPED | SKIPPED | SKIPPED | SKIPPED | +-------------------------------+--------------------+-------------------+------------------+-------------------+-------------------------+----------------------+ | Alpine Linux 3.22.0 | PASS | SKIPPED | SKIPPED | SKIPPED | SKIPPED | SKIPPED | +-------------------------------+--------------------+-------------------+------------------+-------------------+-------------------------+----------------------+ | Arch Linux 20250613.0.365270 | PASS | SKIPPED | SKIPPED | SKIPPED | SKIPPED | SKIPPED | +-------------------------------+--------------------+-------------------+------------------+-------------------+-------------------------+----------------------+ | openSUSE Leap 15.6 | PASS | SKIPPED | SKIPPED | SKIPPED | SKIPPED | SKIPPED | +-------------------------------+--------------------+-------------------+------------------+-------------------+-------------------------+----------------------+ | Ubuntu 22.04 | PASS | PASS | SKIPPED | SKIPPED | SKIPPED | SKIPPED | +-------------------------------+--------------------+-------------------+------------------+-------------------+-------------------------+----------------------+ | Windows Server 2022 | SKIPPED | SKIPPED | SKIPPED | PASS | PASS | PASS | +-------------------------------+--------------------+-------------------+------------------+-------------------+-------------------------+----------------------+ CentOS Stream 10 Kernel: 5.15 Compiler: gcc gcc (GCC) 14.2.1 20250110 (Red Hat 14.2.1-8) CentOS Stream 9 Kernel: 5.15 Compiler: gcc gcc (GCC) 11.5.0 20240719 (Red Hat 11.5.0-7) Fedora Linux 40 Kernel: 5.15 Compiler: clang gcc (GCC) 14.2.1 20240912 (Red Hat 14.2.1-3) Debian GNU/Linux 12 Kernel: 5.15 Compiler: gcc gcc (Debian 12.2.0-14+deb12u1) 12.2.0 Fedora Linux 41 Kernel: 5.15 Compiler: clang gcc (GCC) 14.3.1 20250523 (Red Hat 14.3.1-1) Red Hat Enterprise Linux 8.10 Kernel: 5.15 Compiler: gcc gcc (GCC) 8.5.0 20210514 (Red Hat 8.5.0-22) Red Hat Enterprise Linux 9.5 Kernel: 5.15 Compiler: gcc gcc (GCC) 11.5.0 20240719 (Red Hat 11.5.0-2) Ubuntu 24.04 Kernel: 5.15 Compiler: gcc gcc (Ubuntu 13.3.0-6ubuntu2~24.04) 13.3.0 Ubuntu 20.04 Kernel: 5.15 Compiler: gcc gcc (Ubuntu 9.4.0-1ubuntu1~20.04.2) 9.4.0 Alpine Linux 3.22.0 Kernel: 5.15 Compiler: gcc gcc (Alpine 14.2.0) 14.2.0 Arch Linux 20250613.0.365270 Kernel: 5.15 Compiler: gcc gcc (GCC) 15.1.1 20250425 openSUSE Leap 15.6 Kernel: 5.15 Compiler: gcc gcc (SUSE Linux) 7.5.0 Ubuntu 22.04 Kernel: 5.15 Compiler: gcc gcc (Ubuntu 11.4.0-1ubuntu1~22.04) 11.4.0 Windows Server 2022 Kernel: 10.0.20348.2031 Compiler: clang 15.0.7, gcc 14.1.0 (MinGW), and MSVC VS 19.39.33521 To view detailed results, visit: https://lab.dpdk.org/results/dashboard/tarballs/34162/ UNH-IOL DPDK Community Lab To manage your email subscriptions, visit: https://lab.dpdk.org/results/dashboard/preferences/subscriptions/