From mboxrd@z Thu Jan 1 00:00:00 1970 Return-Path: Received: from mails.dpdk.org (mails.dpdk.org [217.70.189.124]) by inbox.dpdk.org (Postfix) with ESMTP id D8CE446B0C for ; Sun, 6 Jul 2025 05:29:32 +0200 (CEST) Received: from mails.dpdk.org (localhost [127.0.0.1]) by mails.dpdk.org (Postfix) with ESMTP id BB02D4025F; Sun, 6 Jul 2025 05:29:32 +0200 (CEST) Received: from mail-io1-f98.google.com (mail-io1-f98.google.com [209.85.166.98]) by mails.dpdk.org (Postfix) with ESMTP id AE4054025F for ; Sun, 6 Jul 2025 05:29:31 +0200 (CEST) Received: by mail-io1-f98.google.com with SMTP id ca18e2360f4ac-874a68f6516so215678039f.2 for ; Sat, 05 Jul 2025 20:29:31 -0700 (PDT) DKIM-Signature: v=1; a=rsa-sha256; c=relaxed/relaxed; d=iol.unh.edu; s=unh-iol; t=1751772571; x=1752377371; darn=dpdk.org; h=cc:to:from:subject:message-id:date:from:to:cc:subject:date :message-id:reply-to; bh=GWPhNSQvRawCKJ6biibjvgUx3/q5HVKxN3M+A0wYQr8=; b=Oaex53YgygRxlIXiwCOQ4V8XMi/ZcL5Si7R0bsW380UhVEqlJVDLnoT9nWdZJveVTU 5Q48Yf2Lvr8wEyoxQv/M8ZspagplIf9zqyT4z9yxOjP8RYU2zV84i2KT5OOkrW44mgdg HxtOCgWJRg90X5Bu1nvYJjt/+dPdKHxV12C4Y= X-Google-DKIM-Signature: v=1; a=rsa-sha256; c=relaxed/relaxed; d=1e100.net; s=20230601; t=1751772571; x=1752377371; h=cc:to:from:subject:message-id:date:x-gm-message-state:from:to:cc :subject:date:message-id:reply-to; bh=GWPhNSQvRawCKJ6biibjvgUx3/q5HVKxN3M+A0wYQr8=; b=WKtd2FU0tAEVmD1nkVP2bnHBUI6Z3ggG7DJFO3bqkJ8Fv9TV/weJfV6uM1xijLBZnw nRZVYXkfoUW/xdNhDW4GNAEYuYsHMw0Jil2rCjY/WqK7ks9tfTlngOU+n2ybYzLqcNBD sJ7BZlamSW382jIlZXXbKLeyfUR8r2ofzjyZTHVtKb/ZdhlhSOfhD3NS0KeDIOqhBbnO 2w6ZzquPCH7lfxZRBczHsjgquCn1Vz32D5p8Xua6Q1NhTORTnlFblQjqmpIztuInMMru g+1XGcxf4bHXrpaxF/WwspC2AbDzTc6g5QWZf4NYwnf6+ZumQtShwmL3xEmz7IbFEiP0 L5jw== X-Gm-Message-State: AOJu0Yx/+RNa5+y57HWOSbaBEdvPnNFYxjVNimjuDDAPOJzshEwkw5N5 8TexzgHZdI9cBK/nQWZK5BhwOhRdgKGwpm10JmUFbRxYSSrkU1RrAxUsuE4XmgSC+wirxVB1wqV 2jTyQ/qlhImFw3zHNZcuOnyahq++XciZIDtxlnSu7ijcP X-Gm-Gg: ASbGncuoTSKfbCKPIVatJpmCDSYZWjSwS2tmkScihm6YRPQrM02gN1V9GMlVWioWsv3 rtIYcIMp7Xi1/rZTdQAFzEoxgInv5ycmqBvEkfuPC2sUl6xfLz7KdtDSsDVA5cGhylvCxDUCq/I 1nGo98VUxcYJZ762m9Wdr9eDB9hIzdn0UG538Glx2oKfKYFtu31B+I8WcMhmbZjikcHpb1+KDCo Bk7Ka3DIgR+jozjqnQ3+S+9P/OLCzaXrkHOm/WTTb53Xf4w5PkeID366RlDRysh7W+I8bqW+QYm HPmIlgbu4vAtLT+ZkQET2QKa3JNm3EIiBMZpso5awwKvLff8/nQnxOBo5jiIzyUJ4SMsnw== X-Google-Smtp-Source: AGHT+IFejO5UJJPpMfB1Xpp+qvj57oyp42w5YzZcXZg3dgi6zfDM+zg7Wc50SmqMYIVdSMAiOzn9PbhrTAeE X-Received: by 2002:a05:6e02:3804:b0:3dd:b5ef:4556 with SMTP id e9e14a558f8ab-3e13ef0e2a8mr37766875ab.18.1751772570872; Sat, 05 Jul 2025 20:29:30 -0700 (PDT) Received: from postal.iol.unh.edu (postal.iol.unh.edu. [132.177.123.84]) by smtp-relay.gmail.com with ESMTPS id 8926c6da1cb9f-503b5badb6csm160446173.50.2025.07.05.20.29.30 (version=TLS1_2 cipher=ECDHE-ECDSA-AES128-GCM-SHA256 bits=128/128); Sat, 05 Jul 2025 20:29:30 -0700 (PDT) X-Relaying-Domain: iol.unh.edu Date: Sat, 05 Jul 2025 20:29:30 -0700 (PDT) Message-ID: <6869ed9a.050a0220.355be0.84edSMTPIN_ADDED_MISSING@mx.google.com> Received: from [172.21.0.5] (unknown [172.18.0.240]) by postal.iol.unh.edu (Postfix) with ESMTP id 39D6D6051830; Sat, 5 Jul 2025 23:29:30 -0400 (EDT) Subject: |SUCCESS| [GIT MASTER] 70c2297528e7c7789af452f78de1932e9a20c8a2 From: dpdklab@iol.unh.edu To: Test Report Cc: dpdk-test-reports@iol.unh.edu Content-Type: text/plain X-BeenThere: test-report@dpdk.org X-Mailman-Version: 2.1.29 Precedence: list List-Id: automatic DPDK test reports List-Unsubscribe: , List-Archive: List-Post: List-Help: List-Subscribe: , Errors-To: test-report-bounces@dpdk.org _Testing PASS_ Branch: dpdk 70c2297528e7c7789af452f78de1932e9a20c8a2 --> testing pass Upstream job id: Generic-DPDK-Compile-Meson#405916 Test environment and result as below: +------------------------------+--------------------+ | Environment | dpdk_meson_compile | +==============================+====================+ | Red Hat Enterprise Linux 9.5 | PASS | +------------------------------+--------------------+ | Ubuntu 20.04 | PASS | +------------------------------+--------------------+ | Fedora Linux 40 | PASS | +------------------------------+--------------------+ | Fedora Linux 41 | PASS | +------------------------------+--------------------+ | Debian GNU/Linux 12 | PASS | +------------------------------+--------------------+ | CentOS Stream 9 | PASS | +------------------------------+--------------------+ | Ubuntu 22.04 | PASS | +------------------------------+--------------------+ | Ubuntu 24.04 | PASS | +------------------------------+--------------------+ | CentOS Stream 10 | PASS | +------------------------------+--------------------+ Red Hat Enterprise Linux 9.5 Kernel: 5.4 Compiler: gcc gcc (GCC) 11.5.0 20240719 (Red Hat 11.5.0-2) Ubuntu 20.04 Kernel: 5.15 Compiler: aarch64-linux-gnu-gcc gcc (Ubuntu 9.4.0-1ubuntu1~20.04.2) 9.4.0 Fedora Linux 40 Kernel: 5.4 Compiler: gcc gcc (GCC) 14.2.1 20240912 (Red Hat 14.2.1-3) Fedora Linux 41 Kernel: 5.4 Compiler: gcc gcc (GCC) 14.3.1 20250523 (Red Hat 14.3.1-1) Debian GNU/Linux 12 Kernel: 5.4 Compiler: gcc gcc (Debian 12.2.0-14+deb12u1) 12.2.0 CentOS Stream 9 Kernel: 5.4 Compiler: gcc gcc (GCC) 11.5.0 20240719 (Red Hat 11.5.0-7) Ubuntu 22.04 Kernel: 5.4 Compiler: gcc gcc (Ubuntu 11.4.0-1ubuntu1~22.04) 11.4.0 Ubuntu 24.04 Kernel: 5.4 Compiler: gcc gcc (Ubuntu 13.3.0-6ubuntu2~24.04) 13.3.0 CentOS Stream 10 Kernel: 5.4 Compiler: gcc gcc (GCC) 14.2.1 20250110 (Red Hat 14.2.1-8) To view detailed results, visit: https://lab.dpdk.org/results/dashboard/tarballs/34162/ UNH-IOL DPDK Community Lab To manage your email subscriptions, visit: https://lab.dpdk.org/results/dashboard/preferences/subscriptions/