From mboxrd@z Thu Jan 1 00:00:00 1970 Return-Path: Received: from mails.dpdk.org (mails.dpdk.org [217.70.189.124]) by inbox.dpdk.org (Postfix) with ESMTP id D062F46B1F for ; Mon, 7 Jul 2025 10:28:05 +0200 (CEST) Received: from mails.dpdk.org (localhost [127.0.0.1]) by mails.dpdk.org (Postfix) with ESMTP id A68D84025D; Mon, 7 Jul 2025 10:28:05 +0200 (CEST) Received: from mail-il1-f226.google.com (mail-il1-f226.google.com [209.85.166.226]) by mails.dpdk.org (Postfix) with ESMTP id 3D3FC4025D for ; Mon, 7 Jul 2025 10:28:04 +0200 (CEST) Received: by mail-il1-f226.google.com with SMTP id e9e14a558f8ab-3de2b02c69eso17203435ab.1 for ; Mon, 07 Jul 2025 01:28:04 -0700 (PDT) DKIM-Signature: v=1; a=rsa-sha256; c=relaxed/relaxed; d=iol.unh.edu; s=unh-iol; t=1751876883; x=1752481683; darn=dpdk.org; h=references:in-reply-to:cc:to:from:subject:message-id:date:from:to :cc:subject:date:message-id:reply-to; bh=Uuka+Kp3mwNzlijxG42rMkL0iYq7vFSe16aIF+oQ/1c=; b=W2LcGlImKII/IIhe058EOZYRMcfzgsNa7EUVmZUzIO2KLZiuwI75CJHOCMd+pdXcJB VR8TPuLDGKpmJBpr84f+bsu4I8L89oUr/J/21pWso+BWLFb92ePSltO9+jlKPe7tM/J+ KN5JTyAIMUZy2OqBdMvJm1FlXcmdUQpryYH9s= X-Google-DKIM-Signature: v=1; a=rsa-sha256; c=relaxed/relaxed; d=1e100.net; s=20230601; t=1751876883; x=1752481683; h=references:in-reply-to:cc:to:from:subject:message-id:date :x-gm-message-state:from:to:cc:subject:date:message-id:reply-to; bh=Uuka+Kp3mwNzlijxG42rMkL0iYq7vFSe16aIF+oQ/1c=; b=rrui8rN8flMJFE8MVDkvecDkSMP5M3Z6IDpZ8ixigj3TuRzIAqWXfRdljN7OgPCmBC jehV7KpsGOa5g0mpS1vO6MqHP93GQb2UPVfSr4ll4EBViTAYBzwn3e9GyoYRxmTSFEQN NEBIkigj9BB/zSsYc3JZKxkdJs2jbmUiJK2DNguoM4djcH3MDYHvWEGIhwrJY9JxPOkm 9LjKim7F3qebZoa9Unwd9OGDJN0gYeR7k7eUq7SgOcpI5sf8FJfNm2yyxWQw87COYtJE SSmMsutH4umtsbY2ibvonUp6yXmKy6TT5QVsuPl7G3WEnpzmg0XQgMBSjq9W87fJW/9P 98aA== X-Gm-Message-State: AOJu0YyAqsvDm78yu2JKnI7tipRUyuz1fghGA+rxpoVCGLs/QCv3N/Mp JN1ue/r8msZtrXTUbGbeKRb+z/nW3Y06+OvmiZUT/a1/iXyNvRKrOXndTCPO+XjDakvyp1Apsfv Rv3c6r/vUlTCXO1BvmtwNRQe/q/wlDIPmDcjB51ER6top X-Gm-Gg: ASbGncuOOxfYE5rCTaKNv663m/LuBG4flD+VbF5/Weebhr5K9bJQqTpN2G0F776pfnf js12INbNn2TOlqRD87M80m8rX5IjdFdlXwnFSt3gyHTzXC0o3z+2K9KXyBTmzMX8p3f3FkaTQ9Y FCOINcBy8CY8rf+BJu21l9gkELOeM/FJ9um79N2xP4hBvfUgKl5Gn00jOw86e4rzwfSntmizLEh 2kb07DtnvHjfj0tu2SAByOcjMB4L7kGJl0lTfILEC1oxrN7aOw1JT5ODNWiJITDofCqXfSqBfrZ zfvFNpuGc3J820mqQPKQnS1JafmWIl8WAt5bh260T5kz/ulOHJZA3kIcXn5Swqs0FO5mwQ== X-Google-Smtp-Source: AGHT+IEY+fL89ddMFxHQpVNBSDBlV8H4krtP/ZpNzpoAykSOl5j1cv4h2QdvyVgzqhIthT7SHWEXpNx469YA X-Received: by 2002:a05:6e02:1d83:b0:3e0:4f30:c951 with SMTP id e9e14a558f8ab-3e136fdc8e9mr82437445ab.14.1751876883520; Mon, 07 Jul 2025 01:28:03 -0700 (PDT) Received: from postal.iol.unh.edu (postal.iol.unh.edu. [132.177.123.84]) by smtp-relay.gmail.com with ESMTPS id e9e14a558f8ab-3e0f9c298f0sm5113245ab.44.2025.07.07.01.28.03 (version=TLS1_2 cipher=ECDHE-ECDSA-AES128-GCM-SHA256 bits=128/128); Mon, 07 Jul 2025 01:28:03 -0700 (PDT) X-Relaying-Domain: iol.unh.edu Date: Mon, 07 Jul 2025 01:28:03 -0700 (PDT) Message-ID: <686b8513.050a0220.2a1c03.b6e9SMTPIN_ADDED_MISSING@mx.google.com> Received: from [172.21.0.5] (unknown [172.18.0.240]) by postal.iol.unh.edu (Postfix) with ESMTP id F1F0B6051830; Mon, 7 Jul 2025 04:28:02 -0400 (EDT) Subject: |SUCCESS| pw155021-155026 [PATCH] [v1,6/6] net/zxdh: add support I51 From: dpdklab@iol.unh.edu To: Test Report Cc: dpdk-test-reports@iol.unh.edu In-Reply-To: <20250707055621.357606-6-wang.junlong1@zte.com.cn> References: <20250707055621.357606-6-wang.junlong1@zte.com.cn> Content-Type: text/plain X-BeenThere: test-report@dpdk.org X-Mailman-Version: 2.1.29 Precedence: list List-Id: automatic DPDK test reports List-Unsubscribe: , List-Archive: List-Post: List-Help: List-Subscribe: , Errors-To: test-report-bounces@dpdk.org Test-Label: iol-unit-arm64-testing Test-Status: SUCCESS http://dpdk.org/patch/155026 _Testing PASS_ Submitter: Junlong Wang Date: Monday, July 07 2025 05:56:21 DPDK git baseline: Repo:dpdk Branch: master CommitID:a288c0dee9221fd2acf4f079ef1b1ff04135aedd 155021-155026 --> testing pass Upstream job id: Generic-Unit-Test-DPDK#353203 Test environment and result as below: +------------------------------+--------------+---------------------------+------------------------------+----------------+ | Environment | lpm_autotest | cryptodev_sw_zuc_autotest | cryptodev_sw_snow3g_autotest | dpdk_unit_test | +==============================+==============+===========================+==============================+================+ | Ubuntu 20.04 | PASS | SKIPPED | SKIPPED | PASS | +------------------------------+--------------+---------------------------+------------------------------+----------------+ | Debian 12 (arm) | SKIPPED | PASS | PASS | SKIPPED | +------------------------------+--------------+---------------------------+------------------------------+----------------+ | CentOS Stream 10 | SKIPPED | SKIPPED | SKIPPED | PASS | +------------------------------+--------------+---------------------------+------------------------------+----------------+ | CentOS Stream 9 | SKIPPED | SKIPPED | SKIPPED | PASS | +------------------------------+--------------+---------------------------+------------------------------+----------------+ | Fedora Linux 40 | SKIPPED | SKIPPED | SKIPPED | PASS | +------------------------------+--------------+---------------------------+------------------------------+----------------+ | Debian GNU/Linux 12 | SKIPPED | SKIPPED | SKIPPED | PASS | +------------------------------+--------------+---------------------------+------------------------------+----------------+ | Fedora Linux 41 | SKIPPED | SKIPPED | SKIPPED | PASS | +------------------------------+--------------+---------------------------+------------------------------+----------------+ | Red Hat Enterprise Linux 9.5 | SKIPPED | SKIPPED | SKIPPED | PASS | +------------------------------+--------------+---------------------------+------------------------------+----------------+ | Ubuntu 24.04 | SKIPPED | SKIPPED | SKIPPED | PASS | +------------------------------+--------------+---------------------------+------------------------------+----------------+ | Ubuntu 22.04 | SKIPPED | SKIPPED | SKIPPED | PASS | +------------------------------+--------------+---------------------------+------------------------------+----------------+ Ubuntu 20.04 Kernel: 5.4 Compiler: gcc gcc (Ubuntu 9.4.0-1ubuntu1~20.04.2) 9.4.0 Debian 12 (arm) Kernel: Depends on container host Compiler: gcc (Debian 12.2.0-14) 12.2.0 CentOS Stream 10 Kernel: 5.4 Compiler: gcc gcc (GCC) 14.2.1 20250110 (Red Hat 14.2.1-8) CentOS Stream 9 Kernel: 5.4 Compiler: gcc gcc (GCC) 11.5.0 20240719 (Red Hat 11.5.0-7) Fedora Linux 40 Kernel: 5.4 Compiler: gcc gcc (GCC) 14.2.1 20240912 (Red Hat 14.2.1-3) Debian GNU/Linux 12 Kernel: 5.4 Compiler: gcc gcc (Debian 12.2.0-14+deb12u1) 12.2.0 Fedora Linux 41 Kernel: 5.4 Compiler: clang gcc (GCC) 14.3.1 20250523 (Red Hat 14.3.1-1) Red Hat Enterprise Linux 9.5 Kernel: 5.4 Compiler: gcc gcc (GCC) 11.5.0 20240719 (Red Hat 11.5.0-2) Ubuntu 24.04 Kernel: 5.4 Compiler: gcc gcc (Ubuntu 13.3.0-6ubuntu2~24.04) 13.3.0 Ubuntu 22.04 Kernel: 5.4 Compiler: gcc gcc (Ubuntu 11.4.0-1ubuntu1~22.04) 11.4.0 To view detailed results, visit: https://lab.dpdk.org/results/dashboard/patchsets/33601/ UNH-IOL DPDK Community Lab To manage your email subscriptions, visit: https://lab.dpdk.org/results/dashboard/preferences/subscriptions/