From mboxrd@z Thu Jan 1 00:00:00 1970 Return-Path: Received: from mails.dpdk.org (mails.dpdk.org [217.70.189.124]) by inbox.dpdk.org (Postfix) with ESMTP id B936F46B1F for ; Mon, 7 Jul 2025 10:28:09 +0200 (CEST) Received: from mails.dpdk.org (localhost [127.0.0.1]) by mails.dpdk.org (Postfix) with ESMTP id B63A84025D; Mon, 7 Jul 2025 10:28:09 +0200 (CEST) Received: from mail-pl1-f228.google.com (mail-pl1-f228.google.com [209.85.214.228]) by mails.dpdk.org (Postfix) with ESMTP id 859474025D for ; Mon, 7 Jul 2025 10:28:08 +0200 (CEST) Received: by mail-pl1-f228.google.com with SMTP id d9443c01a7336-23649faf69fso23359215ad.0 for ; Mon, 07 Jul 2025 01:28:08 -0700 (PDT) DKIM-Signature: v=1; a=rsa-sha256; c=relaxed/relaxed; d=iol.unh.edu; s=unh-iol; t=1751876887; x=1752481687; darn=dpdk.org; h=references:in-reply-to:cc:to:from:subject:message-id:date:from:to :cc:subject:date:message-id:reply-to; bh=wtu6n+1GxFZGnNG2kIQ8wKQGTeOhnfKu+vfsvMS4Umk=; b=DEKW6Vb+4CU7Pm0PMxgbVfKQXxiAFK5cjoD+wrrwRmjJC6l6jTSCqF4j0kDys1lpGf Vqq0ysutNeCOtao7z0RXmslDmY5YhKihuQjkyI6qiSmtEa0HOU9HDQb/i3quF42grBjz 5vC5Sl19m2AoUD1lHWxkJtPfH4J38FVnn3hkc= X-Google-DKIM-Signature: v=1; a=rsa-sha256; c=relaxed/relaxed; d=1e100.net; s=20230601; t=1751876887; x=1752481687; h=references:in-reply-to:cc:to:from:subject:message-id:date :x-gm-message-state:from:to:cc:subject:date:message-id:reply-to; bh=wtu6n+1GxFZGnNG2kIQ8wKQGTeOhnfKu+vfsvMS4Umk=; b=IdSd8AdLsW2bgQetrlJFTwNctfl5la76va8qk/a0GFbbHdHlyREZ+DapKaRhWdHQ3e DV3vNsXG/KfGV0bOZKNLFyu5mHs9Wqb8wAtXQWiljxWZ5GywTf0BsbINBi2hbEQox6sU kUZEkkuffxob7KSBECuF5knLUYd8lkw2DYjKZDVztl8CwsbSn7przjdbiOQwfadwZZn7 TI8UVqL56zi0xMzMeeNiec7ZNHcjxuhyR4FWS6qmcO72IDbu9AhjsrOge24ZenVeN/Ri VFQunxt7PbLH5mob0ov/zbF/IfTsoTiomJnwzLm6uRgqyMOFvPEEFS299f4goAH4/9S5 BIxQ== X-Gm-Message-State: AOJu0YwTYFE7OlIKBdJQ16iJuuW8O1EEn3F+DtuZUd/0bXK6/PSA11vC rdEuHcQPHVXao9eLlko6+xkUSeqei5a6sduUyO1bTg5DS3g6rL6vQvJkzE4jjR3ZyJG08EreAHD vB/f9ocDNSmoK5qeHlAiea7bhOaf7FV+PKMAmlbvJW3SETOpeLSeEykTqY/3P X-Gm-Gg: ASbGncvwLYVTfxATc+2yjyZp4fkRbbUwr5bBY9y23ryyingZ1mt2gxn85YU7VUCtqdJ sZta6+Wr81cMMzUsLtxb2fh7uJcYgPvNWtc/ZC61HHl+a3qRcavyV5kx1ihuyswjrWRMo3Lb5mU 8sufw0oc2zsZJxVD8wdP/w7bzEDzDGs7I5EoxMjNMRbJ7A+7ScrWqpKh29zIU4RzsMJhfcS8WRk ITlNZCaAX6UfxP3CLgMTlu3+29jJofYdLmqo0X5EHNFKXdbyWtcI9bTZgw7lKmYS6sOh02FRZ1J 0Q+9mpGbWL1Z6UI1ht8tdSO6syTuV2tFluYeyP3o7WKv5YQ= X-Google-Smtp-Source: AGHT+IECvpuIamsqzUQ3/DbYx+fyrvx7u1Kh1q76fXvRXoH6ieJpFJ/I7mccx7W0Dc74d4S89jKnUKaeL3Mg X-Received: by 2002:a17:903:3d07:b0:235:e942:cb9e with SMTP id d9443c01a7336-23c8746601cmr150964925ad.9.1751876887651; Mon, 07 Jul 2025 01:28:07 -0700 (PDT) Received: from postal.iol.unh.edu (postal.iol.unh.edu. [2606:4100:3880:1234::84]) by smtp-relay.gmail.com with ESMTPS id d9443c01a7336-23c842b5974sm3857935ad.17.2025.07.07.01.28.07 (version=TLS1_2 cipher=ECDHE-ECDSA-AES128-GCM-SHA256 bits=128/128); Mon, 07 Jul 2025 01:28:07 -0700 (PDT) X-Relaying-Domain: iol.unh.edu Date: Mon, 07 Jul 2025 01:28:07 -0700 (PDT) Message-ID: <686b8517.170a0220.1ff702.3783SMTPIN_ADDED_MISSING@mx.google.com> Received: from [172.21.0.7] (unknown [172.18.0.240]) by postal.iol.unh.edu (Postfix) with ESMTP id D05256051830; Mon, 7 Jul 2025 04:28:06 -0400 (EDT) Subject: |SUCCESS| pw155021-155026 [PATCH] [v1,6/6] net/zxdh: add support I51 From: dpdklab@iol.unh.edu To: Test Report Cc: dpdk-test-reports@iol.unh.edu In-Reply-To: <20250707055621.357606-6-wang.junlong1@zte.com.cn> References: <20250707055621.357606-6-wang.junlong1@zte.com.cn> Content-Type: text/plain X-BeenThere: test-report@dpdk.org X-Mailman-Version: 2.1.29 Precedence: list List-Id: automatic DPDK test reports List-Unsubscribe: , List-Archive: List-Post: List-Help: List-Subscribe: , Errors-To: test-report-bounces@dpdk.org Test-Label: iol-unit-arm64-testing Test-Status: SUCCESS http://dpdk.org/patch/155026 _Testing PASS_ Submitter: Junlong Wang Date: Monday, July 07 2025 05:56:21 DPDK git baseline: Repo:dpdk Branch: master CommitID:a288c0dee9221fd2acf4f079ef1b1ff04135aedd 155021-155026 --> testing pass Upstream job id: Generic-Unit-Test-DPDK#353215 Test environment and result as below: +------------------------------+--------------+---------------------------+------------------------------+----------------+ | Environment | lpm_autotest | cryptodev_sw_zuc_autotest | cryptodev_sw_snow3g_autotest | dpdk_unit_test | +==============================+==============+===========================+==============================+================+ | Ubuntu 20.04 | PASS | SKIPPED | SKIPPED | PASS | +------------------------------+--------------+---------------------------+------------------------------+----------------+ | Debian 12 (arm) | SKIPPED | PASS | PASS | SKIPPED | +------------------------------+--------------+---------------------------+------------------------------+----------------+ | CentOS Stream 10 | SKIPPED | SKIPPED | SKIPPED | PASS | +------------------------------+--------------+---------------------------+------------------------------+----------------+ | CentOS Stream 9 | SKIPPED | SKIPPED | SKIPPED | PASS | +------------------------------+--------------+---------------------------+------------------------------+----------------+ | Fedora Linux 40 | SKIPPED | SKIPPED | SKIPPED | PASS | +------------------------------+--------------+---------------------------+------------------------------+----------------+ | Debian GNU/Linux 12 | SKIPPED | SKIPPED | SKIPPED | PASS | +------------------------------+--------------+---------------------------+------------------------------+----------------+ | Fedora Linux 41 | SKIPPED | SKIPPED | SKIPPED | PASS | +------------------------------+--------------+---------------------------+------------------------------+----------------+ | Red Hat Enterprise Linux 9.5 | SKIPPED | SKIPPED | SKIPPED | PASS | +------------------------------+--------------+---------------------------+------------------------------+----------------+ | Ubuntu 24.04 | SKIPPED | SKIPPED | SKIPPED | PASS | +------------------------------+--------------+---------------------------+------------------------------+----------------+ | Ubuntu 22.04 | SKIPPED | SKIPPED | SKIPPED | PASS | +------------------------------+--------------+---------------------------+------------------------------+----------------+ Ubuntu 20.04 Kernel: 5.4 Compiler: gcc gcc (Ubuntu 9.4.0-1ubuntu1~20.04.2) 9.4.0 Debian 12 (arm) Kernel: Depends on container host Compiler: gcc (Debian 12.2.0-14) 12.2.0 CentOS Stream 10 Kernel: 5.4 Compiler: gcc gcc (GCC) 14.2.1 20250110 (Red Hat 14.2.1-8) CentOS Stream 9 Kernel: 5.4 Compiler: gcc gcc (GCC) 11.5.0 20240719 (Red Hat 11.5.0-7) Fedora Linux 40 Kernel: 5.4 Compiler: gcc gcc (GCC) 14.2.1 20240912 (Red Hat 14.2.1-3) Debian GNU/Linux 12 Kernel: 5.4 Compiler: gcc gcc (Debian 12.2.0-14+deb12u1) 12.2.0 Fedora Linux 41 Kernel: 5.4 Compiler: clang gcc (GCC) 14.3.1 20250523 (Red Hat 14.3.1-1) Red Hat Enterprise Linux 9.5 Kernel: 5.4 Compiler: gcc gcc (GCC) 11.5.0 20240719 (Red Hat 11.5.0-2) Ubuntu 24.04 Kernel: 5.4 Compiler: gcc gcc (Ubuntu 13.3.0-6ubuntu2~24.04) 13.3.0 Ubuntu 22.04 Kernel: 5.4 Compiler: gcc gcc (Ubuntu 11.4.0-1ubuntu1~22.04) 11.4.0 To view detailed results, visit: https://lab.dpdk.org/results/dashboard/patchsets/33601/ UNH-IOL DPDK Community Lab To manage your email subscriptions, visit: https://lab.dpdk.org/results/dashboard/preferences/subscriptions/