From mboxrd@z Thu Jan 1 00:00:00 1970 Return-Path: Received: from mails.dpdk.org (mails.dpdk.org [217.70.189.124]) by inbox.dpdk.org (Postfix) with ESMTP id 3422846B1F for ; Mon, 7 Jul 2025 11:06:33 +0200 (CEST) Received: from mails.dpdk.org (localhost [127.0.0.1]) by mails.dpdk.org (Postfix) with ESMTP id 0719A4025D; Mon, 7 Jul 2025 11:06:33 +0200 (CEST) Received: from mail-pl1-f226.google.com (mail-pl1-f226.google.com [209.85.214.226]) by mails.dpdk.org (Postfix) with ESMTP id E57594025D for ; Mon, 7 Jul 2025 11:06:30 +0200 (CEST) Received: by mail-pl1-f226.google.com with SMTP id d9443c01a7336-236377f00easo35636545ad.1 for ; Mon, 07 Jul 2025 02:06:30 -0700 (PDT) DKIM-Signature: v=1; a=rsa-sha256; c=relaxed/relaxed; d=iol.unh.edu; s=unh-iol; t=1751879190; x=1752483990; darn=dpdk.org; h=references:in-reply-to:cc:to:from:subject:message-id:date:from:to :cc:subject:date:message-id:reply-to; bh=qd5FKpNjEgdTW0xrcEKUPKltRn0Z9626QyKS8MydRfQ=; b=FLssQfCgUn+HsL/av9IdXWWPiTSy1orN+E+IRBqJRmO7w+lGeO5PooVWDFQD5Cbrn2 ++WRPHzUM9kaHgC7RDlcULChz+cgDZakXyltpMFWGI1HT6IW491BhBjPmk47b3gbi+DY mlX9ixAZB4ylSDeSDhaAwCvCWOhdtUafGOJIs= X-Google-DKIM-Signature: v=1; a=rsa-sha256; c=relaxed/relaxed; d=1e100.net; s=20230601; t=1751879190; x=1752483990; h=references:in-reply-to:cc:to:from:subject:message-id:date :x-gm-message-state:from:to:cc:subject:date:message-id:reply-to; bh=qd5FKpNjEgdTW0xrcEKUPKltRn0Z9626QyKS8MydRfQ=; b=pmth5jMRI+6M+QuPI8bZ7tRQ9D6qizhRc6FIs/bAk0sqy63m04ozepxIYAHLHA00Gk enqFekNi38lKH7+IVi0R49r4ekO79vyTDC7bbhhdwHHWmKoKZqlGfRU6Z5jeUl+bbnSi Vp/xSii1KFoXM30iXctyXQTKgV7clMhF233gUFhPNckazxBrTHs47MQgplXIevUjMe1Z pRIGuJRWY/pV3WV7O0D4T9F9oq+j+mYfsh2n4V9RHxLkkFcSMA+hObssayH4E/5hnOEc uk3L//wfdT55H/alpsCb5WbGQxjiLTixfHFBXtGDz9o4BqfiQZ10mDrBEHRa0AGt1aE1 WJnQ== X-Gm-Message-State: AOJu0YzCURFCb9KNLQubBN0SRk/3rQtWB3R4KhRXQHtSqifvxjhU+9Db 0s+sl6VmiprSuEpQSNea3qIhU1g4qh/CIC6/+BC11/hd5z2E9+gCugRPPixje1hwOdAzw/RMkii ZpZv31FQ+AfKdSoaM76YDw2wFJMl2eHASOdHE2zI6r8Kg X-Gm-Gg: ASbGncuCkUzEC26bTDaO6n90uJaAacvUvdoJ39GKRreGs2Tyff+6ROyY830Upeg2e4R QNgxNwPnM05/mE1Fa9mjLVIvp5i86g0auv7iZvvYXRbO6dJd8esBGnSTWUQ0O83TcJFqYEFvxD7 n1tXjM1K2dOBNpX5gdcATy+H9+YjDpJ4zGimZhguAO+PXuufeKDzzmW0vIc9sB4rHUh+7Q2iPys QDYbTadu6S8TYM8PBXzqqfp32fK3lHD0BbGdLWf/5WzXxHh6aJUGbLF1EePBPoPQgoPEbQMqnOr AA6HQkUbjw0M7Q34b27oXtPktCEsZejmcXLaZzzfpeNqP4OMrAaRS0GqQWISJcTBkRWtkA== X-Google-Smtp-Source: AGHT+IEOkSrtF8lXbTtniJ51eEmGHJq+7xT2uVoOlmY2PyfKyfhBmJQKfp0fwfafJrGXLcSaQrbLpoadpGLw X-Received: by 2002:a17:903:1446:b0:235:e942:cb9c with SMTP id d9443c01a7336-23c85d9f014mr198553465ad.5.1751879189986; Mon, 07 Jul 2025 02:06:29 -0700 (PDT) Received: from postal.iol.unh.edu (postal.iol.unh.edu. [132.177.123.84]) by smtp-relay.gmail.com with ESMTPS id d9443c01a7336-23c842b597fsm3829255ad.3.2025.07.07.02.06.29 (version=TLS1_2 cipher=ECDHE-ECDSA-AES128-GCM-SHA256 bits=128/128); Mon, 07 Jul 2025 02:06:29 -0700 (PDT) X-Relaying-Domain: iol.unh.edu Date: Mon, 07 Jul 2025 02:06:29 -0700 (PDT) Message-ID: <686b8e15.170a0220.143b80.47c5SMTPIN_ADDED_MISSING@mx.google.com> Received: from [172.21.0.11] (unknown [172.18.0.240]) by postal.iol.unh.edu (Postfix) with ESMTP id 34E0F6051830; Mon, 7 Jul 2025 05:06:29 -0400 (EDT) Subject: |SUCCESS| pw155021-155026 [PATCH] [v1,6/6] net/zxdh: add support I51 From: dpdklab@iol.unh.edu To: Test Report Cc: dpdk-test-reports@iol.unh.edu In-Reply-To: <20250707055621.357606-6-wang.junlong1@zte.com.cn> References: <20250707055621.357606-6-wang.junlong1@zte.com.cn> Content-Type: text/plain X-BeenThere: test-report@dpdk.org X-Mailman-Version: 2.1.29 Precedence: list List-Id: automatic DPDK test reports List-Unsubscribe: , List-Archive: List-Post: List-Help: List-Subscribe: , Errors-To: test-report-bounces@dpdk.org Test-Label: iol-unit-amd64-testing Test-Status: SUCCESS http://dpdk.org/patch/155026 _Testing PASS_ Submitter: Junlong Wang Date: Monday, July 07 2025 05:56:21 DPDK git baseline: Repo:dpdk Branch: master CommitID:a288c0dee9221fd2acf4f079ef1b1ff04135aedd 155021-155026 --> testing pass Upstream job id: Generic-Unit-Test-DPDK#353221 Test environment and result as below: +-------------------------------+----------------+ | Environment | dpdk_unit_test | +===============================+================+ | CentOS Stream 10 | PASS | +-------------------------------+----------------+ | CentOS Stream 9 | PASS | +-------------------------------+----------------+ | Debian GNU/Linux 12 | PASS | +-------------------------------+----------------+ | Fedora Linux 40 | PASS | +-------------------------------+----------------+ | Ubuntu 22.04 | PASS | +-------------------------------+----------------+ | Fedora Linux 41 | PASS | +-------------------------------+----------------+ | Red Hat Enterprise Linux 8.10 | PASS | +-------------------------------+----------------+ | Red Hat Enterprise Linux 9.5 | PASS | +-------------------------------+----------------+ | Ubuntu 20.04 | PASS | +-------------------------------+----------------+ | Ubuntu 24.04 | PASS | +-------------------------------+----------------+ | Windows Server 2022 | PASS | +-------------------------------+----------------+ CentOS Stream 10 Kernel: 5.15 Compiler: gcc gcc (GCC) 14.2.1 20250110 (Red Hat 14.2.1-8) CentOS Stream 9 Kernel: 5.15 Compiler: gcc gcc (GCC) 11.5.0 20240719 (Red Hat 11.5.0-7) Debian GNU/Linux 12 Kernel: 5.15 Compiler: gcc gcc (Debian 12.2.0-14+deb12u1) 12.2.0 Fedora Linux 40 Kernel: 5.15 Compiler: gcc gcc (GCC) 14.2.1 20240912 (Red Hat 14.2.1-3) Ubuntu 22.04 Kernel: 5.15 Compiler: gcc gcc (Ubuntu 11.4.0-1ubuntu1~22.04) 11.4.0 Fedora Linux 41 Kernel: 5.15 Compiler: gcc gcc (GCC) 14.3.1 20250523 (Red Hat 14.3.1-1) Red Hat Enterprise Linux 8.10 Kernel: 5.15 Compiler: gcc gcc (GCC) 8.5.0 20210514 (Red Hat 8.5.0-22) Red Hat Enterprise Linux 9.5 Kernel: 5.15 Compiler: gcc gcc (GCC) 11.5.0 20240719 (Red Hat 11.5.0-2) Ubuntu 20.04 Kernel: 5.15 Compiler: gcc gcc (Ubuntu 9.4.0-1ubuntu1~20.04.2) 9.4.0 Ubuntu 24.04 Kernel: 5.15 Compiler: gcc gcc (Ubuntu 13.3.0-6ubuntu2~24.04) 13.3.0 Windows Server 2022 Kernel: 10.0.20348.2031 Compiler: clang 15.0.7, gcc 14.1.0 (MinGW), and MSVC VS 19.39.33521 To view detailed results, visit: https://lab.dpdk.org/results/dashboard/patchsets/33601/ UNH-IOL DPDK Community Lab To manage your email subscriptions, visit: https://lab.dpdk.org/results/dashboard/preferences/subscriptions/