From mboxrd@z Thu Jan 1 00:00:00 1970 Return-Path: Received: from mails.dpdk.org (mails.dpdk.org [217.70.189.124]) by inbox.dpdk.org (Postfix) with ESMTP id D6C0746B1F for ; Mon, 7 Jul 2025 11:24:04 +0200 (CEST) Received: from mails.dpdk.org (localhost [127.0.0.1]) by mails.dpdk.org (Postfix) with ESMTP id C9C674025D; Mon, 7 Jul 2025 11:24:04 +0200 (CEST) Received: from mail-pl1-f225.google.com (mail-pl1-f225.google.com [209.85.214.225]) by mails.dpdk.org (Postfix) with ESMTP id 5B1BE4025D for ; Mon, 7 Jul 2025 11:24:03 +0200 (CEST) Received: by mail-pl1-f225.google.com with SMTP id d9443c01a7336-2353a2bc210so25554895ad.2 for ; Mon, 07 Jul 2025 02:24:03 -0700 (PDT) DKIM-Signature: v=1; a=rsa-sha256; c=relaxed/relaxed; d=iol.unh.edu; s=unh-iol; t=1751880242; x=1752485042; darn=dpdk.org; h=references:in-reply-to:cc:to:from:subject:message-id:date:from:to :cc:subject:date:message-id:reply-to; bh=1E+11JdFBo8cKmoxo4u6d0b6LddNnGUECvhJiybgUGg=; b=haQEi5mlCbaVRdUMybIZvUXIYFW4A8q+OQB4UGRjBUdzqvydQRM8jCe5A1lAZzY7Vp lSC0GwOzPZACZH+QrOXmIf8SgTEZPHRpX2RUtIlHWDdBulgY6wIVKmAOE2WWfYt7LvzO rTiVoNAZ7t2PWjDl5enouf95Ivq1K+9mJn3sI= X-Google-DKIM-Signature: v=1; a=rsa-sha256; c=relaxed/relaxed; d=1e100.net; s=20230601; t=1751880242; x=1752485042; h=references:in-reply-to:cc:to:from:subject:message-id:date :x-gm-message-state:from:to:cc:subject:date:message-id:reply-to; bh=1E+11JdFBo8cKmoxo4u6d0b6LddNnGUECvhJiybgUGg=; b=bHTcKl5NUb5RjT/W+HAoYIVpUaJawLgK0kOHmdFoU9U4i7O1BX9jnG9vdeB/IHogMe zr+83llhz2nQV1kcaM2nYc+bIfzVlJHRmkCrzyL4JcFNsAYt7ulkBacNrzD/kQpLixu+ VJWVRbOeCxCxie6krd3VbYQLk1Fvm1HRmN48ieOkBfA9+wIW+8S2tNm4H+v5zMk/OC39 9GTeBpcICmcy/sLfaXq5CO/HV0sqsBA5x8TuX6QpxFahq7B4W4WJM8aDGFfIKeoB25Ju 2C3AsuIPTzJNaF+oPIlAiL5uWxK69ImoZ5SK1ElGtPm3oAUoY6UGx3nNrzQ28oDy6ELz 9j1A== X-Gm-Message-State: AOJu0YxC7akOp02piN900HhSWeEqUFfBm1kmtIXh3P0fpwIn3cZkd7zr vxEC24xMg6M5ct2yIrLhwnB6Rp1tvpybpoKrOk2FhXN4LBIeA3IUzBvwDglbJFIvz+lGR9yM8q5 KVq+StGzNpkjukN9CJzDh2Ak01x+bAfD4Ps4Yjdk0/NxY X-Gm-Gg: ASbGnctLYx0BY+h00mcqvyp4Fbs9WUEonEjJfAzTgXOy6nmaqYYpeuI7+ih9+pgefz5 gQkrs6ud27swvIbZMyC/DMTrLBcB1RgZm9EnvcalFYAkQlKcD8ydVpESGJ6APcmIHxed9vNwXAi YTGVOr+HPj089fB7UNVdkjEGss+daI3uV7X9G/CL8TrWPi4LFx7xn86OtJYFqoXR+6PP+Qkqeb4 vSm5MgMOEwl9JxJ6J9zRIDM8C2eemAynQ5s7QN1Y7c0BQKoK+7qulaEHiRFRBc+pT8pRdjW/fbV TR9ZoQHSVh9TKWS7v5V5pwWBn3RjAGv7NowIYCLipV0Eg/x5yCVIGrV6yuRdGH7q4P4eZQ== X-Google-Smtp-Source: AGHT+IFBR3jg6pzh+vZ28O5V9SI2Umoadoj0GHbsHsmNkorsNAvC9KpfSzcxodl2sam+bLP0rP4D9rouhkFj X-Received: by 2002:a17:903:32c8:b0:234:8f5d:e3a4 with SMTP id d9443c01a7336-23c85d8f7a3mr195332875ad.2.1751880242351; Mon, 07 Jul 2025 02:24:02 -0700 (PDT) Received: from postal.iol.unh.edu (postal.iol.unh.edu. [132.177.123.84]) by smtp-relay.gmail.com with ESMTPS id d9443c01a7336-23c8450be38sm3741815ad.108.2025.07.07.02.24.02 (version=TLS1_2 cipher=ECDHE-ECDSA-AES128-GCM-SHA256 bits=128/128); Mon, 07 Jul 2025 02:24:02 -0700 (PDT) X-Relaying-Domain: iol.unh.edu Date: Mon, 07 Jul 2025 02:24:02 -0700 (PDT) Message-ID: <686b9232.170a0220.1e4946.2ad1SMTPIN_ADDED_MISSING@mx.google.com> Received: from [172.21.0.5] (unknown [172.18.0.240]) by postal.iol.unh.edu (Postfix) with ESMTP id 9EC966051830; Mon, 7 Jul 2025 05:24:01 -0400 (EDT) Subject: |SUCCESS| pw155021-155026 [PATCH] [v1,6/6] net/zxdh: add support I51 From: dpdklab@iol.unh.edu To: Test Report Cc: dpdk-test-reports@iol.unh.edu In-Reply-To: <20250707055621.357606-6-wang.junlong1@zte.com.cn> References: <20250707055621.357606-6-wang.junlong1@zte.com.cn> Content-Type: text/plain X-BeenThere: test-report@dpdk.org X-Mailman-Version: 2.1.29 Precedence: list List-Id: automatic DPDK test reports List-Unsubscribe: , List-Archive: List-Post: List-Help: List-Subscribe: , Errors-To: test-report-bounces@dpdk.org Test-Label: iol-abi-testing Test-Status: SUCCESS http://dpdk.org/patch/155026 _Testing PASS_ Submitter: Junlong Wang Date: Monday, July 07 2025 05:56:21 DPDK git baseline: Repo:dpdk Branch: master CommitID:a288c0dee9221fd2acf4f079ef1b1ff04135aedd 155021-155026 --> testing pass Upstream job id: Generic-DPDK-Compile-ABI#133353 Test environment and result as below: +-------------------------------+----------+ | Environment | abi_test | +===============================+==========+ | CentOS Stream 10 | PASS | +-------------------------------+----------+ | Fedora Linux 40 | PASS | +-------------------------------+----------+ | CentOS Stream 9 | PASS | +-------------------------------+----------+ | Ubuntu 24.04 | PASS | +-------------------------------+----------+ | Ubuntu 22.04 | PASS | +-------------------------------+----------+ | Red Hat Enterprise Linux 9.5 | PASS | +-------------------------------+----------+ | openSUSE Leap 15.6 | PASS | +-------------------------------+----------+ | Fedora Linux 41 | PASS | +-------------------------------+----------+ | Red Hat Enterprise Linux 8.10 | PASS | +-------------------------------+----------+ | Debian GNU/Linux 12 | PASS | +-------------------------------+----------+ CentOS Stream 10 Kernel: 5.15 Compiler: gcc gcc (GCC) 14.2.1 20250110 (Red Hat 14.2.1-8) Fedora Linux 40 Kernel: 5.15 Compiler: gcc gcc (GCC) 14.2.1 20240912 (Red Hat 14.2.1-3) CentOS Stream 9 Kernel: 5.15 Compiler: gcc gcc (GCC) 11.5.0 20240719 (Red Hat 11.5.0-7) Ubuntu 24.04 Kernel: 5.15 Compiler: gcc gcc (Ubuntu 13.3.0-6ubuntu2~24.04) 13.3.0 Ubuntu 22.04 Kernel: 5.15 Compiler: gcc gcc (Ubuntu 11.4.0-1ubuntu1~22.04) 11.4.0 Red Hat Enterprise Linux 9.5 Kernel: 5.15 Compiler: gcc gcc (GCC) 11.5.0 20240719 (Red Hat 11.5.0-2) openSUSE Leap 15.6 Kernel: 5.15 Compiler: gcc gcc (SUSE Linux) 7.5.0 Fedora Linux 41 Kernel: 5.15 Compiler: gcc gcc (GCC) 14.3.1 20250523 (Red Hat 14.3.1-1) Red Hat Enterprise Linux 8.10 Kernel: 5.15 Compiler: gcc gcc (GCC) 8.5.0 20210514 (Red Hat 8.5.0-22) Debian GNU/Linux 12 Kernel: 5.15 Compiler: gcc gcc (Debian 12.2.0-14+deb12u1) 12.2.0 To view detailed results, visit: https://lab.dpdk.org/results/dashboard/patchsets/33601/ UNH-IOL DPDK Community Lab To manage your email subscriptions, visit: https://lab.dpdk.org/results/dashboard/preferences/subscriptions/