From mboxrd@z Thu Jan 1 00:00:00 1970 Return-Path: Received: from mails.dpdk.org (mails.dpdk.org [217.70.189.124]) by inbox.dpdk.org (Postfix) with ESMTP id 2A7A546B1F for ; Mon, 7 Jul 2025 11:59:21 +0200 (CEST) Received: from mails.dpdk.org (localhost [127.0.0.1]) by mails.dpdk.org (Postfix) with ESMTP id 06ACF4025D; Mon, 7 Jul 2025 11:59:21 +0200 (CEST) Received: from mail-pl1-f228.google.com (mail-pl1-f228.google.com [209.85.214.228]) by mails.dpdk.org (Postfix) with ESMTP id DB2654025D for ; Mon, 7 Jul 2025 11:59:19 +0200 (CEST) Received: by mail-pl1-f228.google.com with SMTP id d9443c01a7336-2350b1b9129so18165725ad.0 for ; Mon, 07 Jul 2025 02:59:19 -0700 (PDT) DKIM-Signature: v=1; a=rsa-sha256; c=relaxed/relaxed; d=iol.unh.edu; s=unh-iol; t=1751882359; x=1752487159; darn=dpdk.org; h=references:in-reply-to:cc:to:from:subject:message-id:date:from:to :cc:subject:date:message-id:reply-to; bh=S2Uwryrjif29p21gWgUnvpY4/G/i0xn8rD/P6dEgOiY=; b=ch19PZJSvPgvSzDnZ4zk8E7NmmkAfCF5AeQTPPD533XYgnV1e90/WvOa1dw3nvVY78 BNcKUeW4XBZKxrvAjQ4n3Jm8h8bqjZSJqrVBwDNkeocQwl+ypzXV3tN03kTuDzZTT2Bn XB/l3k8kWmsg8scbu6V7BKy10HWRbxht8a488= X-Google-DKIM-Signature: v=1; a=rsa-sha256; c=relaxed/relaxed; d=1e100.net; s=20230601; t=1751882359; x=1752487159; h=references:in-reply-to:cc:to:from:subject:message-id:date :x-gm-message-state:from:to:cc:subject:date:message-id:reply-to; bh=S2Uwryrjif29p21gWgUnvpY4/G/i0xn8rD/P6dEgOiY=; b=lN+r9jiM8vAPaJ6JOx3AzxZn5ILyhgoTgMQYl4oo1S6IwT4z1E0eYJyBo5hJ2TTgIg zNBS0lY9PSNR62hW/hQrbktx/C5185tdwv83dumuBm67X6ApUGKeMxtW8KYg8/Gk+bnp FYQJP47osMyMu2NpgXWLU4wessu4aRAsYZDOe8CPUQXb1ukbNSVhhCBwzQgdGyThaNE8 hrnl8mxQjy/2T4+RntqqdxK7c+g4mw2pnRhw3fJRPxZwzrtKL9/GfkZ8jmq/QoGjuyoi 0FiVLj79Bx7IAea9s5N7cfD/FsGZ3jt7kuXFUnwMU5q+ws6piVirfSIG+/87TZlOowaT wl3g== X-Gm-Message-State: AOJu0YwALiOjEioZvNNrmqWOBiCC6917+RS6pedNoMcaEQAyTtiLxpqi z3Lu56W0KXHnx0a5KChk/1sgk4OIuFZO8Kt4o+KqwwZ4r80UwYG3piHZTivP5G6f7EMrbVynDpe 3GLWJN05UwIlaJvqCyo6081eJU1m/AsuodsAUhlf2vjYw X-Gm-Gg: ASbGncsPGaJ2XzwHz6wrwbkwjVLE9hA0UWA0l6qmHGDFvbBdM8YsDt5d7ocR9mroU+U S1dMgproOf/dNqmCEbFocRXZMRyLsqJJUVqkbBZ7bLc1jWHf0vdVA1ejkzq3aJ4IG3X99UieIN4 DXji5KkMP2u/2w5bO17jU9pqYCp/CZQItLg0b1w17l2cRvPhQ8Mr24HlL01xs8THsq44DLDUeH6 0OWPE6z6bLpT/Np0zfP422AZ7BPYAN1CKyodPftVieRl5jzA97kRLuzH+HOLwgqemK9XpZp+4JK S2TfkSTfZWu/MDD2K4iZslLROvBWnQ7vvE/sy2xokwVo015NvG+H7YQ+bf26/5rbf+5xKQ== X-Google-Smtp-Source: AGHT+IGwyAT8+FzMUb91JAby6e5RdePwBiNNuQ0oEiL8HxRe/nZ/sazSXtreFP6KAHoAoh0pEvnhWYj/V3tm X-Received: by 2002:a17:903:15c8:b0:235:2799:640 with SMTP id d9443c01a7336-23c85e74475mr141985925ad.25.1751882358923; Mon, 07 Jul 2025 02:59:18 -0700 (PDT) Received: from postal.iol.unh.edu (postal.iol.unh.edu. [132.177.123.84]) by smtp-relay.gmail.com with ESMTPS id 41be03b00d2f7-b38ee3faa19sm233535a12.10.2025.07.07.02.59.18 (version=TLS1_2 cipher=ECDHE-ECDSA-AES128-GCM-SHA256 bits=128/128); Mon, 07 Jul 2025 02:59:18 -0700 (PDT) X-Relaying-Domain: iol.unh.edu Date: Mon, 07 Jul 2025 02:59:18 -0700 (PDT) Message-ID: <686b9a76.050a0220.903a0.d3d5SMTPIN_ADDED_MISSING@mx.google.com> Received: from [172.21.0.5] (unknown [172.18.0.240]) by postal.iol.unh.edu (Postfix) with ESMTP id 198136051830; Mon, 7 Jul 2025 05:59:18 -0400 (EDT) Subject: |WARNING| pw155021-155026 [PATCH] [v1,6/6] net/zxdh: add support I51 From: dpdklab@iol.unh.edu To: Test Report Cc: dpdk-test-reports@iol.unh.edu In-Reply-To: <20250707055621.357606-6-wang.junlong1@zte.com.cn> References: <20250707055621.357606-6-wang.junlong1@zte.com.cn> Content-Type: text/plain X-BeenThere: test-report@dpdk.org X-Mailman-Version: 2.1.29 Precedence: list List-Id: automatic DPDK test reports List-Unsubscribe: , List-Archive: List-Post: List-Help: List-Subscribe: , Errors-To: test-report-bounces@dpdk.org Test-Label: iol-compile-amd64-testing Test-Status: WARNING http://dpdk.org/patch/155026 _Testing issues_ Submitter: Junlong Wang Date: Monday, July 07 2025 05:56:21 DPDK git baseline: Repo:dpdk Branch: master CommitID:a288c0dee9221fd2acf4f079ef1b1ff04135aedd 155021-155026 --> testing issues Upstream job id: Generic-DPDK-Compile-Meson#406145 Test environment and result as below: +-------------------------------+--------------------+-------------------------+-------------------+----------------------+-------------------+------------------+ | Environment | dpdk_meson_compile | dpdk_llvm_clang_compile | dpdk_msvc_compile | dpdk_mingw64_compile | dpdk_compile_spdk | dpdk_compile_ovs | +===============================+====================+=========================+===================+======================+===================+==================+ | Ubuntu 20.04 | PEND | SKIPPED | SKIPPED | SKIPPED | SKIPPED | SKIPPED | +-------------------------------+--------------------+-------------------------+-------------------+----------------------+-------------------+------------------+ | CentOS Stream 9 | PASS | SKIPPED | SKIPPED | SKIPPED | PASS | SKIPPED | +-------------------------------+--------------------+-------------------------+-------------------+----------------------+-------------------+------------------+ | CentOS Stream 10 | PASS | SKIPPED | SKIPPED | SKIPPED | SKIPPED | SKIPPED | +-------------------------------+--------------------+-------------------------+-------------------+----------------------+-------------------+------------------+ | Debian GNU/Linux 12 | PASS | SKIPPED | SKIPPED | SKIPPED | PASS | SKIPPED | +-------------------------------+--------------------+-------------------------+-------------------+----------------------+-------------------+------------------+ | Fedora Linux 40 | PEND | SKIPPED | SKIPPED | SKIPPED | PEND | SKIPPED | +-------------------------------+--------------------+-------------------------+-------------------+----------------------+-------------------+------------------+ | Fedora Linux 41 | PEND | SKIPPED | SKIPPED | SKIPPED | PEND | PEND | +-------------------------------+--------------------+-------------------------+-------------------+----------------------+-------------------+------------------+ | openSUSE Leap 15.6 | PASS | SKIPPED | SKIPPED | SKIPPED | SKIPPED | SKIPPED | +-------------------------------+--------------------+-------------------------+-------------------+----------------------+-------------------+------------------+ | Red Hat Enterprise Linux 8.10 | PASS | SKIPPED | SKIPPED | SKIPPED | SKIPPED | SKIPPED | +-------------------------------+--------------------+-------------------------+-------------------+----------------------+-------------------+------------------+ | Red Hat Enterprise Linux 9.5 | PEND | SKIPPED | SKIPPED | SKIPPED | SKIPPED | SKIPPED | +-------------------------------+--------------------+-------------------------+-------------------+----------------------+-------------------+------------------+ | Ubuntu 22.04 | PASS | SKIPPED | SKIPPED | SKIPPED | PASS | SKIPPED | +-------------------------------+--------------------+-------------------------+-------------------+----------------------+-------------------+------------------+ | Ubuntu 24.04 | PEND | SKIPPED | SKIPPED | SKIPPED | PEND | PEND | +-------------------------------+--------------------+-------------------------+-------------------+----------------------+-------------------+------------------+ | Alpine Linux 3.22.0 | PEND | SKIPPED | SKIPPED | SKIPPED | SKIPPED | SKIPPED | +-------------------------------+--------------------+-------------------------+-------------------+----------------------+-------------------+------------------+ | Windows Server 2022 | SKIPPED | PASS | PASS | PASS | SKIPPED | SKIPPED | +-------------------------------+--------------------+-------------------------+-------------------+----------------------+-------------------+------------------+ Ubuntu 20.04 Kernel: 4.19 Compiler: gcc gcc (Ubuntu 9.4.0-1ubuntu1~20.04.2) 9.4.0 CentOS Stream 9 Kernel: 5.15 Compiler: gcc gcc (GCC) 11.5.0 20240719 (Red Hat 11.5.0-7) CentOS Stream 10 Kernel: 5.15 Compiler: gcc gcc (GCC) 14.2.1 20250110 (Red Hat 14.2.1-8) Debian GNU/Linux 12 Kernel: 5.15 Compiler: gcc gcc (Debian 12.2.0-14+deb12u1) 12.2.0 Fedora Linux 40 Kernel: 5.15 Compiler: clang gcc (GCC) 14.2.1 20240912 (Red Hat 14.2.1-3) Fedora Linux 41 Kernel: 5.15 Compiler: clang gcc (GCC) 14.3.1 20250523 (Red Hat 14.3.1-1) openSUSE Leap 15.6 Kernel: 5.15 Compiler: gcc gcc (SUSE Linux) 7.5.0 Red Hat Enterprise Linux 8.10 Kernel: 5.15 Compiler: gcc gcc (GCC) 8.5.0 20210514 (Red Hat 8.5.0-22) Red Hat Enterprise Linux 9.5 Kernel: 5.15 Compiler: gcc gcc (GCC) 11.5.0 20240719 (Red Hat 11.5.0-2) Ubuntu 22.04 Kernel: 5.15 Compiler: gcc gcc (Ubuntu 11.4.0-1ubuntu1~22.04) 11.4.0 Ubuntu 24.04 Kernel: 5.15 Compiler: gcc gcc (Ubuntu 13.3.0-6ubuntu2~24.04) 13.3.0 Alpine Linux 3.22.0 Kernel: 5.15 Compiler: gcc gcc (Alpine 14.2.0) 14.2.0 Windows Server 2022 Kernel: 10.0.20348.2031 Compiler: clang 15.0.7, gcc 14.1.0 (MinGW), and MSVC VS 19.39.33521 To view detailed results, visit: https://lab.dpdk.org/results/dashboard/patchsets/33601/ UNH-IOL DPDK Community Lab To manage your email subscriptions, visit: https://lab.dpdk.org/results/dashboard/preferences/subscriptions/