From mboxrd@z Thu Jan 1 00:00:00 1970 Return-Path: Received: from mails.dpdk.org (mails.dpdk.org [217.70.189.124]) by inbox.dpdk.org (Postfix) with ESMTP id E884946B1F for ; Mon, 7 Jul 2025 12:45:37 +0200 (CEST) Received: from mails.dpdk.org (localhost [127.0.0.1]) by mails.dpdk.org (Postfix) with ESMTP id C688C4025D; Mon, 7 Jul 2025 12:45:37 +0200 (CEST) Received: from mail-qk1-f227.google.com (mail-qk1-f227.google.com [209.85.222.227]) by mails.dpdk.org (Postfix) with ESMTP id 246C84025D for ; Mon, 7 Jul 2025 12:45:37 +0200 (CEST) Received: by mail-qk1-f227.google.com with SMTP id af79cd13be357-7d5bf3300e0so318355585a.0 for ; Mon, 07 Jul 2025 03:45:37 -0700 (PDT) DKIM-Signature: v=1; a=rsa-sha256; c=relaxed/relaxed; d=iol.unh.edu; s=unh-iol; t=1751885136; x=1752489936; darn=dpdk.org; h=references:in-reply-to:cc:to:from:subject:message-id:date:from:to :cc:subject:date:message-id:reply-to; bh=fm3H/JbF1VJ/pz7a0sUgmklGB2zWwBGFgzpMBBB/oZo=; b=aI68trY+AcxDjKQUwkxPQ6D9NfAG0XM9pLIV7CciaQPGLjOXy9ZKxi9gnSPwuJUgkJ 7JZz3q5ZJSBbzQlcLdAg3Uqkjez9OHbcZ/7qKNZYJPUdISoyDzJeQ+ocwgxtAx2oJz0g eFOWCNESHDVqDDDaOgvhoBffxndlsW0GlMhZg= X-Google-DKIM-Signature: v=1; a=rsa-sha256; c=relaxed/relaxed; d=1e100.net; s=20230601; t=1751885136; x=1752489936; h=references:in-reply-to:cc:to:from:subject:message-id:date :x-gm-message-state:from:to:cc:subject:date:message-id:reply-to; bh=fm3H/JbF1VJ/pz7a0sUgmklGB2zWwBGFgzpMBBB/oZo=; b=Vmdxfwh74BtP+KDcDs2RvXZtsGzEXJHvY5FZNuRrp0pTzKod7193o1wQB2rxoZsTvk 6NtUQ3Z1hTNcu1LteX6RESObTYQLkTtusEjtKMrmFY6wcAM+VMFooQ174y4dj5CGTGBT ll2Y5AiwO70uDc5o77zM3EbaDvh9putRWvmPmFIa/YDwy27GlKy/Nx46gcPsbYmhPTPh qr0nQrhlRZWkF1KAW0GQcEWGUS9wTJU3iwibn6eTN1LjfH0AeaxFo7LUKYH/gHm58iK7 BTW50Gs8LRBfhNCmzyRbPDEzvQO61r9szjRpHkTy1L4G+fZtRIvkHGNLWBfcYOqMvVNy dC/g== X-Gm-Message-State: AOJu0Yw0mdx3vGU6BvuxgA1RmW+pDXudwzzRZ4B+Ic8jnRZbHjpdWdMc qIgW8w8qKLn0isKMxwFArtPReO1iZuTLOpWhG3Tqku7mfWRTJNKMVqq1ieE7MXkh+Ve8J3nuKd7 zPHRpg3BITofJ5Y/BGoXs48TcAyN3wlTU4tmwxU933h8uheQnzqUPR6fiNbvl X-Gm-Gg: ASbGncuqlp/yC0S1P7fWC8tE2W2HqSZDYejuSR6sFnDYttSfIg8SHT/ESFAunWnALtA 1xNwSMyH0Imqwxa03FKkf2BZdNFo02UZ6EoWjJi+CkCA9YKn4wjHxnqqacRAx55lXSpORjldTag v1zSCWzjhY7UnTeoD+avS34MPyRVkGJ3UtUTz3syPYQ2bc0n7bp+WeubuyATUlJNyCBTkByVuhe w4VhtV/mfX6NOds5On8v6Akzb0n5nY7zYueOWNfgkvZ8R0wshO2xvvioVgTiXoSkq8Ar37pWWho 3mBbYPjyVxJLYOttc2PKvRTceOPlE9NjMHTmsjpK5ilh2s8= X-Google-Smtp-Source: AGHT+IG38Hr1Vn86Gz4JyPoJfAh3drN+6OYzk/KqoGip3mGRTg8ofJ4hJViEtAfZ5ymHldRQUYkUj2WZ8jRG X-Received: by 2002:a05:6214:1c08:b0:6ff:1548:6f27 with SMTP id 6a1803df08f44-702c6db290amr172175676d6.42.1751885136308; Mon, 07 Jul 2025 03:45:36 -0700 (PDT) Received: from postal.iol.unh.edu (postal.iol.unh.edu. [2606:4100:3880:1234::84]) by smtp-relay.gmail.com with ESMTPS id 6a1803df08f44-702c4cc5066sm4083256d6.11.2025.07.07.03.45.36 (version=TLS1_2 cipher=ECDHE-ECDSA-AES128-GCM-SHA256 bits=128/128); Mon, 07 Jul 2025 03:45:36 -0700 (PDT) X-Relaying-Domain: iol.unh.edu Date: Mon, 07 Jul 2025 03:45:36 -0700 (PDT) Message-ID: <686ba550.050a0220.3a8262.5692SMTPIN_ADDED_MISSING@mx.google.com> Received: from [172.21.0.10] (unknown [172.18.0.240]) by postal.iol.unh.edu (Postfix) with ESMTP id 0DD1D6051830; Mon, 7 Jul 2025 06:45:36 -0400 (EDT) Subject: |SUCCESS| pw155027 [PATCH] [v2] mbuf: add new ptype for slow protoco From: dpdklab@iol.unh.edu To: Test Report Cc: dpdk-test-reports@iol.unh.edu In-Reply-To: <20250707075100.15034-1-kuka@cesnet.cz> References: <20250707075100.15034-1-kuka@cesnet.cz> Content-Type: text/plain X-BeenThere: test-report@dpdk.org X-Mailman-Version: 2.1.29 Precedence: list List-Id: automatic DPDK test reports List-Unsubscribe: , List-Archive: List-Post: List-Help: List-Subscribe: , Errors-To: test-report-bounces@dpdk.org Test-Label: iol-abi-testing Test-Status: SUCCESS http://dpdk.org/patch/155027 _Testing PASS_ Submitter: Mario Kuka Date: Monday, July 07 2025 07:51:00 DPDK git baseline: Repo:dpdk Branch: master CommitID:70c2297528e7c7789af452f78de1932e9a20c8a2 155027 --> testing pass Upstream job id: Generic-DPDK-Compile-ABI#133359 Test environment and result as below: +-------------------------------+----------+ | Environment | abi_test | +===============================+==========+ | CentOS Stream 10 | PASS | +-------------------------------+----------+ | CentOS Stream 9 | PASS | +-------------------------------+----------+ | Debian GNU/Linux 12 | PASS | +-------------------------------+----------+ | Fedora Linux 40 | PASS | +-------------------------------+----------+ | Fedora Linux 41 | PASS | +-------------------------------+----------+ | Red Hat Enterprise Linux 9.5 | PASS | +-------------------------------+----------+ | openSUSE Leap 15.6 | PASS | +-------------------------------+----------+ | Ubuntu 22.04 | PASS | +-------------------------------+----------+ | Ubuntu 24.04 | PASS | +-------------------------------+----------+ | Red Hat Enterprise Linux 8.10 | PASS | +-------------------------------+----------+ CentOS Stream 10 Kernel: 5.15 Compiler: gcc gcc (GCC) 14.2.1 20250110 (Red Hat 14.2.1-8) CentOS Stream 9 Kernel: 5.15 Compiler: gcc gcc (GCC) 11.5.0 20240719 (Red Hat 11.5.0-7) Debian GNU/Linux 12 Kernel: 5.15 Compiler: gcc gcc (Debian 12.2.0-14+deb12u1) 12.2.0 Fedora Linux 40 Kernel: 5.15 Compiler: clang gcc (GCC) 14.2.1 20240912 (Red Hat 14.2.1-3) Fedora Linux 41 Kernel: 5.15 Compiler: clang gcc (GCC) 14.3.1 20250523 (Red Hat 14.3.1-1) Red Hat Enterprise Linux 9.5 Kernel: 5.15 Compiler: gcc gcc (GCC) 11.5.0 20240719 (Red Hat 11.5.0-2) openSUSE Leap 15.6 Kernel: 5.15 Compiler: gcc gcc (SUSE Linux) 7.5.0 Ubuntu 22.04 Kernel: 5.15 Compiler: gcc gcc (Ubuntu 11.4.0-1ubuntu1~22.04) 11.4.0 Ubuntu 24.04 Kernel: 5.15 Compiler: gcc gcc (Ubuntu 13.3.0-6ubuntu2~24.04) 13.3.0 Red Hat Enterprise Linux 8.10 Kernel: 5.15 Compiler: gcc gcc (GCC) 8.5.0 20210514 (Red Hat 8.5.0-22) To view detailed results, visit: https://lab.dpdk.org/results/dashboard/patchsets/33602/ UNH-IOL DPDK Community Lab To manage your email subscriptions, visit: https://lab.dpdk.org/results/dashboard/preferences/subscriptions/