From mboxrd@z Thu Jan 1 00:00:00 1970 Return-Path: Received: from mails.dpdk.org (mails.dpdk.org [217.70.189.124]) by inbox.dpdk.org (Postfix) with ESMTP id DE3B046B1F for ; Mon, 7 Jul 2025 12:46:14 +0200 (CEST) Received: from mails.dpdk.org (localhost [127.0.0.1]) by mails.dpdk.org (Postfix) with ESMTP id DAA664025D; Mon, 7 Jul 2025 12:46:14 +0200 (CEST) Received: from mail-yb1-f227.google.com (mail-yb1-f227.google.com [209.85.219.227]) by mails.dpdk.org (Postfix) with ESMTP id 10D2F4025D for ; Mon, 7 Jul 2025 12:46:14 +0200 (CEST) Received: by mail-yb1-f227.google.com with SMTP id 3f1490d57ef6-e7dc89108bfso2490283276.3 for ; Mon, 07 Jul 2025 03:46:14 -0700 (PDT) DKIM-Signature: v=1; a=rsa-sha256; c=relaxed/relaxed; d=iol.unh.edu; s=unh-iol; t=1751885173; x=1752489973; darn=dpdk.org; h=references:in-reply-to:cc:to:from:subject:message-id:date:from:to :cc:subject:date:message-id:reply-to; bh=nX57d0vpkY1YVM54Yt6jzZNUjJjNgZg/RmDa2tuc3TY=; b=V1hyplS57SIMHndXhLG6v21hD3WeVXLPwiN4oSRJDvXozo+TOm86Z3FSxWLa3w0eWA x/gHBLfJo5J8bztCxesdxwbBAgt+P68an0hewwkGHJUjowxsKxogSwF88XL/yM826KyI aPCQrl/YeDNoTP21iJCG2AVnbBjWxSqaFdcB0= X-Google-DKIM-Signature: v=1; a=rsa-sha256; c=relaxed/relaxed; d=1e100.net; s=20230601; t=1751885173; x=1752489973; h=references:in-reply-to:cc:to:from:subject:message-id:date :x-gm-message-state:from:to:cc:subject:date:message-id:reply-to; bh=nX57d0vpkY1YVM54Yt6jzZNUjJjNgZg/RmDa2tuc3TY=; b=dx4PBCMagEJuIFFtJjIfL+v19vXY87BNyK4ZhajYIf8AFIRrltBMmRFvcSJwJZbHdo ZWHDqz4434Xul4kSFy7X9YH+uHmgKKcDSfpRkIkjuTsv+s7AUxhGa8aeiDMQZJpzM6g/ kWvpjmFPCBy1zzNlJuLq8E9K50m2anjm6QM+om3y0FXcuJ3ub2QZl5+/rabmLwgherbF y1UkxKcQgUOa61SzTn40UUb6VOptZo4Lh9/QWlFew1KDIeFMYONfIVbzeWJ0GIuJhreN 75s69wZXfRYh7GoardA36vZ9pTHcKu7OKJZcs/XHPTF9lQxmZWhKmYOjvPhdmS1WBSm7 L9iA== X-Gm-Message-State: AOJu0YyW3LOyDu2xD91LZ5EM/G61cFwhA40sVPfNe4XtHLQ027xQDlBd 8Dw56nhRQRXJuFQQlqmYT4S6lI2MYXH+XsjOLkg7QBqzVmevUWB2cNz5Ph4LxHx0MMaCEFOt2v7 eSQ/KCGYXi7k/TFSWI7C4LLjssghhAUWPjBEMatvyiMAf X-Gm-Gg: ASbGncscLURPz/61+34WQOrVvo2C2AtPjBVUssMavSV6ZEslDNPXz3nHK8PdYWxQlW9 rACQgxhkhaqhCnL8GqySfi5bt30HLo/BlqAaQ4d6+zAXE8Ok8e9DUskTz34qOKNS7C5PiY1HAPh d0FSS3DnHD8BvQ43Af0TLcAmBOlaCymPsZ+fgnf+oz0O1qR61xRAasDXc1LI2xfj3838vGFhFSa V6RHcI2Gl9JRj6ZK18aG+WUfA+aBtFjsOIgtQ81octfXxCL5ODzkxS0NwcJTHf4sD7/05FP0SJM JD+bK2BiHoMq0ZptkuWATCdYLCdXUBJdAXCmOJlFMP9pwdru1fpm75D/wj0Ra6+Da2nE9A== X-Google-Smtp-Source: AGHT+IH6HR2EWp6LDNdzgUwt0wL4/zJgby0GeZS6ivi7m8cNHz/8NZisVunk3GXJC1+xOS5ScBe6mmOOFdOg X-Received: by 2002:a05:6902:2305:b0:e89:68b6:16b7 with SMTP id 3f1490d57ef6-e8b3cd175f5mr8362021276.21.1751885173429; Mon, 07 Jul 2025 03:46:13 -0700 (PDT) Received: from postal.iol.unh.edu (postal.iol.unh.edu. [132.177.123.84]) by smtp-relay.gmail.com with ESMTPS id 3f1490d57ef6-e899c46784dsm192566276.28.2025.07.07.03.46.13 (version=TLS1_2 cipher=ECDHE-ECDSA-AES128-GCM-SHA256 bits=128/128); Mon, 07 Jul 2025 03:46:13 -0700 (PDT) X-Relaying-Domain: iol.unh.edu Date: Mon, 07 Jul 2025 03:46:13 -0700 (PDT) Message-ID: <686ba575.050a0220.eddf9.9cd0SMTPIN_ADDED_MISSING@mx.google.com> Received: from [172.21.0.5] (unknown [172.18.0.240]) by postal.iol.unh.edu (Postfix) with ESMTP id 1A7306051830; Mon, 7 Jul 2025 06:46:13 -0400 (EDT) Subject: |SUCCESS| pw155027 [PATCH] [v2] mbuf: add new ptype for slow protoco From: dpdklab@iol.unh.edu To: Test Report Cc: dpdk-test-reports@iol.unh.edu In-Reply-To: <20250707075100.15034-1-kuka@cesnet.cz> References: <20250707075100.15034-1-kuka@cesnet.cz> Content-Type: text/plain X-BeenThere: test-report@dpdk.org X-Mailman-Version: 2.1.29 Precedence: list List-Id: automatic DPDK test reports List-Unsubscribe: , List-Archive: List-Post: List-Help: List-Subscribe: , Errors-To: test-report-bounces@dpdk.org Test-Label: iol-unit-amd64-testing Test-Status: SUCCESS http://dpdk.org/patch/155027 _Testing PASS_ Submitter: Mario Kuka Date: Monday, July 07 2025 07:51:00 DPDK git baseline: Repo:dpdk Branch: master CommitID:70c2297528e7c7789af452f78de1932e9a20c8a2 155027 --> testing pass Upstream job id: Generic-Unit-Test-DPDK#353253 Test environment and result as below: +-------------------------------+----------------+ | Environment | dpdk_unit_test | +===============================+================+ | Debian GNU/Linux 12 | PASS | +-------------------------------+----------------+ | Fedora Linux 40 | PASS | +-------------------------------+----------------+ | CentOS Stream 9 | PASS | +-------------------------------+----------------+ | Fedora Linux 41 | PASS | +-------------------------------+----------------+ | CentOS Stream 10 | PASS | +-------------------------------+----------------+ | Red Hat Enterprise Linux 9.5 | PASS | +-------------------------------+----------------+ | Red Hat Enterprise Linux 8.10 | PASS | +-------------------------------+----------------+ | Ubuntu 22.04 | PASS | +-------------------------------+----------------+ | Ubuntu 20.04 | PASS | +-------------------------------+----------------+ | Ubuntu 24.04 | PASS | +-------------------------------+----------------+ | Windows Server 2022 | PASS | +-------------------------------+----------------+ Debian GNU/Linux 12 Kernel: 5.15 Compiler: gcc gcc (Debian 12.2.0-14+deb12u1) 12.2.0 Fedora Linux 40 Kernel: 5.15 Compiler: clang gcc (GCC) 14.2.1 20240912 (Red Hat 14.2.1-3) CentOS Stream 9 Kernel: 5.15 Compiler: gcc gcc (GCC) 11.5.0 20240719 (Red Hat 11.5.0-7) Fedora Linux 41 Kernel: 5.15 Compiler: gcc gcc (GCC) 14.3.1 20250523 (Red Hat 14.3.1-1) CentOS Stream 10 Kernel: 5.15 Compiler: gcc gcc (GCC) 14.2.1 20250110 (Red Hat 14.2.1-8) Red Hat Enterprise Linux 9.5 Kernel: 5.15 Compiler: gcc gcc (GCC) 11.5.0 20240719 (Red Hat 11.5.0-2) Red Hat Enterprise Linux 8.10 Kernel: 5.15 Compiler: gcc gcc (GCC) 8.5.0 20210514 (Red Hat 8.5.0-22) Ubuntu 22.04 Kernel: 5.15 Compiler: gcc gcc (Ubuntu 11.4.0-1ubuntu1~22.04) 11.4.0 Ubuntu 20.04 Kernel: 5.15 Compiler: gcc gcc (Ubuntu 9.4.0-1ubuntu1~20.04.2) 9.4.0 Ubuntu 24.04 Kernel: 5.15 Compiler: gcc gcc (Ubuntu 13.3.0-6ubuntu2~24.04) 13.3.0 Windows Server 2022 Kernel: 10.0.20348.2031 Compiler: clang 15.0.7, gcc 14.1.0 (MinGW), and MSVC VS 19.39.33521 To view detailed results, visit: https://lab.dpdk.org/results/dashboard/patchsets/33602/ UNH-IOL DPDK Community Lab To manage your email subscriptions, visit: https://lab.dpdk.org/results/dashboard/preferences/subscriptions/