From mboxrd@z Thu Jan 1 00:00:00 1970 Return-Path: Received: from mails.dpdk.org (mails.dpdk.org [217.70.189.124]) by inbox.dpdk.org (Postfix) with ESMTP id 025D946B1F for ; Mon, 7 Jul 2025 12:47:00 +0200 (CEST) Received: from mails.dpdk.org (localhost [127.0.0.1]) by mails.dpdk.org (Postfix) with ESMTP id F18C84025D; Mon, 7 Jul 2025 12:46:59 +0200 (CEST) Received: from mail-pl1-f225.google.com (mail-pl1-f225.google.com [209.85.214.225]) by mails.dpdk.org (Postfix) with ESMTP id ADAAF4025D for ; Mon, 7 Jul 2025 12:46:58 +0200 (CEST) Received: by mail-pl1-f225.google.com with SMTP id d9443c01a7336-234c5b57557so25303415ad.3 for ; Mon, 07 Jul 2025 03:46:58 -0700 (PDT) DKIM-Signature: v=1; a=rsa-sha256; c=relaxed/relaxed; d=iol.unh.edu; s=unh-iol; t=1751885218; x=1752490018; darn=dpdk.org; h=references:in-reply-to:cc:to:from:subject:message-id:date:from:to :cc:subject:date:message-id:reply-to; bh=mxJ6ebkAaECfw2PXticBBm+5PHDXmHaLpCXavzSrHHo=; b=HCESuySUp1vkpx6bm8kXHuzGBLVEnhD53Y0RMcmoSffhK7EbWZwYzmanxy67OhOOKu FnXh+oTClF8jZRB0PJ034d0aG0RJM/SlId7zIdg5n6ve0U16eCKJnofCE0XWnYok3gvD yEOubNRPwATT77S1x3Xhijzl5YYg148g5nVlE= X-Google-DKIM-Signature: v=1; a=rsa-sha256; c=relaxed/relaxed; d=1e100.net; s=20230601; t=1751885218; x=1752490018; h=references:in-reply-to:cc:to:from:subject:message-id:date :x-gm-message-state:from:to:cc:subject:date:message-id:reply-to; bh=mxJ6ebkAaECfw2PXticBBm+5PHDXmHaLpCXavzSrHHo=; b=nRRpQemcTzJ/sS2HJHl5faC4SxE2H7k4XatvrQ7aePhBdSjsJhyDQ8GtzFqPLKZ/zZ 2YEK9Bzq6LHdhp/K3j9mPsDRn3+gJ7zur0PCmXJFcAUWWOnZe1/I/Flpxhz9g2RbMZEc ihdCSNbhpkx/tFlNfjENnJpUlEkMHkAcpjQHsIooXv9LyrEnMCN45kRgedj/6GEZB2xr yLoAIOF+gOm6GJ0rj+FNB8Q3QSvLomiMiJ6pTQvLC0TShyylXj0Rd+kG+ZFZl3Sdz3oR KjvT1Kz3UTh9O2KNVyfk0VT+eBpHkwWFJwt1dLXudGUIwxJsPQ0/eH930y/yKRGyS38L 07JA== X-Gm-Message-State: AOJu0YwjJZQa2I1MEPmC7soPiPaumhQolYpFrRSgbdJPkkuGUbkWShnN 0ILEWDyt4mS2hLnaOh9npm/ss4p5QZu//VWZ+kz74WzCx+JNM0wfD+D4b6uAxBBp1JCcU3OeSN7 r4kOs7ARSL3vZHTqz5CZMbYYxRgYzvZpKoXDpCZOmcRP1HZV+egAX5bvm486h X-Gm-Gg: ASbGncvXRQvEbeG92kwP9NWBeYQLPuyd5VFKDQM/Vt2XUOXJCddBGxQ7TredqDkhUvn 62/8Ze0CtZG8wbOH3CEvFQAJtkvGVyhy+6X76Qz+lobqMb58LoV9nWt3MZHSuGz4Q4p5t7lWfIv gS1Gq2pZmtFbJNtwDrKI0kZ18IeuJWsvD1XKsPuZP4+1aai2Q2L/mv+ywx97zUoPRkXcAgsLyCX eFNFGsPse59Eezm3NFqrfSFrhFxXEGXZUIAq/mnmn08dAommyc4Gq7DAqkYty7MdJ5Y39BpRJro twh8518vqD3g/qQqADdXadJdXYOfcxUAPs2UzP3zBFsQ5N0= X-Google-Smtp-Source: AGHT+IGTlh44b6ePCARnkUFqlRl9eVW39zrFpST3sTM8iVWtmdYUkKbFn4zttXpOi7+gLsdfbbZ6kv4aN7qr X-Received: by 2002:a17:903:2784:b0:234:986c:66e0 with SMTP id d9443c01a7336-23c85d8f78dmr150985565ad.4.1751885217766; Mon, 07 Jul 2025 03:46:57 -0700 (PDT) Received: from postal.iol.unh.edu (postal.iol.unh.edu. [2606:4100:3880:1234::84]) by smtp-relay.gmail.com with ESMTPS id d9443c01a7336-23c842d14a8sm3826075ad.46.2025.07.07.03.46.57 (version=TLS1_2 cipher=ECDHE-ECDSA-AES128-GCM-SHA256 bits=128/128); Mon, 07 Jul 2025 03:46:57 -0700 (PDT) X-Relaying-Domain: iol.unh.edu Date: Mon, 07 Jul 2025 03:46:57 -0700 (PDT) Message-ID: <686ba5a1.170a0220.1800d4.34ccSMTPIN_ADDED_MISSING@mx.google.com> Received: from [172.21.0.10] (unknown [172.18.0.240]) by postal.iol.unh.edu (Postfix) with ESMTP id EAD316051830; Mon, 7 Jul 2025 06:46:56 -0400 (EDT) Subject: |SUCCESS| pw155027 [PATCH] [v2] mbuf: add new ptype for slow protoco From: dpdklab@iol.unh.edu To: Test Report Cc: dpdk-test-reports@iol.unh.edu In-Reply-To: <20250707075100.15034-1-kuka@cesnet.cz> References: <20250707075100.15034-1-kuka@cesnet.cz> Content-Type: text/plain X-BeenThere: test-report@dpdk.org X-Mailman-Version: 2.1.29 Precedence: list List-Id: automatic DPDK test reports List-Unsubscribe: , List-Archive: List-Post: List-Help: List-Subscribe: , Errors-To: test-report-bounces@dpdk.org Test-Label: iol-abi-testing Test-Status: SUCCESS http://dpdk.org/patch/155027 _Testing PASS_ Submitter: Mario Kuka Date: Monday, July 07 2025 07:51:00 DPDK git baseline: Repo:dpdk Branch: master CommitID:70c2297528e7c7789af452f78de1932e9a20c8a2 155027 --> testing pass Upstream job id: Generic-DPDK-Compile-ABI#133360 Test environment and result as below: +-------------------------------+----------+ | Environment | abi_test | +===============================+==========+ | CentOS Stream 10 | PASS | +-------------------------------+----------+ | CentOS Stream 9 | PASS | +-------------------------------+----------+ | Debian GNU/Linux 12 | PASS | +-------------------------------+----------+ | Fedora Linux 40 | PASS | +-------------------------------+----------+ | Fedora Linux 41 | PASS | +-------------------------------+----------+ | Red Hat Enterprise Linux 9.5 | PASS | +-------------------------------+----------+ | openSUSE Leap 15.6 | PASS | +-------------------------------+----------+ | Ubuntu 22.04 | PASS | +-------------------------------+----------+ | Ubuntu 24.04 | PASS | +-------------------------------+----------+ | Red Hat Enterprise Linux 8.10 | PASS | +-------------------------------+----------+ CentOS Stream 10 Kernel: 5.15 Compiler: gcc gcc (GCC) 14.2.1 20250110 (Red Hat 14.2.1-8) CentOS Stream 9 Kernel: 5.15 Compiler: gcc gcc (GCC) 11.5.0 20240719 (Red Hat 11.5.0-7) Debian GNU/Linux 12 Kernel: 5.15 Compiler: gcc gcc (Debian 12.2.0-14+deb12u1) 12.2.0 Fedora Linux 40 Kernel: 5.15 Compiler: clang gcc (GCC) 14.2.1 20240912 (Red Hat 14.2.1-3) Fedora Linux 41 Kernel: 5.15 Compiler: clang gcc (GCC) 14.3.1 20250523 (Red Hat 14.3.1-1) Red Hat Enterprise Linux 9.5 Kernel: 5.15 Compiler: gcc gcc (GCC) 11.5.0 20240719 (Red Hat 11.5.0-2) openSUSE Leap 15.6 Kernel: 5.15 Compiler: gcc gcc (SUSE Linux) 7.5.0 Ubuntu 22.04 Kernel: 5.15 Compiler: gcc gcc (Ubuntu 11.4.0-1ubuntu1~22.04) 11.4.0 Ubuntu 24.04 Kernel: 5.15 Compiler: gcc gcc (Ubuntu 13.3.0-6ubuntu2~24.04) 13.3.0 Red Hat Enterprise Linux 8.10 Kernel: 5.15 Compiler: gcc gcc (GCC) 8.5.0 20210514 (Red Hat 8.5.0-22) To view detailed results, visit: https://lab.dpdk.org/results/dashboard/patchsets/33602/ UNH-IOL DPDK Community Lab To manage your email subscriptions, visit: https://lab.dpdk.org/results/dashboard/preferences/subscriptions/