From mboxrd@z Thu Jan 1 00:00:00 1970 Return-Path: Received: from mails.dpdk.org (mails.dpdk.org [217.70.189.124]) by inbox.dpdk.org (Postfix) with ESMTP id 1819146B1F for ; Mon, 7 Jul 2025 12:47:45 +0200 (CEST) Received: from mails.dpdk.org (localhost [127.0.0.1]) by mails.dpdk.org (Postfix) with ESMTP id 12F914025D; Mon, 7 Jul 2025 12:47:45 +0200 (CEST) Received: from mail-pj1-f99.google.com (mail-pj1-f99.google.com [209.85.216.99]) by mails.dpdk.org (Postfix) with ESMTP id F2C714025D for ; Mon, 7 Jul 2025 12:47:43 +0200 (CEST) Received: by mail-pj1-f99.google.com with SMTP id 98e67ed59e1d1-313f68bc519so2211042a91.0 for ; Mon, 07 Jul 2025 03:47:43 -0700 (PDT) DKIM-Signature: v=1; a=rsa-sha256; c=relaxed/relaxed; d=iol.unh.edu; s=unh-iol; t=1751885263; x=1752490063; darn=dpdk.org; h=references:in-reply-to:cc:to:from:subject:message-id:date:from:to :cc:subject:date:message-id:reply-to; bh=nJUCrrBVrT0xFl67tfcN5ys2QtHgi03JfAqkGk2GN9U=; b=GIfbRAf2WZfYJIyr5Q3c7dG5knxAgPGwKQe4NKS/6XDqLD0sB6QLZHFRk2/URcYczJ klGVSICwmW+mHaSvvsbz1n5IQco50UUMYHgbn3gmjH+HvHSpadgY4un21CQ8MfQxJALg XY5fMzdLRKuq/AS5R7tysbMSBWQAGjaU76ySM= X-Google-DKIM-Signature: v=1; a=rsa-sha256; c=relaxed/relaxed; d=1e100.net; s=20230601; t=1751885263; x=1752490063; h=references:in-reply-to:cc:to:from:subject:message-id:date :x-gm-message-state:from:to:cc:subject:date:message-id:reply-to; bh=nJUCrrBVrT0xFl67tfcN5ys2QtHgi03JfAqkGk2GN9U=; b=H3prbCw1/0AoDh/pMZBvzfhI4YeRbWb9zwZXT1oviPgWYrA7FvQVSz6sH51I/Lw+Mv OSA4OApszKiKipW8mvX/ifUcPA8HFE9s+sIzBm4EIf1+QtMrSRxkH7EbLHUIhi/2RRvY 1GuIIGokrcbK3pD/MUnGDd1Zk/vDLNrzpDmNOmy3jIEgwBqAVGs5OaZ9xKumQ6h/OPB+ 8rEuhsKKITldw8ImMC8J19HXDN4lNKxkVv0ScefGciYQRItwIsY6xG/l2S0sMJYfwrB0 V8p1W5x2Ba8UJdw4BUq+npS4CHgDo/WFbNHVBuEx81cbhR24istBS707uvjAkPwh5VXB JD3A== X-Gm-Message-State: AOJu0YxI9UU28TO59eveGuIMx33C8QLCuwyO4J2v/jlZqDsO+TstX18D XLLn6tsOHaJQZ1UAeuS3bRKlhUppVPwypPw3AQpCSUoSOKUszfA4ZuggkxApOPvzvi3qv7Td3FB DxaEzEY/UhH+uuM9ipDfBAnbmmj3nJgXswYAKpSg4O7xE X-Gm-Gg: ASbGncvHnRk1V5gm/bDufCt00lUihZbCln3IuTrDVU2GvG2V1VuGsqbSCmL4FsCqaGR ys2VpSpY5x2ZhGKzrtu+zA2c4vJj6Ik06s/UumAFQIE+FFrJ8Fcm+YsNci4H0pS1wt8HoDsAArL Q0rsY3QBG6sSPzoj5KkCiHJDhuklqsr608bsF+sKT8vK9L6H0RN7m1B+0ZVnE05GUB0/m847Eej 1Qdocn3ZH7iZlStoqwyqFAC6lCk5lqy6gK5a/D7MZyMONBpnUTRK3bKff8Oc7cprFQfwyDjnTVx Svadtny7NImoOD9D0yNF7eYiNGAnDYV5bKn3nFty976GIGwqO6+xkAiRQTxcHc1J8qczyQ== X-Google-Smtp-Source: AGHT+IHfPbs+CyySGeb9x5JoCJHOgi8dwrkFEL7yjf3vjquA6czKkojidVKV0pyp5bV0VTB7c4jp32H4M0TX X-Received: by 2002:a17:90b:584e:b0:312:db8:dbdd with SMTP id 98e67ed59e1d1-31aadd9ffccmr17339374a91.28.1751885263122; Mon, 07 Jul 2025 03:47:43 -0700 (PDT) Received: from postal.iol.unh.edu (postal.iol.unh.edu. [132.177.123.84]) by smtp-relay.gmail.com with ESMTPS id 98e67ed59e1d1-31aaaf6f55bsm536312a91.12.2025.07.07.03.47.43 (version=TLS1_2 cipher=ECDHE-ECDSA-AES128-GCM-SHA256 bits=128/128); Mon, 07 Jul 2025 03:47:43 -0700 (PDT) X-Relaying-Domain: iol.unh.edu Date: Mon, 07 Jul 2025 03:47:43 -0700 (PDT) Message-ID: <686ba5cf.170a0220.3432a7.c7ddSMTPIN_ADDED_MISSING@mx.google.com> Received: from [172.21.0.6] (unknown [172.18.0.240]) by postal.iol.unh.edu (Postfix) with ESMTP id 3817D6051830; Mon, 7 Jul 2025 06:47:42 -0400 (EDT) Subject: |SUCCESS| pw155027 [PATCH] [v2] mbuf: add new ptype for slow protoco From: dpdklab@iol.unh.edu To: Test Report Cc: dpdk-test-reports@iol.unh.edu In-Reply-To: <20250707075100.15034-1-kuka@cesnet.cz> References: <20250707075100.15034-1-kuka@cesnet.cz> Content-Type: text/plain X-BeenThere: test-report@dpdk.org X-Mailman-Version: 2.1.29 Precedence: list List-Id: automatic DPDK test reports List-Unsubscribe: , List-Archive: List-Post: List-Help: List-Subscribe: , Errors-To: test-report-bounces@dpdk.org Test-Label: iol-abi-testing Test-Status: SUCCESS http://dpdk.org/patch/155027 _Testing PASS_ Submitter: Mario Kuka Date: Monday, July 07 2025 07:51:00 DPDK git baseline: Repo:dpdk Branch: master CommitID:70c2297528e7c7789af452f78de1932e9a20c8a2 155027 --> testing pass Upstream job id: Generic-DPDK-Compile-ABI#133366 Test environment and result as below: +-------------------------------+----------+ | Environment | abi_test | +===============================+==========+ | CentOS Stream 10 | PASS | +-------------------------------+----------+ | CentOS Stream 9 | PASS | +-------------------------------+----------+ | Debian GNU/Linux 12 | PASS | +-------------------------------+----------+ | Fedora Linux 40 | PASS | +-------------------------------+----------+ | Fedora Linux 41 | PASS | +-------------------------------+----------+ | Red Hat Enterprise Linux 9.5 | PASS | +-------------------------------+----------+ | openSUSE Leap 15.6 | PASS | +-------------------------------+----------+ | Ubuntu 22.04 | PASS | +-------------------------------+----------+ | Ubuntu 24.04 | PASS | +-------------------------------+----------+ | Red Hat Enterprise Linux 8.10 | PASS | +-------------------------------+----------+ CentOS Stream 10 Kernel: 5.15 Compiler: gcc gcc (GCC) 14.2.1 20250110 (Red Hat 14.2.1-8) CentOS Stream 9 Kernel: 5.15 Compiler: gcc gcc (GCC) 11.5.0 20240719 (Red Hat 11.5.0-7) Debian GNU/Linux 12 Kernel: 5.15 Compiler: gcc gcc (Debian 12.2.0-14+deb12u1) 12.2.0 Fedora Linux 40 Kernel: 5.15 Compiler: clang gcc (GCC) 14.2.1 20240912 (Red Hat 14.2.1-3) Fedora Linux 41 Kernel: 5.15 Compiler: clang gcc (GCC) 14.3.1 20250523 (Red Hat 14.3.1-1) Red Hat Enterprise Linux 9.5 Kernel: 5.15 Compiler: gcc gcc (GCC) 11.5.0 20240719 (Red Hat 11.5.0-2) openSUSE Leap 15.6 Kernel: 5.15 Compiler: gcc gcc (SUSE Linux) 7.5.0 Ubuntu 22.04 Kernel: 5.15 Compiler: gcc gcc (Ubuntu 11.4.0-1ubuntu1~22.04) 11.4.0 Ubuntu 24.04 Kernel: 5.15 Compiler: gcc gcc (Ubuntu 13.3.0-6ubuntu2~24.04) 13.3.0 Red Hat Enterprise Linux 8.10 Kernel: 5.15 Compiler: gcc gcc (GCC) 8.5.0 20210514 (Red Hat 8.5.0-22) To view detailed results, visit: https://lab.dpdk.org/results/dashboard/patchsets/33602/ UNH-IOL DPDK Community Lab To manage your email subscriptions, visit: https://lab.dpdk.org/results/dashboard/preferences/subscriptions/