From mboxrd@z Thu Jan 1 00:00:00 1970 Return-Path: Received: from mails.dpdk.org (mails.dpdk.org [217.70.189.124]) by inbox.dpdk.org (Postfix) with ESMTP id 2C1EA46B1F for ; Mon, 7 Jul 2025 12:47:54 +0200 (CEST) Received: from mails.dpdk.org (localhost [127.0.0.1]) by mails.dpdk.org (Postfix) with ESMTP id 241A24025D; Mon, 7 Jul 2025 12:47:54 +0200 (CEST) Received: from mail-qv1-f98.google.com (mail-qv1-f98.google.com [209.85.219.98]) by mails.dpdk.org (Postfix) with ESMTP id B2F8A4025D for ; Mon, 7 Jul 2025 12:47:52 +0200 (CEST) Received: by mail-qv1-f98.google.com with SMTP id 6a1803df08f44-6fabe9446a0so28675506d6.2 for ; Mon, 07 Jul 2025 03:47:52 -0700 (PDT) DKIM-Signature: v=1; a=rsa-sha256; c=relaxed/relaxed; d=iol.unh.edu; s=unh-iol; t=1751885272; x=1752490072; darn=dpdk.org; h=references:in-reply-to:cc:to:from:subject:message-id:date:from:to :cc:subject:date:message-id:reply-to; bh=DthmAqMHEk02Z0MsJVIpJDZTIrNedWtv0WvtGZnsrn4=; b=FXQ/BvSD+0xu4v4TwwUPrFA2Po+SIRKWIEqlVVaSMC8mcsKEqFnSn3faH+qg2CIijk kZ/RMW+0KAe1+r2lLwkuOSCc/JZupYathHn+nDYw2QlmnjNqCUlsFv9orKpY9ykYGj4o yIchdMF7YurYQh0nGRnXgZLBGH88F7x63KMMg= X-Google-DKIM-Signature: v=1; a=rsa-sha256; c=relaxed/relaxed; d=1e100.net; s=20230601; t=1751885272; x=1752490072; h=references:in-reply-to:cc:to:from:subject:message-id:date :x-gm-message-state:from:to:cc:subject:date:message-id:reply-to; bh=DthmAqMHEk02Z0MsJVIpJDZTIrNedWtv0WvtGZnsrn4=; b=bHzbbR4dLNOCMwI6N2gPH8zobKoJSKwVIiNFU5QzbLCdAy3p/1+Ms+eMZQ5THmnTc0 XXAZps6KFqFSoXl+J8c4Hf2Mc7GjQluZk+fMgQxVSCxjt/zU9JDyHTnGSupDCektVA77 1CnbcZ3Y0t0FV3Y7Br47yyAEG2nKzVG4jFpr429pIhd+SyKndClKpAhfcQkaArsZvlro j5B8D96+Yaez3CswWBCvSTIInX2J/m2zCZt7a6m6cRCDMSUKnS9td7RL0NRsqzjSoJys z/hPw7NO7oY95mMhek8Ecusi40QgQIUmEl/1I61UZDTAHkhRc2yIMpDtIdYVrCvZp5pI LBtw== X-Gm-Message-State: AOJu0Yym3Tzrskcv8C11Mh+pWogdMQGwRPhxl0Y91VL3XD9GUAYq+r5V KRvXg7hpywftavaUzqA81YPpvAb/mBVIGExE0x+Ixsizk49QrKDVhIUZ/XFHEeAmmGWrUsdVt6e LxSsxO/ZU3pwWLssyZw8Np+VyEhu9qxcJ+tKfyiDoCPRR X-Gm-Gg: ASbGncsnTR/5sJ2lL/r+ShdDuNa81tFW+4gsxvTamSJsLWa2yDHfKE3R0/oiwOOfqCu xulBt0UjUjUfmorAE4UECQZu72BMUFwfA1w9c8k+0xj/Z8WyMKHDKXhafaw/1DlFbjXkZaGrmh8 bk/rSA6LFnshT0rph+et6sZcyNoKd9dqKglfUeAOZ03v9Qhps0UWaonorrLcllQyHBEr8nOZXw6 2fux80eWiS4LuHlMs6FXQoL4ldvPXNW5qJgyKdj6NgLw5tKkEE1k/PnE7NF0qNfB92eEjxu++pJ imkyWJmH56gbVDYrJC9LTwQ1XmKl59JiWt1xlvRuN2u4LwyikGQsST0anoWQK1RdmJn2dg== X-Google-Smtp-Source: AGHT+IE/pcTKCrBlTOmmRqXZjtXgv/VwM6K0jn8it4f4To2GIR+jYEKA7Nh5vm9Sdpl4kRwuHAv45+ZBqEGO X-Received: by 2002:a05:6214:2e8a:b0:702:d1df:781f with SMTP id 6a1803df08f44-702d1df782amr101504346d6.35.1751885271971; Mon, 07 Jul 2025 03:47:51 -0700 (PDT) Received: from postal.iol.unh.edu (postal.iol.unh.edu. [132.177.123.84]) by smtp-relay.gmail.com with ESMTPS id 6a1803df08f44-702c4d53c31sm3973446d6.54.2025.07.07.03.47.51 (version=TLS1_2 cipher=ECDHE-ECDSA-AES128-GCM-SHA256 bits=128/128); Mon, 07 Jul 2025 03:47:51 -0700 (PDT) X-Relaying-Domain: iol.unh.edu Date: Mon, 07 Jul 2025 03:47:51 -0700 (PDT) Message-ID: <686ba5d7.050a0220.15a41a.3f0bSMTPIN_ADDED_MISSING@mx.google.com> Received: from [172.21.0.5] (unknown [172.18.0.240]) by postal.iol.unh.edu (Postfix) with ESMTP id B0EBD6051830; Mon, 7 Jul 2025 06:47:51 -0400 (EDT) Subject: |SUCCESS| pw155027 [PATCH] [v2] mbuf: add new ptype for slow protoco From: dpdklab@iol.unh.edu To: Test Report Cc: dpdk-test-reports@iol.unh.edu In-Reply-To: <20250707075100.15034-1-kuka@cesnet.cz> References: <20250707075100.15034-1-kuka@cesnet.cz> Content-Type: text/plain X-BeenThere: test-report@dpdk.org X-Mailman-Version: 2.1.29 Precedence: list List-Id: automatic DPDK test reports List-Unsubscribe: , List-Archive: List-Post: List-Help: List-Subscribe: , Errors-To: test-report-bounces@dpdk.org Test-Label: iol-abi-testing Test-Status: SUCCESS http://dpdk.org/patch/155027 _Testing PASS_ Submitter: Mario Kuka Date: Monday, July 07 2025 07:51:00 DPDK git baseline: Repo:dpdk Branch: master CommitID:70c2297528e7c7789af452f78de1932e9a20c8a2 155027 --> testing pass Upstream job id: Generic-DPDK-Compile-ABI#133369 Test environment and result as below: +-------------------------------+----------+ | Environment | abi_test | +===============================+==========+ | CentOS Stream 10 | PASS | +-------------------------------+----------+ | CentOS Stream 9 | PASS | +-------------------------------+----------+ | Debian GNU/Linux 12 | PASS | +-------------------------------+----------+ | Fedora Linux 40 | PASS | +-------------------------------+----------+ | Fedora Linux 41 | PASS | +-------------------------------+----------+ | Red Hat Enterprise Linux 9.5 | PASS | +-------------------------------+----------+ | openSUSE Leap 15.6 | PASS | +-------------------------------+----------+ | Ubuntu 22.04 | PASS | +-------------------------------+----------+ | Ubuntu 24.04 | PASS | +-------------------------------+----------+ | Red Hat Enterprise Linux 8.10 | PASS | +-------------------------------+----------+ CentOS Stream 10 Kernel: 5.15 Compiler: gcc gcc (GCC) 14.2.1 20250110 (Red Hat 14.2.1-8) CentOS Stream 9 Kernel: 5.15 Compiler: gcc gcc (GCC) 11.5.0 20240719 (Red Hat 11.5.0-7) Debian GNU/Linux 12 Kernel: 5.15 Compiler: gcc gcc (Debian 12.2.0-14+deb12u1) 12.2.0 Fedora Linux 40 Kernel: 5.15 Compiler: clang gcc (GCC) 14.2.1 20240912 (Red Hat 14.2.1-3) Fedora Linux 41 Kernel: 5.15 Compiler: clang gcc (GCC) 14.3.1 20250523 (Red Hat 14.3.1-1) Red Hat Enterprise Linux 9.5 Kernel: 5.15 Compiler: gcc gcc (GCC) 11.5.0 20240719 (Red Hat 11.5.0-2) openSUSE Leap 15.6 Kernel: 5.15 Compiler: gcc gcc (SUSE Linux) 7.5.0 Ubuntu 22.04 Kernel: 5.15 Compiler: gcc gcc (Ubuntu 11.4.0-1ubuntu1~22.04) 11.4.0 Ubuntu 24.04 Kernel: 5.15 Compiler: gcc gcc (Ubuntu 13.3.0-6ubuntu2~24.04) 13.3.0 Red Hat Enterprise Linux 8.10 Kernel: 5.15 Compiler: gcc gcc (GCC) 8.5.0 20210514 (Red Hat 8.5.0-22) To view detailed results, visit: https://lab.dpdk.org/results/dashboard/patchsets/33602/ UNH-IOL DPDK Community Lab To manage your email subscriptions, visit: https://lab.dpdk.org/results/dashboard/preferences/subscriptions/