From mboxrd@z Thu Jan 1 00:00:00 1970 Return-Path: Received: from mails.dpdk.org (mails.dpdk.org [217.70.189.124]) by inbox.dpdk.org (Postfix) with ESMTP id 3D89C46B1F for ; Mon, 7 Jul 2025 12:48:04 +0200 (CEST) Received: from mails.dpdk.org (localhost [127.0.0.1]) by mails.dpdk.org (Postfix) with ESMTP id 32CD34025D; Mon, 7 Jul 2025 12:48:04 +0200 (CEST) Received: from mail-pj1-f99.google.com (mail-pj1-f99.google.com [209.85.216.99]) by mails.dpdk.org (Postfix) with ESMTP id 75A4B4025D for ; Mon, 7 Jul 2025 12:48:03 +0200 (CEST) Received: by mail-pj1-f99.google.com with SMTP id 98e67ed59e1d1-311e2cc157bso2357662a91.2 for ; Mon, 07 Jul 2025 03:48:03 -0700 (PDT) DKIM-Signature: v=1; a=rsa-sha256; c=relaxed/relaxed; d=iol.unh.edu; s=unh-iol; t=1751885282; x=1752490082; darn=dpdk.org; h=references:in-reply-to:cc:to:from:subject:message-id:date:from:to :cc:subject:date:message-id:reply-to; bh=7QXO5fFed2rrfmUd0T0q5lsP6SP21G0PxhKsZmuL5pY=; b=NC4CwYNt8vpPIYlojuJg1hQDdokG9qpQWmR3DLxHt7OM3qAr0AqzXLdmqogW7AqIlz FUEoaaehl23S9gGsxCtXCdk6YPeROLnppZPHECCrDVygeTnLlmCK/5hlveE34l1+bRFW IpVpcBfJDDiqy4M/G8S5kor/xGYIjgS6sKC9g= X-Google-DKIM-Signature: v=1; a=rsa-sha256; c=relaxed/relaxed; d=1e100.net; s=20230601; t=1751885282; x=1752490082; h=references:in-reply-to:cc:to:from:subject:message-id:date :x-gm-message-state:from:to:cc:subject:date:message-id:reply-to; bh=7QXO5fFed2rrfmUd0T0q5lsP6SP21G0PxhKsZmuL5pY=; b=MJmWDZxqKVK/CbpPK14WFASmdEd/fp5ThPRKUfcHfqEU7ThOEDMSiS3WHig8lRRpgt KDkv4IwSDqCGfqV5Gp3uBjwl885TG6V3ixvsiTNU/AT50ePF1bRsjGvb89LCvFilWcQc 4FKJCSRpy81buuBIrxYS/pwxrE8OUBNI9nyVBQF8JsgpxDKncihaH27+sk3bLO2YLuhn SrHbsG92MvVLxjxNruOUaSJp4TnWSfxRoqj8s/BI2Z4zbD2s/bfju4nsa51UTWUu//tp ebpG7PjG4ong/4zD4pDFs0usltf2bhvplwB3ostSMb5aqAIPZTR8hNEvZBlaVV8SdvYh LFtg== X-Gm-Message-State: AOJu0YxKxtpTP6zOb2pRYvu42sjcCyo2RBvoOMMFKhR7meL1GiQ5CtVs 6lQaMyUgZnTWn4MbvFYfNRFKl8/plSlhY3FOdo2CHkqg3Z6m+C0P4gs26XDCsRKffSHa4fCO+46 PE0jRJ2Bb9g4YHJ8dhfCieMt778OyKimVtAEtVxZuDLuXnZYiK02O6R3FJeCO X-Gm-Gg: ASbGncvv71KRwm6IKSYsI+H3lQ72tRCr45GO76uTogDpZTdaiFHpwUcOAGWO5z1USEG oqhlCMihtbeDwnCXz3Qp76PhGN1Iy0LqvtxZ2+7w5t1HiIntRIQwF89cX9/yGjZJafjIZXPkMrK v4dFC1g5/vIWZhMTi9Bs0Lqn/gi8KegAbwjeXn5g7xj2Z77DA9Khs1sTh0dQicmarMqgGmhn8tS GCrrNYVwD3yiaImup3oEObp18sHOxR5uaxPR9BcBIAFEI4eswI7iy/Mm/q0pkCFnoqCllWLz8tN 8uM+i4K6IvDLTw2FLXpY94YoMAvxSz4XENdYtxi9gO0JiHs= X-Google-Smtp-Source: AGHT+IGyznep5iieYo6/bXHxiYPAxqVBR7asf8QY8AsJl/iz3LERA1RCBeKItrh7G35Rp04yc94ZpwuCMRdv X-Received: by 2002:a17:90b:280d:b0:311:ea13:2e6a with SMTP id 98e67ed59e1d1-31aba84b6bdmr11873246a91.13.1751885282574; Mon, 07 Jul 2025 03:48:02 -0700 (PDT) Received: from postal.iol.unh.edu (postal.iol.unh.edu. [2606:4100:3880:1234::84]) by smtp-relay.gmail.com with ESMTPS id d9443c01a7336-23c844e6ebesm3589035ad.75.2025.07.07.03.48.02 (version=TLS1_2 cipher=ECDHE-ECDSA-AES128-GCM-SHA256 bits=128/128); Mon, 07 Jul 2025 03:48:02 -0700 (PDT) X-Relaying-Domain: iol.unh.edu Date: Mon, 07 Jul 2025 03:48:02 -0700 (PDT) Message-ID: <686ba5e2.170a0220.262e81.1d05SMTPIN_ADDED_MISSING@mx.google.com> Received: from [172.21.0.6] (unknown [172.18.0.240]) by postal.iol.unh.edu (Postfix) with ESMTP id C494C6051830; Mon, 7 Jul 2025 06:48:01 -0400 (EDT) Subject: |SUCCESS| pw155027 [PATCH] [v2] mbuf: add new ptype for slow protoco From: dpdklab@iol.unh.edu To: Test Report Cc: dpdk-test-reports@iol.unh.edu In-Reply-To: <20250707075100.15034-1-kuka@cesnet.cz> References: <20250707075100.15034-1-kuka@cesnet.cz> Content-Type: text/plain X-BeenThere: test-report@dpdk.org X-Mailman-Version: 2.1.29 Precedence: list List-Id: automatic DPDK test reports List-Unsubscribe: , List-Archive: List-Post: List-Help: List-Subscribe: , Errors-To: test-report-bounces@dpdk.org Test-Label: iol-abi-testing Test-Status: SUCCESS http://dpdk.org/patch/155027 _Testing PASS_ Submitter: Mario Kuka Date: Monday, July 07 2025 07:51:00 DPDK git baseline: Repo:dpdk Branch: master CommitID:70c2297528e7c7789af452f78de1932e9a20c8a2 155027 --> testing pass Upstream job id: Generic-DPDK-Compile-ABI#133361 Test environment and result as below: +-------------------------------+----------+ | Environment | abi_test | +===============================+==========+ | CentOS Stream 10 | PASS | +-------------------------------+----------+ | CentOS Stream 9 | PASS | +-------------------------------+----------+ | Debian GNU/Linux 12 | PASS | +-------------------------------+----------+ | Fedora Linux 40 | PASS | +-------------------------------+----------+ | Fedora Linux 41 | PASS | +-------------------------------+----------+ | Red Hat Enterprise Linux 9.5 | PASS | +-------------------------------+----------+ | openSUSE Leap 15.6 | PASS | +-------------------------------+----------+ | Ubuntu 22.04 | PASS | +-------------------------------+----------+ | Ubuntu 24.04 | PASS | +-------------------------------+----------+ | Red Hat Enterprise Linux 8.10 | PASS | +-------------------------------+----------+ CentOS Stream 10 Kernel: 5.15 Compiler: gcc gcc (GCC) 14.2.1 20250110 (Red Hat 14.2.1-8) CentOS Stream 9 Kernel: 5.15 Compiler: gcc gcc (GCC) 11.5.0 20240719 (Red Hat 11.5.0-7) Debian GNU/Linux 12 Kernel: 5.15 Compiler: gcc gcc (Debian 12.2.0-14+deb12u1) 12.2.0 Fedora Linux 40 Kernel: 5.15 Compiler: clang gcc (GCC) 14.2.1 20240912 (Red Hat 14.2.1-3) Fedora Linux 41 Kernel: 5.15 Compiler: clang gcc (GCC) 14.3.1 20250523 (Red Hat 14.3.1-1) Red Hat Enterprise Linux 9.5 Kernel: 5.15 Compiler: gcc gcc (GCC) 11.5.0 20240719 (Red Hat 11.5.0-2) openSUSE Leap 15.6 Kernel: 5.15 Compiler: gcc gcc (SUSE Linux) 7.5.0 Ubuntu 22.04 Kernel: 5.15 Compiler: gcc gcc (Ubuntu 11.4.0-1ubuntu1~22.04) 11.4.0 Ubuntu 24.04 Kernel: 5.15 Compiler: gcc gcc (Ubuntu 13.3.0-6ubuntu2~24.04) 13.3.0 Red Hat Enterprise Linux 8.10 Kernel: 5.15 Compiler: gcc gcc (GCC) 8.5.0 20210514 (Red Hat 8.5.0-22) To view detailed results, visit: https://lab.dpdk.org/results/dashboard/patchsets/33602/ UNH-IOL DPDK Community Lab To manage your email subscriptions, visit: https://lab.dpdk.org/results/dashboard/preferences/subscriptions/