From mboxrd@z Thu Jan 1 00:00:00 1970 Return-Path: Received: from mails.dpdk.org (mails.dpdk.org [217.70.189.124]) by inbox.dpdk.org (Postfix) with ESMTP id 5051346B1F for ; Mon, 7 Jul 2025 12:48:21 +0200 (CEST) Received: from mails.dpdk.org (localhost [127.0.0.1]) by mails.dpdk.org (Postfix) with ESMTP id 490624025D; Mon, 7 Jul 2025 12:48:21 +0200 (CEST) Received: from mail-il1-f225.google.com (mail-il1-f225.google.com [209.85.166.225]) by mails.dpdk.org (Postfix) with ESMTP id 116B34025D for ; Mon, 7 Jul 2025 12:48:20 +0200 (CEST) Received: by mail-il1-f225.google.com with SMTP id e9e14a558f8ab-3ddda0a8ba2so30548125ab.0 for ; Mon, 07 Jul 2025 03:48:20 -0700 (PDT) DKIM-Signature: v=1; a=rsa-sha256; c=relaxed/relaxed; d=iol.unh.edu; s=unh-iol; t=1751885299; x=1752490099; darn=dpdk.org; h=references:in-reply-to:cc:to:from:subject:message-id:date:from:to :cc:subject:date:message-id:reply-to; bh=OQtBPHqGhOtwQUpBnLrIcGpnOQpT+IxYDb2/hAN9N1k=; b=gq0GYljS9EpuKDMxlCue6XsJWNrsXQSPwXJq26bkFpwd/22asEEy58roQ+EgBIvjqJ xgXuyNty4eQiKvb2m5fKAATZreLpiFB21Tzih7Uia8m5J7Rk6Lcw1KHQHZthUnfchnbH mih+K6ifNJFZrKcmJskC61RP/nY6ZQ62U0c0o= X-Google-DKIM-Signature: v=1; a=rsa-sha256; c=relaxed/relaxed; d=1e100.net; s=20230601; t=1751885299; x=1752490099; h=references:in-reply-to:cc:to:from:subject:message-id:date :x-gm-message-state:from:to:cc:subject:date:message-id:reply-to; bh=OQtBPHqGhOtwQUpBnLrIcGpnOQpT+IxYDb2/hAN9N1k=; b=oGzcswjts9n/KSt0osgSLnSM/+B5+BUc8JeTokve2bnOG+2yGjDdWi0hlTUAN48ayN G/+gyDBNdDps+3Lkp6uAQnPqPrhPkm0cJxwLKYHIMjyXm7REGCIbXzCPETG5/WStXY03 1joXz4wxId2XxFphVSd1cPtv4AhZCHeGP/8Ej14ys/U0pwTjRmCddcbHwN2PYwgqqeeB 9zlTCmV2p9fa3CkWwbzxw2N/JTQBY79YqcyUPWeBqYxv9qLKwU0gEOC0jZeUuDGSXbhq fAG4n6pFOzH/PojmBpbD2Q7i0Y+vhcqR9daNYrt+gjNln3JZc1Zntv/56NIwohTWiat8 qLwA== X-Gm-Message-State: AOJu0YxDFkcd3INxgpRUL49hrYZjDn1WpGwXgyvx9m5eSf0rq9/LauXF ckhD+lzzW2uFkSzvEe3821ctd8G291RdgjNoJLrCmTNmAH+NeSQe9Sv3iDmX+EjVwaFeh7Mogu+ 6csqcipGFUySNEn5f3NMJCig/B14fnxgfcnCHngHY9hH5ffdpAcjdfI3xh5OB X-Gm-Gg: ASbGnctorAdgvgJK1tCK72FU15T7SNgUtrlaB2THWjSUR00FejKAiJMWbM9mACjEDDu RMPdxQ1aiNMAfwt99JbbClNoXERtfheSM75I65hWPIFCwDJkxRgOKRKlKh6TM/FAZWbvlZn+45L EYWFSx195FLGglKsSkLo68sP7UwhD19OKATfjmdcD7HudopJKKeXKDQclGDf3rl+LC/dPpYyGDH kvLNug9zBV4TBozK4BF5toBnehgsfSINOc75qe8R4ADfkQRgO8tl0qSwLL41+wttANy59dAd+mS UA1bOIdmRE16ArTFMmkIRVTq9usMyG9gVsdhgvMh8P19z3o= X-Google-Smtp-Source: AGHT+IHWknvWq84OPv5I+KHI1ro2rLEWfI9036bZnedhAJJqkk1xbB1awi2K57nT2NTxznkB8xw/qvKWipjs X-Received: by 2002:a05:6e02:1d86:b0:3dd:ce9b:aa17 with SMTP id e9e14a558f8ab-3e13ef14a35mr78252405ab.20.1751885299353; Mon, 07 Jul 2025 03:48:19 -0700 (PDT) Received: from postal.iol.unh.edu (postal.iol.unh.edu. [2606:4100:3880:1234::84]) by smtp-relay.gmail.com with ESMTPS id e9e14a558f8ab-3e0fe2211eesm4912535ab.55.2025.07.07.03.48.19 (version=TLS1_2 cipher=ECDHE-ECDSA-AES128-GCM-SHA256 bits=128/128); Mon, 07 Jul 2025 03:48:19 -0700 (PDT) X-Relaying-Domain: iol.unh.edu Date: Mon, 07 Jul 2025 03:48:19 -0700 (PDT) Message-ID: <686ba5f3.050a0220.22cf62.8f0bSMTPIN_ADDED_MISSING@mx.google.com> Received: from [172.21.0.8] (unknown [172.18.0.240]) by postal.iol.unh.edu (Postfix) with ESMTP id 050986051830; Mon, 7 Jul 2025 06:48:19 -0400 (EDT) Subject: |SUCCESS| pw155027 [PATCH] [v2] mbuf: add new ptype for slow protoco From: dpdklab@iol.unh.edu To: Test Report Cc: dpdk-test-reports@iol.unh.edu In-Reply-To: <20250707075100.15034-1-kuka@cesnet.cz> References: <20250707075100.15034-1-kuka@cesnet.cz> Content-Type: text/plain X-BeenThere: test-report@dpdk.org X-Mailman-Version: 2.1.29 Precedence: list List-Id: automatic DPDK test reports List-Unsubscribe: , List-Archive: List-Post: List-Help: List-Subscribe: , Errors-To: test-report-bounces@dpdk.org Test-Label: iol-abi-testing Test-Status: SUCCESS http://dpdk.org/patch/155027 _Testing PASS_ Submitter: Mario Kuka Date: Monday, July 07 2025 07:51:00 DPDK git baseline: Repo:dpdk Branch: master CommitID:70c2297528e7c7789af452f78de1932e9a20c8a2 155027 --> testing pass Upstream job id: Generic-DPDK-Compile-ABI#133368 Test environment and result as below: +-------------------------------+----------+ | Environment | abi_test | +===============================+==========+ | CentOS Stream 10 | PASS | +-------------------------------+----------+ | CentOS Stream 9 | PASS | +-------------------------------+----------+ | Debian GNU/Linux 12 | PASS | +-------------------------------+----------+ | Fedora Linux 40 | PASS | +-------------------------------+----------+ | Fedora Linux 41 | PASS | +-------------------------------+----------+ | Red Hat Enterprise Linux 9.5 | PASS | +-------------------------------+----------+ | openSUSE Leap 15.6 | PASS | +-------------------------------+----------+ | Ubuntu 22.04 | PASS | +-------------------------------+----------+ | Ubuntu 24.04 | PASS | +-------------------------------+----------+ | Red Hat Enterprise Linux 8.10 | PASS | +-------------------------------+----------+ CentOS Stream 10 Kernel: 5.15 Compiler: gcc gcc (GCC) 14.2.1 20250110 (Red Hat 14.2.1-8) CentOS Stream 9 Kernel: 5.15 Compiler: gcc gcc (GCC) 11.5.0 20240719 (Red Hat 11.5.0-7) Debian GNU/Linux 12 Kernel: 5.15 Compiler: gcc gcc (Debian 12.2.0-14+deb12u1) 12.2.0 Fedora Linux 40 Kernel: 5.15 Compiler: clang gcc (GCC) 14.2.1 20240912 (Red Hat 14.2.1-3) Fedora Linux 41 Kernel: 5.15 Compiler: clang gcc (GCC) 14.3.1 20250523 (Red Hat 14.3.1-1) Red Hat Enterprise Linux 9.5 Kernel: 5.15 Compiler: gcc gcc (GCC) 11.5.0 20240719 (Red Hat 11.5.0-2) openSUSE Leap 15.6 Kernel: 5.15 Compiler: gcc gcc (SUSE Linux) 7.5.0 Ubuntu 22.04 Kernel: 5.15 Compiler: gcc gcc (Ubuntu 11.4.0-1ubuntu1~22.04) 11.4.0 Ubuntu 24.04 Kernel: 5.15 Compiler: gcc gcc (Ubuntu 13.3.0-6ubuntu2~24.04) 13.3.0 Red Hat Enterprise Linux 8.10 Kernel: 5.15 Compiler: gcc gcc (GCC) 8.5.0 20210514 (Red Hat 8.5.0-22) To view detailed results, visit: https://lab.dpdk.org/results/dashboard/patchsets/33602/ UNH-IOL DPDK Community Lab To manage your email subscriptions, visit: https://lab.dpdk.org/results/dashboard/preferences/subscriptions/