From mboxrd@z Thu Jan 1 00:00:00 1970 Return-Path: Received: from mails.dpdk.org (mails.dpdk.org [217.70.189.124]) by inbox.dpdk.org (Postfix) with ESMTP id 6F93F46B1F for ; Mon, 7 Jul 2025 12:49:14 +0200 (CEST) Received: from mails.dpdk.org (localhost [127.0.0.1]) by mails.dpdk.org (Postfix) with ESMTP id 6689A4025D; Mon, 7 Jul 2025 12:49:14 +0200 (CEST) Received: from mail-pf1-f225.google.com (mail-pf1-f225.google.com [209.85.210.225]) by mails.dpdk.org (Postfix) with ESMTP id B4EB84025D for ; Mon, 7 Jul 2025 12:49:12 +0200 (CEST) Received: by mail-pf1-f225.google.com with SMTP id d2e1a72fcca58-7490acf57b9so2013331b3a.2 for ; Mon, 07 Jul 2025 03:49:12 -0700 (PDT) DKIM-Signature: v=1; a=rsa-sha256; c=relaxed/relaxed; d=iol.unh.edu; s=unh-iol; t=1751885352; x=1752490152; darn=dpdk.org; h=references:in-reply-to:cc:to:from:subject:message-id:date:from:to :cc:subject:date:message-id:reply-to; bh=kaETPAnhmajQMioYMYzkk+hpw+j4PhJh1Cidi0dI6Ow=; b=DSPJb94z/lXCAJnEerr8B1E8YOcTH6LsuSRT57tfPuv+Psd1LjAvOHkgVFWNssrhZ5 qromAWJ/rlSRiR7llX2bDgjtATizOKSjz5IfKj7AX13qv7skIGWKvMmsKUHdsyAvqZ1z EVkncBr/Rzl7VnkpCbw+6fs5rYYu+isKGkZX4= X-Google-DKIM-Signature: v=1; a=rsa-sha256; c=relaxed/relaxed; d=1e100.net; s=20230601; t=1751885352; x=1752490152; h=references:in-reply-to:cc:to:from:subject:message-id:date :x-gm-message-state:from:to:cc:subject:date:message-id:reply-to; bh=kaETPAnhmajQMioYMYzkk+hpw+j4PhJh1Cidi0dI6Ow=; b=HzZZrKNtOANfUH2RB2V8FCv3AlhHAVa/dJc0y/GpcHJ/jG9Yqvy5vMJ7BeorZopLk1 pvAWysabYrAR+/zHU/TNdI/v9V87asyhEFNkv27krJQ8IdBm1eQOEsHLGwD+0ewvGpwb 0whCCr3CfH7nhQOnefFPpUt2Gmh2Gv+yAzzOjPwM+kfG+erNBVqBTjAa49x0bKQFHe7x VDFU+QfpES+LTpHQnNfZrJkXjny+He3Hrf4mcI7aBeYGsCGCvGLHmsh25CU+Y/anSX3/ 9KqwbIXkp4WCvyW5sswXMZb8zpu+KsajwUv+PlcQUyaCPs8l1rzOT+ehjAno+iwD/txD v/Ug== X-Gm-Message-State: AOJu0YwOmXPZ8GLMVZR5dRWuKe1zt9mjnJmi8eK0cvfc94X0rEK/s0Uo 3WuPUnFWflMpotiySv/xmWrduKKxviswP45Vkt4RCfJRvTVpa5EzdS5094BVy+zNCFbzt4iUgYb /vS8p8g3uNYFaOYcolHSC2MJk6sf6AQktr8GZ/fVFliKY0thhkROGe8faS4v8 X-Gm-Gg: ASbGncsRs/xAtpXCBLvL/Cnz8pBuiKjMpl5diTijYYvc+nOvHXAAoTq+7KWHnxJxTUo DX7WqsKQD8QM6mQS8DI2aTqonobTSQ1acIl8kNlxTjzCnJQddBBdKI93WXQYcYAZBPi4SslRSFo pSKNxzIg/8QNWuA8A/Kb4PNSxdabub6CCdYHlIKlJTOSh57Ha4n0H4Ad9LbOznDvyoh3fbRUjY+ ZroQ7p3/QDhJWu1S0SGPI5e/FYF1vcY9PBcLUBvk1wjoRMjoga7VKWP7JCO+D4wwPaaaITOgMcq 7M+hIogTwZWS09Bj9XdFy9RPsoFsY3YfDl7hAL4LMc51nMs= X-Google-Smtp-Source: AGHT+IGYgkkpLBVy4DRnxHIic0HaarnINrquWu0RVcM+s0BWCgCb19UK7ESsVb8Z4x9fFMHNa7nwY3+6Xzp9 X-Received: by 2002:a05:6a20:6a0e:b0:21a:bfb6:1c74 with SMTP id adf61e73a8af0-225b9b7a787mr22713888637.34.1751885351824; Mon, 07 Jul 2025 03:49:11 -0700 (PDT) Received: from postal.iol.unh.edu (postal.iol.unh.edu. [2606:4100:3880:1234::84]) by smtp-relay.gmail.com with ESMTPS id 41be03b00d2f7-b38ee4e6c7bsm231065a12.21.2025.07.07.03.49.11 (version=TLS1_2 cipher=ECDHE-ECDSA-AES128-GCM-SHA256 bits=128/128); Mon, 07 Jul 2025 03:49:11 -0700 (PDT) X-Relaying-Domain: iol.unh.edu Date: Mon, 07 Jul 2025 03:49:11 -0700 (PDT) Message-ID: <686ba627.050a0220.147a18.b57cSMTPIN_ADDED_MISSING@mx.google.com> Received: from [172.21.0.5] (unknown [172.18.0.240]) by postal.iol.unh.edu (Postfix) with ESMTP id 06F636051830; Mon, 7 Jul 2025 06:49:11 -0400 (EDT) Subject: |SUCCESS| pw155027 [PATCH] [v2] mbuf: add new ptype for slow protoco From: dpdklab@iol.unh.edu To: Test Report Cc: dpdk-test-reports@iol.unh.edu In-Reply-To: <20250707075100.15034-1-kuka@cesnet.cz> References: <20250707075100.15034-1-kuka@cesnet.cz> Content-Type: text/plain X-BeenThere: test-report@dpdk.org X-Mailman-Version: 2.1.29 Precedence: list List-Id: automatic DPDK test reports List-Unsubscribe: , List-Archive: List-Post: List-Help: List-Subscribe: , Errors-To: test-report-bounces@dpdk.org Test-Label: iol-abi-testing Test-Status: SUCCESS http://dpdk.org/patch/155027 _Testing PASS_ Submitter: Mario Kuka Date: Monday, July 07 2025 07:51:00 DPDK git baseline: Repo:dpdk Branch: master CommitID:70c2297528e7c7789af452f78de1932e9a20c8a2 155027 --> testing pass Upstream job id: Generic-DPDK-Compile-ABI#133363 Test environment and result as below: +-------------------------------+----------+ | Environment | abi_test | +===============================+==========+ | CentOS Stream 10 | PASS | +-------------------------------+----------+ | CentOS Stream 9 | PASS | +-------------------------------+----------+ | Debian GNU/Linux 12 | PASS | +-------------------------------+----------+ | Fedora Linux 40 | PASS | +-------------------------------+----------+ | Fedora Linux 41 | PASS | +-------------------------------+----------+ | Red Hat Enterprise Linux 9.5 | PASS | +-------------------------------+----------+ | openSUSE Leap 15.6 | PASS | +-------------------------------+----------+ | Ubuntu 22.04 | PASS | +-------------------------------+----------+ | Ubuntu 24.04 | PASS | +-------------------------------+----------+ | Red Hat Enterprise Linux 8.10 | PASS | +-------------------------------+----------+ CentOS Stream 10 Kernel: 5.15 Compiler: gcc gcc (GCC) 14.2.1 20250110 (Red Hat 14.2.1-8) CentOS Stream 9 Kernel: 5.15 Compiler: gcc gcc (GCC) 11.5.0 20240719 (Red Hat 11.5.0-7) Debian GNU/Linux 12 Kernel: 5.15 Compiler: gcc gcc (Debian 12.2.0-14+deb12u1) 12.2.0 Fedora Linux 40 Kernel: 5.15 Compiler: clang gcc (GCC) 14.2.1 20240912 (Red Hat 14.2.1-3) Fedora Linux 41 Kernel: 5.15 Compiler: clang gcc (GCC) 14.3.1 20250523 (Red Hat 14.3.1-1) Red Hat Enterprise Linux 9.5 Kernel: 5.15 Compiler: gcc gcc (GCC) 11.5.0 20240719 (Red Hat 11.5.0-2) openSUSE Leap 15.6 Kernel: 5.15 Compiler: gcc gcc (SUSE Linux) 7.5.0 Ubuntu 22.04 Kernel: 5.15 Compiler: gcc gcc (Ubuntu 11.4.0-1ubuntu1~22.04) 11.4.0 Ubuntu 24.04 Kernel: 5.15 Compiler: gcc gcc (Ubuntu 13.3.0-6ubuntu2~24.04) 13.3.0 Red Hat Enterprise Linux 8.10 Kernel: 5.15 Compiler: gcc gcc (GCC) 8.5.0 20210514 (Red Hat 8.5.0-22) To view detailed results, visit: https://lab.dpdk.org/results/dashboard/patchsets/33602/ UNH-IOL DPDK Community Lab To manage your email subscriptions, visit: https://lab.dpdk.org/results/dashboard/preferences/subscriptions/