From mboxrd@z Thu Jan 1 00:00:00 1970 Return-Path: Received: from mails.dpdk.org (mails.dpdk.org [217.70.189.124]) by inbox.dpdk.org (Postfix) with ESMTP id 83D8146B1F for ; Mon, 7 Jul 2025 12:49:35 +0200 (CEST) Received: from mails.dpdk.org (localhost [127.0.0.1]) by mails.dpdk.org (Postfix) with ESMTP id 7A4B44025D; Mon, 7 Jul 2025 12:49:35 +0200 (CEST) Received: from mail-pg1-f228.google.com (mail-pg1-f228.google.com [209.85.215.228]) by mails.dpdk.org (Postfix) with ESMTP id 998924025D for ; Mon, 7 Jul 2025 12:49:34 +0200 (CEST) Received: by mail-pg1-f228.google.com with SMTP id 41be03b00d2f7-b31e0ead80eso2060819a12.0 for ; Mon, 07 Jul 2025 03:49:34 -0700 (PDT) DKIM-Signature: v=1; a=rsa-sha256; c=relaxed/relaxed; d=iol.unh.edu; s=unh-iol; t=1751885374; x=1752490174; darn=dpdk.org; h=references:in-reply-to:cc:to:from:subject:message-id:date:from:to :cc:subject:date:message-id:reply-to; bh=qk9DNuIPkz3xvamusQgLjXnMGRnZaYWoGDn5qyJbqEs=; b=WrhyOch/I1q/pyTzBEXjrWQY7wp6C/JK2vk9skfu3I6w3B1TQBvKjBgwXa1uWLN9ja qa/n4xZuSJP5kY2Ko6cb5ok80yHyeZPLV+u/6em9GobT7N+Cv1uhG5m7eHG3qEVjR88i 4E+fiunx9F+F7mhJvRL1glrJHnIBTctw61XlU= X-Google-DKIM-Signature: v=1; a=rsa-sha256; c=relaxed/relaxed; d=1e100.net; s=20230601; t=1751885374; x=1752490174; h=references:in-reply-to:cc:to:from:subject:message-id:date :x-gm-message-state:from:to:cc:subject:date:message-id:reply-to; bh=qk9DNuIPkz3xvamusQgLjXnMGRnZaYWoGDn5qyJbqEs=; b=pZh2/3UdHGJx5efEUC1aFftckcBi+YcZqr9XV51y2UfSDIkc3EuEQxQy9+JdnSpClW QKZPY/rUL3P08/pUuXcAMol/DKkMpfA4LU2igxr6WOcTGensKpxfA5P03oemDeInYG1l KkFn9yuJshyNqs01b7PBgKTfE1Y5Gm325+kAYCS8qfJWB/YMcns+OmVoRL2d8MWYMgsk yVuoGVVKN7zZKeOEsd4ZAnoCrwYjwtRwj4bmX/TmkgsauuSgwXhEmy65F/allasbxhCK zweAIa+sWpYU0Zv6syINZEURxkz03LUx9ZQlU+R1SwiCwuTbg8fxzCVYwO9ijbZFi/Rd dUOw== X-Gm-Message-State: AOJu0YyzxtRwQH1y/i1vBCbzNLAao1XIXGRW+++xsrklDEzDNgyU/dKk PIjJamWm9DIwMPEQO3r1JmDyrZBcH/m0tSpLEh4rtxfEdzgKK/Vz9ncFwJvcfLekcYiCJIaVw+s FKuU/hQkIupG4CnH3iJvoEKOUvl1iwNcEP6raJHQxjzCPxz7nxr0f2q+M5dP5 X-Gm-Gg: ASbGncs2c6ZhH4pOQL4uFAthpvkM1Vqlk9KkV6OFwOKJtolaQ/faz6azVY/sf5k75Se P5V4YeSHwz2gjxlPEth/mth84eRLKJD2oa/H97EDaifubA9eWDe7M8qvPjwjFWAYnjGB3632G54 WUXp8+unTnxitKdtSTUal/wc/cQqp23w/18bXSD6UKXCpO8lgEGEkSR+xpsLAVpTIwBRino/OmU gTtFZ909+dHKfOgmxzbfH8xsN84p8N3+F+MwIXPIB/QRWCiXLaolkkulHdTBxDGs1/Pv2O3VVAV lZau6GS621R9zlck1YoFGqyHu7/qc6x3YqotjGoNtpksRoQ= X-Google-Smtp-Source: AGHT+IEuIXRkTPze4hoUEDlneVFI+9MfFOPIXUHrcdK8qQ09H/JafjNF3Dhgwr3GjrpEzINyACUsZwPSyhcm X-Received: by 2002:a17:90b:274c:b0:31c:15d9:8ae with SMTP id 98e67ed59e1d1-31c15d9099amr3088717a91.33.1751885373681; Mon, 07 Jul 2025 03:49:33 -0700 (PDT) Received: from postal.iol.unh.edu (postal.iol.unh.edu. [2606:4100:3880:1234::84]) by smtp-relay.gmail.com with ESMTPS id 98e67ed59e1d1-31aaaf4ceb1sm535093a91.9.2025.07.07.03.49.33 (version=TLS1_2 cipher=ECDHE-ECDSA-AES128-GCM-SHA256 bits=128/128); Mon, 07 Jul 2025 03:49:33 -0700 (PDT) X-Relaying-Domain: iol.unh.edu Date: Mon, 07 Jul 2025 03:49:33 -0700 (PDT) Message-ID: <686ba63d.170a0220.248e2b.b4a3SMTPIN_ADDED_MISSING@mx.google.com> Received: from [172.21.0.7] (unknown [172.18.0.240]) by postal.iol.unh.edu (Postfix) with ESMTP id CF49D6051830; Mon, 7 Jul 2025 06:49:32 -0400 (EDT) Subject: |WARNING| pw155021-155026 [PATCH] [v1,6/6] net/zxdh: add support I51 From: dpdklab@iol.unh.edu To: Test Report Cc: dpdk-test-reports@iol.unh.edu In-Reply-To: <20250707055621.357606-6-wang.junlong1@zte.com.cn> References: <20250707055621.357606-6-wang.junlong1@zte.com.cn> Content-Type: text/plain X-BeenThere: test-report@dpdk.org X-Mailman-Version: 2.1.29 Precedence: list List-Id: automatic DPDK test reports List-Unsubscribe: , List-Archive: List-Post: List-Help: List-Subscribe: , Errors-To: test-report-bounces@dpdk.org Test-Label: iol-compile-amd64-testing Test-Status: WARNING http://dpdk.org/patch/155026 _Testing issues_ Submitter: Junlong Wang Date: Monday, July 07 2025 05:56:21 DPDK git baseline: Repo:dpdk Branch: master CommitID:a288c0dee9221fd2acf4f079ef1b1ff04135aedd 155021-155026 --> testing issues Upstream job id: Generic-DPDK-Compile-Meson#406153 Test environment and result as below: +-------------------------------+--------------------+-------------------------+-------------------+----------------------+-------------------+------------------+ | Environment | dpdk_meson_compile | dpdk_llvm_clang_compile | dpdk_msvc_compile | dpdk_mingw64_compile | dpdk_compile_spdk | dpdk_compile_ovs | +===============================+====================+=========================+===================+======================+===================+==================+ | Ubuntu 20.04 | PASS | SKIPPED | SKIPPED | SKIPPED | SKIPPED | SKIPPED | +-------------------------------+--------------------+-------------------------+-------------------+----------------------+-------------------+------------------+ | CentOS Stream 9 | PASS | SKIPPED | SKIPPED | SKIPPED | PASS | SKIPPED | +-------------------------------+--------------------+-------------------------+-------------------+----------------------+-------------------+------------------+ | CentOS Stream 10 | PASS | SKIPPED | SKIPPED | SKIPPED | SKIPPED | SKIPPED | +-------------------------------+--------------------+-------------------------+-------------------+----------------------+-------------------+------------------+ | Debian GNU/Linux 12 | PASS | SKIPPED | SKIPPED | SKIPPED | PASS | SKIPPED | +-------------------------------+--------------------+-------------------------+-------------------+----------------------+-------------------+------------------+ | Fedora Linux 40 | PASS | SKIPPED | SKIPPED | SKIPPED | PASS | SKIPPED | +-------------------------------+--------------------+-------------------------+-------------------+----------------------+-------------------+------------------+ | Fedora Linux 41 | PASS | SKIPPED | SKIPPED | SKIPPED | PASS | PASS | +-------------------------------+--------------------+-------------------------+-------------------+----------------------+-------------------+------------------+ | openSUSE Leap 15.6 | PASS | SKIPPED | SKIPPED | SKIPPED | SKIPPED | SKIPPED | +-------------------------------+--------------------+-------------------------+-------------------+----------------------+-------------------+------------------+ | Red Hat Enterprise Linux 8.10 | PASS | SKIPPED | SKIPPED | SKIPPED | SKIPPED | SKIPPED | +-------------------------------+--------------------+-------------------------+-------------------+----------------------+-------------------+------------------+ | Red Hat Enterprise Linux 9.5 | PASS | SKIPPED | SKIPPED | SKIPPED | SKIPPED | SKIPPED | +-------------------------------+--------------------+-------------------------+-------------------+----------------------+-------------------+------------------+ | Ubuntu 22.04 | PASS | SKIPPED | SKIPPED | SKIPPED | PASS | SKIPPED | +-------------------------------+--------------------+-------------------------+-------------------+----------------------+-------------------+------------------+ | Ubuntu 24.04 | PASS | SKIPPED | SKIPPED | SKIPPED | PASS | PASS | +-------------------------------+--------------------+-------------------------+-------------------+----------------------+-------------------+------------------+ | Alpine Linux 3.22.0 | PASS | SKIPPED | SKIPPED | SKIPPED | SKIPPED | SKIPPED | +-------------------------------+--------------------+-------------------------+-------------------+----------------------+-------------------+------------------+ | Windows Server 2022 | SKIPPED | PASS | PASS | PASS | SKIPPED | SKIPPED | +-------------------------------+--------------------+-------------------------+-------------------+----------------------+-------------------+------------------+ Ubuntu 20.04 Kernel: 4.19 Compiler: gcc gcc (Ubuntu 9.4.0-1ubuntu1~20.04.2) 9.4.0 CentOS Stream 9 Kernel: 5.15 Compiler: gcc gcc (GCC) 11.5.0 20240719 (Red Hat 11.5.0-7) CentOS Stream 10 Kernel: 5.15 Compiler: gcc gcc (GCC) 14.2.1 20250110 (Red Hat 14.2.1-8) Debian GNU/Linux 12 Kernel: 5.15 Compiler: gcc gcc (Debian 12.2.0-14+deb12u1) 12.2.0 Fedora Linux 40 Kernel: 5.15 Compiler: clang gcc (GCC) 14.2.1 20240912 (Red Hat 14.2.1-3) Fedora Linux 41 Kernel: 5.15 Compiler: clang gcc (GCC) 14.3.1 20250523 (Red Hat 14.3.1-1) openSUSE Leap 15.6 Kernel: 5.15 Compiler: gcc gcc (SUSE Linux) 7.5.0 Red Hat Enterprise Linux 8.10 Kernel: 5.15 Compiler: gcc gcc (GCC) 8.5.0 20210514 (Red Hat 8.5.0-22) Red Hat Enterprise Linux 9.5 Kernel: 5.15 Compiler: gcc gcc (GCC) 11.5.0 20240719 (Red Hat 11.5.0-2) Ubuntu 22.04 Kernel: 5.15 Compiler: gcc gcc (Ubuntu 11.4.0-1ubuntu1~22.04) 11.4.0 Ubuntu 24.04 Kernel: 5.15 Compiler: gcc gcc (Ubuntu 13.3.0-6ubuntu2~24.04) 13.3.0 Alpine Linux 3.22.0 Kernel: 5.15 Compiler: gcc gcc (Alpine 14.2.0) 14.2.0 Windows Server 2022 Kernel: 10.0.20348.2031 Compiler: clang 15.0.7, gcc 14.1.0 (MinGW), and MSVC VS 19.39.33521 To view detailed results, visit: https://lab.dpdk.org/results/dashboard/patchsets/33601/ UNH-IOL DPDK Community Lab To manage your email subscriptions, visit: https://lab.dpdk.org/results/dashboard/preferences/subscriptions/